- Раздел: Другое, разное
- Дата съёмки: 18.02.2013 11:17
- Дата загрузки фото: 18.02.2013 19:37
- Оригинальная фотография: 3752 x 2715 (1,5 Мб)
- Технические характеристики:
- Фотоаппарат: Olympus E-PL1
- Выдержка: 1/800
- Гиперфокальное расстояние: inf m
- Диафрагма: 6,3
- Светочувствительность: 100
- Фокусное расстояние: 47,0 mm (35 mm equivalent: 94,0 mm)
- Полный EXIF
- Adobe
- ColorTransform: YCbCr
- Composite
- Aperture: 6,3
- CircleOfConfusion: 0,015 mm
- DOF: inf (0,00 m - inf)
- FOV: 21,0 deg
- Flash: Auto, Did not fire
- FocalLength35efl: 47,0 mm (35 mm equivalent: 94,0 mm)
- HyperfocalDistance: inf m
- ScaleFactor35efl: 2,0
- ShutterSpeed: 1/800
- ExifIFD
- ApertureValue: 6,3
- CFAPattern: [Red,Green][Green,Blue]
- Contrast: Normal
- CreateDate: 2013:02:18 11:17:32
- CustomRendered: Normal
- DateTimeOriginal: 2013:02:18 11:17:32
- DigitalZoomRatio: 1
- ExposureCompensation: 0
- ExposureMode: Auto
- ExposureProgram: Aperture-priority AE
- ExposureTime: 1/800
- FNumber: 6,3
- FocalLength: 47,0 mm
- FocalLengthIn35mmFormat: 94 mm
- GainControl: None
- ISO: 100
- LensInfo: 14-150mm f/4-5.6
- LensModel: OLYMPUS M.14-150mm F4.0-5.6
- LensSerialNumber: AAK236810
- LightSource: Unknown
- MaxApertureValue: 4,0
- MeteringMode: Multi-segment
- Saturation: Normal
- SceneCaptureType: Standard
- SensitivityType: Unknown
- SerialNumber: B2S520218
- Sharpness: Normal
- ShutterSpeedValue: 1/800
- SubjectDistance: 4294967295 m
- WhiteBalance: Auto
- ICC-header
- IFD0
- ImageDescription: OLYMPUS DIGITAL CAMERA
- Make: OLYMPUS IMAGING CORP.
- Model: E-PL1
- ModifyDate: 2013:02:18 15:09:20
- Software: Version 1.1
- IFD1
- IPTC
- Caption-Abstract: OLYMPUS DIGITAL CAMERA
- System
- XMP-aux
- ApproximateFocusDistance: 4294967295
- FlashCompensation: 0
- Lens: OLYMPUS M.14-150mm F4.0-5.6
- XMP-crs
- AlreadyApplied: True
- BlueHue: 0
- BlueSaturation: 0
- Brightness: +40
- ChromaticAberrationB: 0
- ChromaticAberrationR: 0
- Clarity: 0
- ColorNoiseReduction: 25
- ColorNoiseReductionDetail: 50
- ColorTemperature: 5500
- Contrast: +38
- ConvertToGrayscale: False
- CropAngle: -0.725781
- CropBottom: 0.90769
- CropConstrainToWarp: 1
- CropLeft: 0.03475
- CropRight: 0.973776
- CropTop: 0.025751
- Defringe: 0
- Exposure: 0.00
- FillLight: 0
- GrainAmount: 0
- GreenHue: 0
- GreenSaturation: 0
- HasCrop: True
- HasSettings: True
- HighlightRecovery: 9
- HueAdjustmentAqua: 0
- HueAdjustmentBlue: 0
- HueAdjustmentGreen: 0
- HueAdjustmentMagenta: 0
- HueAdjustmentOrange: 0
- HueAdjustmentPurple: 0
- HueAdjustmentRed: 0
- HueAdjustmentYellow: 0
- LensManualDistortionAmount: 0
- LensProfileEnable: 0
- LensProfileSetup: LensDefaults
- LuminanceAdjustmentAqua: 0
- LuminanceAdjustmentBlue: 0
- LuminanceAdjustmentGreen: 0
- LuminanceAdjustmentMagenta: 0
- LuminanceAdjustmentOrange: 0
- LuminanceAdjustmentPurple: 0
- LuminanceAdjustmentRed: 0
- LuminanceAdjustmentYellow: 0
- LuminanceSmoothing: 0
- ParametricDarks: 0
- ParametricHighlightSplit: 75
- ParametricHighlights: 0
- ParametricLights: 0
- ParametricMidtoneSplit: 50
- ParametricShadowSplit: 25
- ParametricShadows: 0
- PerspectiveHorizontal: 0
- PerspectiveRotate: 0.0
- PerspectiveScale: 100
- PerspectiveVertical: 0
- PostCropVignetteAmount: 0
- ProcessVersion: 5.7
- RawFileName: P2180744.ORF
- RedHue: 0
- RedSaturation: 0
- Saturation: 0
- SaturationAdjustmentAqua: 0
- SaturationAdjustmentBlue: 0
- SaturationAdjustmentGreen: 0
- SaturationAdjustmentMagenta: 0
- SaturationAdjustmentOrange: 0
- SaturationAdjustmentPurple: 0
- SaturationAdjustmentRed: 0
- SaturationAdjustmentYellow: 0
- ShadowTint: 0
- Shadows: 9
- SharpenDetail: 25
- SharpenEdgeMasking: 0
- SharpenRadius: +1.0
- Sharpness: 25
- SplitToningBalance: 0
- SplitToningHighlightHue: 0
- SplitToningHighlightSaturation: 0
- SplitToningShadowHue: 0
- SplitToningShadowSaturation: 0
- Tint: +5
- ToneCurve: 0, 0, 32, 22, 64, 56, 128, 128, 192, 196, 255, 255
- ToneCurveName: Medium Contrast
- Version: 6.2
- Vibrance: 0
- VignetteAmount: 0
- WhiteBalance: As Shot
- XMP-dc
- Description: OLYMPUS DIGITAL CAMERA
- XMP-exif
- DateTimeDigitized: 2013:02:18 11:17:32+03:00
- DateTimeOriginal: 2013:02:18 11:17:32+03:00
- ExifImageHeight: 2715
- ExifImageWidth: 3752
- FlashFired: False
- FlashFunction: False
- FlashMode: Auto
- FlashRedEyeMode: False
- FlashReturn: No return detection
- XMP-tiff
- ImageHeight: 2715
- ImageWidth: 3752
- XMP-xmp
- CreateDate: 2013:02:18 11:17:32+03:00
- CreatorTool: Version 1.1
- ModifyDate: 2013:02:18 15:09:20+03:00
- Rating: 0
- Просмотров: 110
- Рейтинг: голосов еще нет
- Отзывов: отключены