- Раздел: Тесты фототехники
- Дата съёмки: 01.05.2012 10:47
- Дата загрузки фото: 23.02.2013 20:30
- Оригинальная фотография: 7374 x 4918 (10,9 Мб)
- Технические характеристики:
- Фотоаппарат: Nikon D800E
- Выдержка: 1/25
- Гиперфокальное расстояние: inf m
- Диафрагма: 8,0
- Светочувствительность: 100
- Фокусное расстояние: 70,0 mm (35 mm equivalent: 70,0 mm)
- Экспокоррекция: -1/3
- Полный EXIF
- Composite
- Aperture: 8,0
- AutoFocus: Off
- BlueBalance: 1,28125
- CircleOfConfusion: 0,030 mm
- DOF: inf (0,00 m - inf)
- FOV: 26,0 deg (0,00 m)
- Flash: Off, Did not fire
- FocalLength35efl: 70,0 mm (35 mm equivalent: 70,0 mm)
- HyperfocalDistance: inf m
- LensID: Sigma Macro 70mm F2.8 EX DG
- LensSpec: 70mm f/2.8 G
- RedBalance: 1,890625
- ScaleFactor35efl: 1,0
- ShutterSpeed: 1/25
- ExifIFD
- ApertureValue: 8,0
- Contrast: Normal
- CreateDate: 2012:05:01 10:47:09
- CustomRendered: Normal
- DateTimeOriginal: 2012:05:01 10:47:09
- DigitalZoomRatio: 1
- ExifImageHeight: 4918
- ExifImageWidth: 7374
- ExposureCompensation: -1/3
- ExposureMode: Manual
- ExposureProgram: Manual
- ExposureTime: 1/25
- FNumber: 8,0
- FocalLength: 70,0 mm
- FocalLengthIn35mmFormat: 70 mm
- GainControl: None
- ISO: 100
- ImageNumber: 179
- Lens: Sigma Macro 70mm F2.8 EX DG
- LensInfo: 70mm f/2.8
- LightSource: Unknown
- MaxApertureValue: 2,8
- MeteringMode: Multi-segment
- Saturation: Normal
- SceneCaptureType: Standard
- SceneType: Directly photographed
- SensingMethod: One-chip color area
- SerialNumber: 3000686
- Sharpness: Normal
- ShutterSpeedValue: 1/25
- SubjectDistance: 1,58 m
- SubjectDistanceRange: Unknown
- WhiteBalance: Manual
- ICC-header
- ICC-meas
- IFD0
- Artist:
- Copyright:
- Make: NIKON CORPORATION
- Model: NIKON D800E
- ModifyDate: 2012:05:01 10:47:09
- IPTC
- DateCreated: 2012:05:01
- Nikon
- AFAperture: 2,9
- AFAreaMode: Single Area
- AFFineTune: Off
- AFFineTuneAdj: 0
- AFFineTuneIndex: n/a
- AFInfo2Version: 0100
- AFPointsUsed: (none)
- ActiveD-Lighting: Off
- AutoDistortionControl: Off
- Brightness: Normal
- ColorSpace: sRGB
- ContrastDetectAF: Off
- ContrastDetectAFInFocus: No
- CropHiSpeed: Off (7424x4924 cropped to 7424x4924 at pixel 0,0)
- DateDisplayFormat: M/D/Y
- DaylightSavings: Yes
- EffectiveMaxAperture: 2,8
- ExitPupilPosition: 89,0 mm
- ExposureBracketValue: 0
- ExposureDifference: -1,0
- ExposureTuning: 0
- ExternalFlashExposureComp: 0
- ExternalFlashFirmware: n/a
- ExternalFlashFlags: (none)
- FileInfoVersion: 0100
- FileNumber: 0121
- FilterEffect: n/a
- FirmwareVersion: 1.00i
- FlashCommanderMode: Off
- FlashCompensation: 0
- FlashControlMode: Off
- FlashExposureBracketValue: 0,0
- FlashExposureComp: 0
- FlashInfoVersion: 0105
- FlashMode: Did Not Fire
- FlashSetting:
- FlashSource: None
- FlashType:
- FocalLength: 71,3 mm
- FocusDistance: 1,58 m
- FocusMode: Manual
- FocusPosition: 0x22
- HighISONoiseReduction: Normal
- HueAdjustment: None
- ISO2: 100
- ISOExpansion: Off
- ISOExpansion2: Off
- ISOSetting: 100
- Lens: 70mm f/2.8
- LensDataVersion: 0204
- LensFStops: 6,00
- LensIDNumber: 121
- LensType: G
- MCUVersion: 28
- MakerNoteVersion: 2.10
- MaxApertureAtMaxFocal: 2,8
- MaxApertureAtMinFocal: 2,8
- MaxFocalLength: 71,3 mm
- MinFocalLength: 71,3 mm
- MultiExposureAutoGain: Off
- MultiExposureMode: Off
- MultiExposureShots: 0
- MultiExposureVersion: 0100
- NEFCompression: Lossless
- NoiseReduction: Off
- PhaseDetectAF: Off
- PictureControlAdjust: Default Settings
- PictureControlBase: Standard
- PictureControlName: Standard
- PictureControlQuickAdjust: Normal
- PictureControlVersion: 0100
- PowerUpTime: 0000:00:00 00:00:00
- PrimaryAFPoint: (none)
- ProgramShift: 0
- Quality: RAW
- RawImageCenter: 3712 2462
- Sharpness: 3
- ShootingMode: Single-Frame, [3]
- ShotInfoVersion: 0222
- ShutterCount: 179
- Timezone: -05:00
- ToningEffect: n/a
- ToningSaturation: n/a
- VRInfoVersion: 0100
- VibrationReduction: Off
- VignetteControl: Off
- WB_GRBGLevels: 256 484 328 256
- WB_RBLevels: 1,890625 1,28125 1 1
- WhiteBalance: Preset1
- WhiteBalanceFineTune: 0 0
- PreviewIFD
- System
- XMP-aux
- ApproximateFocusDistance: 1,58
- LensID: 121
- XMP-crs
- AlreadyApplied: False
- AutoLateralCA: 0
- Blacks2012: 0
- BlueHue: 0
- BlueSaturation: 0
- Brightness: +50
- Clarity: +49
- Clarity2012: 0
- ColorNoiseReduction: 25
- ColorNoiseReductionDetail: 50
- Contrast2012: 0
- ConvertToGrayscale: False
- Defringe: 0
- Exposure: 0.00
- Exposure2012: 0.00
- FillLight: 22
- GrainAmount: 0
- GreenHue: 0
- GreenSaturation: 0
- HasCrop: False
- HasSettings: True
- HighlightRecovery: 28
- Highlights2012: 0
- HueAdjustmentAqua: 0
- HueAdjustmentBlue: 0
- HueAdjustmentGreen: 0
- HueAdjustmentMagenta: 0
- HueAdjustmentOrange: 0
- HueAdjustmentPurple: 0
- HueAdjustmentRed: 0
- HueAdjustmentYellow: 0
- LensManualDistortionAmount: 0
- LensProfileEnable: 0
- LensProfileSetup: LensDefaults
- LuminanceAdjustmentAqua: 0
- LuminanceAdjustmentBlue: 0
- LuminanceAdjustmentGreen: 0
- LuminanceAdjustmentMagenta: 0
- LuminanceAdjustmentOrange: 0
- LuminanceAdjustmentPurple: 0
- LuminanceAdjustmentRed: 0
- LuminanceAdjustmentYellow: 0
- LuminanceSmoothing: 0
- ParametricDarks: 0
- ParametricHighlightSplit: 75
- ParametricHighlights: 0
- ParametricLights: 0
- ParametricMidtoneSplit: 50
- ParametricShadowSplit: 25
- ParametricShadows: 0
- PerspectiveHorizontal: 0
- PerspectiveRotate: 0.0
- PerspectiveScale: 100
- PerspectiveVertical: 0
- PostCropVignetteAmount: 0
- ProcessVersion: 5.7
- RawFileName: D800EhSLI00100.NEF
- RedHue: 0
- RedSaturation: 0
- SaturationAdjustmentAqua: 0
- SaturationAdjustmentBlue: 0
- SaturationAdjustmentGreen: 0
- SaturationAdjustmentMagenta: 0
- SaturationAdjustmentOrange: 0
- SaturationAdjustmentPurple: 0
- SaturationAdjustmentRed: 0
- SaturationAdjustmentYellow: 0
- ShadowTint: 0
- Shadows: 5
- Shadows2012: 0
- SharpenDetail: 25
- SharpenEdgeMasking: 0
- SharpenRadius: +1.0
- SplitToningBalance: 0
- SplitToningHighlightHue: 0
- SplitToningHighlightSaturation: 0
- SplitToningShadowHue: 0
- SplitToningShadowSaturation: 0
- Tint: -12
- ToneCurve: 0, 0, 32, 22, 64, 56, 128, 128, 192, 196, 255, 255
- ToneCurveBlue: 0, 0, 255, 255
- ToneCurveGreen: 0, 0, 255, 255
- ToneCurveName: Medium Contrast
- ToneCurveName2012: Linear
- ToneCurvePV2012: 0, 0, 255, 255
- ToneCurvePV2012Blue: 0, 0, 255, 255
- ToneCurvePV2012Green: 0, 0, 255, 255
- ToneCurvePV2012Red: 0, 0, 255, 255
- ToneCurveRed: 0, 0, 255, 255
- Version: 6.7
- Vibrance: 0
- VignetteAmount: 0
- Whites2012: 0
- XMP-dc
- Format: image/x-nikon-nef
- XMP-exif
- FlashFired: False
- FlashFunction: False
- FlashMode: Off
- FlashRedEyeMode: False
- FlashReturn: No return detection
- GPSVersionID: 2.3.0.0
- UserComment:
- XMP-x
- XMP-xmp
- CreatorTool: Ver.1.00
- Rating: 0
- XMP-xmpMM
- Просмотров: 460
- Рейтинг: голосов еще нет
- Отзывов: 0