- Раздел: Природа
- Дата съёмки: 26.05.2007 13:44
- Дата загрузки фото: 30.05.2007 16:44
- Оригинальная фотография: 1200 x 798 (286 Кб)
- Технические характеристики:
- Фотоаппарат: Minolta DYNAX 5D
- Выдержка: 1/640
- Гиперфокальное расстояние: 3,91 m
- Диафрагма: 10,0
- Светочувствительность: 200
- Фокусное расстояние: 28,0mm (35mm эквивалент: 42,0mm)
- Полный EXIF
- ColorTransform: YCbCr
- Composite
- Aperture: 10,0
- CircleOfConfusion: 0,020 mm
- EV: 15,0
- FocalLength35efl: 28,0mm (35mm equivalent: 42,0mm)
- HyperfocalDistance: 3,91 m
- ScaleFactor35efl: 1,5
- ShutterSpeed: 1/640
- ExifIFD
- ApertureValue: 10,0
- BrightnessValue: 9,87
- Contrast: Normal
- CreateDate: 2007:05:26 13:44:05
- CustomRendered: Normal
- DateTimeOriginal: 2007:05:26 13:44:05
- DigitalZoomRatio: 0
- ExposureCompensation: 0
- ExposureMode: Auto
- ExposureProgram: Aperture-priority AE
- ExposureTime: 1/640
- FNumber: 10,0
- Flash: Off
- FocalLength: 28,0mm
- FocalLengthIn35mmFormat: 42
- GainControl: None
- ISO: 200
- LightSource: Unknown (0)
- MaxApertureValue: 4,0
- MeteringMode: Center-weighted average
- Saturation: Normal
- SceneCaptureType: Standard
- Sharpness: Normal
- ShutterSpeedValue: 1/640
- SubjectLocation: 1504 1000 256 304
- WhiteBalance: Auto
- ICC-header
- ICC-meas
- ICC-view
- IFD0
- ImageDescription: KONICA MINOLTA DIGITAL CAMERA
- Make: KONICA MINOLTA
- Model: DYNAX 5D
- ModifyDate: 2007:05:30 12:46:42
- Software: DYNAX 5D v1.00
- IPTC
- Caption-Abstract: KONICA MINOLTA DIGITAL CAMERA
- Keywords: лето
- XMP-aux
- XMP-crs
- AlreadyApplied: True
- BlueHue: 0
- BlueSaturation: 0
- Brightness: +50
- CameraProfile: ACR 3.2
- ChromaticAberrationB: 0
- ChromaticAberrationR: 0
- ColorNoiseReduction: 25
- Contrast: +25
- ConvertToGrayscale: False
- Exposure: 0.00
- FillLight: 0
- GreenHue: 0
- GreenSaturation: 0
- HasCrop: False
- HasSettings: True
- HighlightRecovery: 100
- HueAdjustmentAqua: 0
- HueAdjustmentBlue: 0
- HueAdjustmentGreen: 0
- HueAdjustmentMagenta: 0
- HueAdjustmentOrange: 0
- HueAdjustmentPurple: 0
- HueAdjustmentRed: 0
- HueAdjustmentYellow: 0
- LuminanceAdjustmentAqua: 0
- LuminanceAdjustmentBlue: 0
- LuminanceAdjustmentGreen: 0
- LuminanceAdjustmentMagenta: 0
- LuminanceAdjustmentOrange: 0
- LuminanceAdjustmentPurple: 0
- LuminanceAdjustmentRed: 0
- LuminanceAdjustmentYellow: 0
- LuminanceSmoothing: 0
- ParametricDarks: 0
- ParametricHighlightSplit: 75
- ParametricHighlights: 0
- ParametricLights: 0
- ParametricMidtoneSplit: 50
- ParametricShadowSplit: 25
- ParametricShadows: 0
- RedHue: 0
- RedSaturation: 0
- Saturation: 0
- SaturationAdjustmentAqua: 0
- SaturationAdjustmentBlue: 0
- SaturationAdjustmentGreen: 0
- SaturationAdjustmentMagenta: 0
- SaturationAdjustmentOrange: 0
- SaturationAdjustmentPurple: 0
- SaturationAdjustmentRed: 0
- SaturationAdjustmentYellow: 0
- ShadowTint: 0
- Shadows: 10
- Sharpness: 25
- SplitToningBalance: 0
- SplitToningHighlightHue: 0
- SplitToningHighlightSaturation: 0
- SplitToningShadowHue: 0
- SplitToningShadowSaturation: 0
- Temperature: 5500
- Tint: +10
- ToneCurve: 0, 0, 32, 22, 64, 56, 128, 128, 192, 196, 255, 255
- ToneCurveName: Medium Contrast
- Vibrance: 0
- VignetteAmount: 0
- WhiteBalance: Daylight
- XMP-dc
- Description: KONICA MINOLTA DIGITAL CAMERA
- Subject: лето
- XMP-exif
- DateTimeDigitized: 2007:05:26 13:44:05+04:00
- DateTimeOriginal: 2007:05:26 13:44:05+04:00
- FlashFired: False
- FlashFunction: False
- FlashMode: Off
- FlashRedEyeMode: False
- FlashReturn: No return detection
- SubjectArea: 1504, 1000, 256, 304
- XMP-lr
- PrivateRTKInfo="cHJpdmF0ZVJUS0luZm8gPSB7Cgl7CgkJZmxhdCA9IHsKCQkJItC70LXRgtC+IiwKCQl9LAoJCXBhdGggPSB7CgkJCSLQu9C10YLQviIsCgkJfSwKCQlwcmltYXJ5ID0gItC70LXRgtC+IiwKCQl1dWlkID0gIkZCRjg4Nzk5LTBBRjctNEVDMS05MDlELTcxNjUyQjU3RTdCNCIsCgl9LAp9Cg=:
- crs:Version=:
- XMP-tiff
- ImageHeight: 798
- ImageWidth: 1200
- XMP-xmp
- ModifyDate: 2007:05:30 12:46:42+04:00
- Просмотров: 786
- Рейтинг: голосов еще нет
- Отзывов: 0