- Раздел: Тесты фототехники
- Дата съёмки: 22.03.2013 22:04
- Дата загрузки фото: 01.04.2013 21:24
- Оригинальная фотография: 4565 x 3043 (6,2 Мб)
- Технические характеристики:
- Фотоаппарат: Panasonic DMC-GH3
- Выдержка: 1/40
- Гиперфокальное расстояние: inf m
- Диафрагма: 1,4
- Светочувствительность: 200
- Фокусное расстояние: 25,0 mm (35 mm equivalent: 50,0 mm)
- Экспокоррекция: -1
- Полный EXIF
- Adobe
- ColorTransform: YCbCr
- Composite
- Aperture: 1,4
- CircleOfConfusion: 0,015 mm
- FOV: 39,0 deg
- FocalLength35efl: 25,0 mm (35 mm equivalent: 50,0 mm)
- HyperfocalDistance: inf m
- ScaleFactor35efl: 2,0
- ShutterSpeed: 1/40
- ExifIFD
- ApertureValue: 1,4
- ColorSpace: sRGB
- Contrast: Normal
- CreateDate: 2013:03:22 22:04:58
- CustomRendered: Normal
- DateTimeOriginal: 2013:03:22 22:04:58
- DigitalZoomRatio: 0
- ExifImageHeight: 3043
- ExifImageWidth: 4565
- ExposureCompensation: -1
- ExposureMode: Auto
- ExposureProgram: Aperture-priority AE
- ExposureTime: 1/40
- FNumber: 1,4
- Flash: Off, Did not fire
- FocalLength: 25,0 mm
- FocalLengthIn35mmFormat: 51 mm
- GainControl: Low gain up
- ISO: 200
- LensModel: LEICA DG SUMMILUX 25/F1.4
- LensSerialNumber: 11121101263
- LightSource: Unknown
- MaxApertureValue: 1,4
- MeteringMode: Multi-segment
- Saturation: Normal
- SceneCaptureType: Standard
- SceneType: Directly photographed
- SensingMethod: One-chip color area
- Sharpness: Normal
- ShutterSpeedValue: 1/40
- WhiteBalance: Auto
- ICC-header
- ICC-meas
- ICC-view
- IFD0
- Make: Panasonic
- Model: DMC-GH3
- ModifyDate: 2013:03:31 00:30:36
- Orientation: Horizontal (normal)
- IFD1
- IPTC
- DateCreated: 2013:03:22
- System
- XMP-aux
- Lens: LEICA DG SUMMILUX 25/F1.4
- XMP-crs
- AlreadyApplied: True
- AutoLateralCA: 0
- Blacks2012: 0
- BlueHue: 0
- BlueSaturation: 0
- CameraProfile: Matrix
- Clarity2012: 0
- ColorNoiseReduction: 25
- ColorNoiseReductionDetail: 50
- ColorTemperature: 7600
- Contrast2012: 0
- ConvertToGrayscale: False
- CropAngle: 0.363778
- CropBottom: 1
- CropConstrainToWarp: 1
- CropLeft: 0.006813
- CropRight: 0.993187
- CropTop: 0
- DefringeGreenAmount: 0
- DefringeGreenHueHi: 60
- DefringeGreenHueLo: 40
- DefringePurpleAmount: 0
- DefringePurpleHueHi: 70
- DefringePurpleHueLo: 30
- Exposure2012: 0.00
- GrainAmount: 0
- GreenHue: 0
- GreenSaturation: 0
- HasCrop: True
- HasSettings: True
- Highlights2012: -18
- HueAdjustmentAqua: 0
- HueAdjustmentBlue: 0
- HueAdjustmentGreen: 0
- HueAdjustmentMagenta: 0
- HueAdjustmentOrange: 0
- HueAdjustmentPurple: 0
- HueAdjustmentRed: 0
- HueAdjustmentYellow: 0
- LensManualDistortionAmount: 0
- LensProfileEnable: 0
- LensProfileSetup: LensDefaults
- LuminanceAdjustmentAqua: 0
- LuminanceAdjustmentBlue: 0
- LuminanceAdjustmentGreen: 0
- LuminanceAdjustmentMagenta: 0
- LuminanceAdjustmentOrange: 0
- LuminanceAdjustmentPurple: 0
- LuminanceAdjustmentRed: 0
- LuminanceAdjustmentYellow: 0
- LuminanceNoiseReductionContrast: 0
- LuminanceNoiseReductionDetail: 50
- LuminanceSmoothing: 18
- ParametricDarks: 0
- ParametricHighlightSplit: 75
- ParametricHighlights: 0
- ParametricLights: 0
- ParametricMidtoneSplit: 50
- ParametricShadowSplit: 25
- ParametricShadows: 0
- PerspectiveHorizontal: 0
- PerspectiveRotate: 0.0
- PerspectiveScale: 100
- PerspectiveVertical: 0
- PostCropVignetteAmount: 0
- ProcessVersion: 6.7
- RawFileName: P1020722.RW2
- RedHue: 0
- RedSaturation: 0
- Saturation: 0
- SaturationAdjustmentAqua: 0
- SaturationAdjustmentBlue: 0
- SaturationAdjustmentGreen: 0
- SaturationAdjustmentMagenta: 0
- SaturationAdjustmentOrange: 0
- SaturationAdjustmentPurple: 0
- SaturationAdjustmentRed: 0
- SaturationAdjustmentYellow: 0
- ShadowTint: 0
- Shadows2012: +25
- SharpenDetail: 25
- SharpenEdgeMasking: 0
- SharpenRadius: +1.0
- Sharpness: 25
- SplitToningBalance: 0
- SplitToningHighlightHue: 0
- SplitToningHighlightSaturation: 0
- SplitToningShadowHue: 0
- SplitToningShadowSaturation: 0
- Tint: 0
- ToneCurveName2012: Linear
- ToneCurvePV2012: 0, 0, 255, 255
- ToneCurvePV2012Blue: 0, 0, 255, 255
- ToneCurvePV2012Green: 0, 0, 255, 255
- ToneCurvePV2012Red: 0, 0, 255, 255
- Version: 7.3
- Vibrance: 0
- VignetteAmount: 0
- WhiteBalance: Custom
- Whites2012: +8
- XMP-dc
- XMP-xmp
- ModifyDate: 2013:03:31 00:30:36+04:00
- Rating: 0
- XMP-xmpMM
- Просмотров: 863
- Рейтинг: голосов еще нет
- Отзывов: отключены