Только один поцелуй, мадемуазель...
- Раздел: Животные
- Дата съёмки: 13.04.2013 16:11
- Дата загрузки фото: 15.04.2013 19:29
- Оригинальная фотография: 1500 x 1500 (817 Кб)
- Технические характеристики:
- Фотоаппарат: Panasonic DMC-FZ150
- Выдержка: 1/500
- Гиперфокальное расстояние: inf m
- Диафрагма: 5,2
- Светочувствительность: 100
- Фокусное расстояние: 108,0 mm (35 mm equivalent: 540,0 mm)
- Полный EXIF
- Adobe
- ColorTransform: YCbCr
- Composite
- Aperture: 5,2
- CircleOfConfusion: 0,005 mm
- FOV: 3,0 deg
- FocalLength35efl: 108,0 mm (35 mm equivalent: 540,0 mm)
- HyperfocalDistance: inf m
- ScaleFactor35efl: 5,6
- ShutterSpeed: 1/500
- ExifIFD
- ApertureValue: 5,2
- ColorSpace: sRGB
- Contrast: High
- CreateDate: 2013:04:13 16:11:18
- CustomRendered: Custom
- DateTimeOriginal: 2013:04:13 16:11:18
- DigitalZoomRatio: 0
- ExifImageHeight: 1500
- ExifImageWidth: 1500
- ExposureCompensation: 0
- ExposureMode: Auto
- ExposureProgram: Aperture-priority AE
- ExposureTime: 1/500
- FNumber: 5,2
- Flash: Off, Did not fire
- FocalLength: 108,0 mm
- FocalLengthIn35mmFormat: 600 mm
- GainControl: None
- ISO: 100
- LightSource: Fine Weather
- MaxApertureValue: 5,2
- MeteringMode: Multi-segment
- Saturation: Normal
- SceneCaptureType: Standard
- SceneType: Directly photographed
- SensingMethod: One-chip color area
- Sharpness: Hard
- ShutterSpeedValue: 1/500
- WhiteBalance: Manual
- ICC-header
- ICC-meas
- ICC-view
- IFD0
- Make: Panasonic
- Model: DMC-FZ150
- ModifyDate: 2013:04:15 14:49:06
- Orientation: Horizontal (normal)
- IFD1
- IPTC
- DateCreated: 2013:04:13
- System
- XMP-crs
- AlreadyApplied: True
- AutoLateralCA: 1
- Blacks2012: -50
- BlueHue: 0
- BlueSaturation: 0
- Brightness: +50
- CameraProfile: Matrix
- Clarity: 0
- Clarity2012: +71
- ColorNoiseReduction: 20
- ColorNoiseReductionDetail: 50
- ColorTemperature: 5650
- Contrast: +25
- Contrast2012: +30
- ConvertToGrayscale: False
- CropAngle: 0
- CropBottom: 1
- CropConstrainToWarp: 1
- CropHeight: 1
- CropLeft: 0.120371
- CropRight: 0.870371
- CropTop: 0
- CropUnit: Unknown (3)
- CropWidth: 1
- Defringe: 2
- Exposure: 0.00
- Exposure2012: +0.15
- FillLight: 0
- GrainAmount: 0
- GreenHue: 0
- GreenSaturation: 0
- HasCrop: True
- HasSettings: True
- HighlightRecovery: 0
- Highlights2012: -100
- HueAdjustmentAqua: 0
- HueAdjustmentBlue: 0
- HueAdjustmentGreen: 0
- HueAdjustmentMagenta: 0
- HueAdjustmentOrange: 0
- HueAdjustmentPurple: 0
- HueAdjustmentRed: 0
- HueAdjustmentYellow: 0
- LensManualDistortionAmount: 0
- LensProfileEnable: 0
- LensProfileSetup: LensDefaults
- LuminanceAdjustmentAqua: 0
- LuminanceAdjustmentBlue: 0
- LuminanceAdjustmentGreen: 0
- LuminanceAdjustmentMagenta: 0
- LuminanceAdjustmentOrange: 0
- LuminanceAdjustmentPurple: 0
- LuminanceAdjustmentRed: 0
- LuminanceAdjustmentYellow: 0
- LuminanceNoiseReductionContrast: 0
- LuminanceNoiseReductionDetail: 50
- LuminanceSmoothing: 10
- ParametricDarks: 0
- ParametricHighlightSplit: 75
- ParametricHighlights: 0
- ParametricLights: 0
- ParametricMidtoneSplit: 50
- ParametricShadowSplit: 25
- ParametricShadows: 0
- PerspectiveHorizontal: 0
- PerspectiveRotate: 0.0
- PerspectiveScale: 100
- PerspectiveVertical: 0
- PostCropVignetteAmount: 0
- ProcessVersion: 6.7
- RawFileName: P1000689.RW2
- RedHue: 0
- RedSaturation: 0
- Saturation: +10
- SaturationAdjustmentAqua: 0
- SaturationAdjustmentBlue: 0
- SaturationAdjustmentGreen: 0
- SaturationAdjustmentMagenta: 0
- SaturationAdjustmentOrange: 0
- SaturationAdjustmentPurple: 0
- SaturationAdjustmentRed: 0
- SaturationAdjustmentYellow: 0
- ShadowTint: 0
- Shadows: 5
- Shadows2012: +100
- SharpenDetail: 40
- SharpenEdgeMasking: 40
- SharpenRadius: +1.5
- Sharpness: 50
- SplitToningBalance: 0
- SplitToningHighlightHue: 0
- SplitToningHighlightSaturation: 0
- SplitToningShadowHue: 0
- SplitToningShadowSaturation: 0
- Tint: +11
- ToneCurve: 0, 0, 32, 22, 64, 56, 128, 128, 192, 196, 255, 255
- ToneCurveBlue: 0, 0, 255, 255
- ToneCurveGreen: 0, 0, 255, 255
- ToneCurveName: Medium Contrast
- ToneCurveName2012: Linear
- ToneCurvePV2012: 0, 0, 255, 255
- ToneCurvePV2012Blue: 0, 0, 255, 255
- ToneCurvePV2012Green: 0, 0, 255, 255
- ToneCurvePV2012Red: 0, 0, 255, 255
- ToneCurveRed: 0, 0, 255, 255
- Version: 7.0
- Vibrance: +10
- VignetteAmount: 0
- WhiteBalance: As Shot
- Whites2012: 0
- XMP-dc
- XMP-xmp
- ModifyDate: 2013:04:15 14:49:06+04:00
- Rating: 0
- XMP-xmpMM
Получить код для блога
Вставка фотографии в текущем разрешении |
Вставка миниатюры |
HTML (для вставки в блог):
BBCode (для вставки в форум):
Ссылка на фото:
Ссылка на миниатюру:
- Послать ссылку другу
Комментарии к фотографии |