» Участники » SDTux » Fujifilm X10 » режим A, правленный RAF |
режим A, правленный RAF |
![](img/title-line.gif) |
![](img/title-shadow.gif) | |
режим A, правленный RAF
- Раздел: Другое, разное
- Дата съёмки: 16.04.2013 12:18
- Дата загрузки фото: 27.04.2013 19:34
- Оригинальная фотография: 1067 x 1600 (777 Кб)
- Технические характеристики:
- Фотоаппарат: FujiFilm X10
- Выдержка: 1/280
- Гиперфокальное расстояние: inf m
- Диафрагма: 3,2
- Светочувствительность: 100
- Фокусное расстояние: 9,0 mm (35 mm equivalent: 45,0 mm)
- Экспокоррекция: -0,33
- Полный EXIF
- Composite
- Aperture: 3,2
- CircleOfConfusion: 0,006 mm
- FOV: 43,0 deg
- FocalLength35efl: 9,0 mm (35 mm equivalent: 45,0 mm)
- HyperfocalDistance: inf m
- ScaleFactor35efl: 5,2
- ShutterSpeed: 1/280
- ExifIFD
- ApertureValue: 3,2
- BrightnessValue: 6,42
- CreateDate: 2013:04:16 12:18:13
- CustomRendered: Normal
- DateTimeOriginal: 2013:04:16 12:18:13
- ExposureCompensation: -0,33
- ExposureMode: Auto
- ExposureProgram: Aperture-priority AE
- ExposureTime: 1/280
- FNumber: 3,2
- Flash: Off, Did not fire
- FocalLength: 9,6 mm
- ISO: 100
- LightSource: Unknown
- MaxApertureValue: 2,0
- MeteringMode: Multi-segment
- SceneCaptureType: Standard
- SceneType: Directly photographed
- SensingMethod: One-chip color area
- SensitivityType: Standard Output Sensitivity
- Sharpness: Normal
- ShutterSpeedValue: 1/280
- SubjectDistanceRange: Unknown
- WhiteBalance: Auto
- IFD0
- Artist: SDTux
- Copyright: SDTux
- Make: FUJIFILM
- Model: X10
- ModifyDate: 2013:04:27 19:32:48
- IFD1
- IPTC
- By-line: SDTux
- CopyrightNotice: SDTux
- DateCreated: 2013:04:16
- Keywords: 2013, Canarian, Canary, Europe, Masca, Spain, island, otpusk, spring
- System
- XMP-crs
- AlreadyApplied: True
- AutoLateralCA: 1
- Blacks2012: +50
- BlueHue: +10
- BlueSaturation: +10
- Clarity2012: +20
- ColorNoiseReduction: 25
- ColorNoiseReductionDetail: 50
- ColorTemperature: 5150
- Contrast2012: 0
- ConvertToGrayscale: False
- CropAngle: 0
- CropBottom: 0.944444
- CropConstrainToWarp: 0
- CropHeight: 1067
- CropLeft: 0
- CropRight: 1
- CropTop: 0.055556
- CropUnit: pixels
- CropWidth: 1600
- DefringeGreenAmount: 0
- DefringeGreenHueHi: 60
- DefringeGreenHueLo: 40
- DefringePurpleAmount: 8
- DefringePurpleHueHi: 70
- DefringePurpleHueLo: 30
- Exposure2012: -0.66
- GrainAmount: 0
- GreenHue: 0
- GreenSaturation: 0
- HasCrop: True
- HasSettings: True
- Highlights2012: -20
- HueAdjustmentAqua: 0
- HueAdjustmentBlue: 0
- HueAdjustmentGreen: 0
- HueAdjustmentMagenta: 0
- HueAdjustmentOrange: 0
- HueAdjustmentPurple: 0
- HueAdjustmentRed: 0
- HueAdjustmentYellow: 0
- LensManualDistortionAmount: 0
- LensProfileEnable: 0
- LensProfileSetup: LensDefaults
- LuminanceAdjustmentAqua: 0
- LuminanceAdjustmentBlue: 0
- LuminanceAdjustmentGreen: 0
- LuminanceAdjustmentMagenta: 0
- LuminanceAdjustmentOrange: 0
- LuminanceAdjustmentPurple: 0
- LuminanceAdjustmentRed: 0
- LuminanceAdjustmentYellow: 0
- LuminanceSmoothing: 0
- ParametricDarks: 0
- ParametricHighlightSplit: 75
- ParametricHighlights: 0
- ParametricLights: 0
- ParametricMidtoneSplit: 50
- ParametricShadowSplit: 25
- ParametricShadows: 0
- PerspectiveHorizontal: 0
- PerspectiveRotate: 0.0
- PerspectiveScale: 100
- PerspectiveVertical: 0
- PostCropVignetteAmount: 0
- ProcessVersion: 6.7
- RedHue: 0
- RedSaturation: 0
- Saturation: 0
- SaturationAdjustmentAqua: 0
- SaturationAdjustmentBlue: 0
- SaturationAdjustmentGreen: 0
- SaturationAdjustmentMagenta: 0
- SaturationAdjustmentOrange: 0
- SaturationAdjustmentPurple: 0
- SaturationAdjustmentRed: 0
- SaturationAdjustmentYellow: 0
- ShadowTint: 0
- Shadows2012: +60
- SharpenDetail: 25
- SharpenEdgeMasking: 0
- SharpenRadius: +1.0
- Sharpness: 25
- SplitToningBalance: 0
- SplitToningHighlightHue: 0
- SplitToningHighlightSaturation: 0
- SplitToningShadowHue: 0
- SplitToningShadowSaturation: 0
- Tint: +17
- ToneCurveName2012: Linear
- ToneCurvePV2012: 0, 0, 255, 255
- ToneCurvePV2012Blue: 0, 0, 255, 255
- ToneCurvePV2012Green: 0, 0, 255, 255
- ToneCurvePV2012Red: 0, 0, 255, 255
- Version: 7.4
- Vibrance: +20
- VignetteAmount: 0
- WhiteBalance: Custom
- Whites2012: -20
- XMP-dc
- Creator: SDTux
- Format: image/jpeg
- Rights: SDTux
- Subject: 2013, Canarian, Canary, Europe, Masca, Spain, island, otpusk, spring
- XMP-iptcCore
- CreatorCity: Ekaterinburg
- CreatorCountry: Russia
- CreatorWorkEmail: sidney_@mail.ru
- CreatorWorkURL: http://velo.darksanime.org
- XMP-xmp
- ModifyDate: 2013:04:27 19:32:48+04:00
- XMP-xmpMM
- XMP-xmpRights
- Marked: True
- UsageTerms: CC-BY-NC-ND
- WebStatement: http://velo.darksanime.org/index.php?copyright
- Просмотров: 522
- Рейтинг: голосов еще нет
- Отзывов: 0
Получить код для блога
Вставка фотографии в текущем разрешении |
Вставка миниатюры |
HTML (для вставки в блог):
BBCode (для вставки в форум):
Ссылка на фото:
Ссылка на миниатюру:
- Послать ссылку другу
Комментарии к фотографии |