- Раздел: Другое, разное
- Дата съёмки: 10.03.2013 13:28
- Дата загрузки фото: 03.05.2013 14:53
- Оригинальная фотография: 800 x 533 (253 Кб)
- Технические характеристики:
- Фотоаппарат: Canon EOS 650D
- Выдержка: 1/100
- Гиперфокальное расстояние: inf m
- Диафрагма: 8,0
- Светочувствительность: 100
- Фокусное расстояние: 18,0 mm (35 mm equivalent: 180,0 mm)
- Экспокоррекция: -1
- Полный EXIF
- Adobe
- ColorTransform: YCbCr
- Composite
- Aperture: 8,0
- CircleOfConfusion: 0,003 mm
- FOV: 11,0 deg
- Flash: Off, Did not fire
- FocalLength35efl: 18,0 mm (35 mm equivalent: 180,0 mm)
- HyperfocalDistance: inf m
- LensID: Canon EF-S 18-200mm f/3.5-5.6 IS
- ScaleFactor35efl: 10,3
- ShutterSpeed: 1/100
- ExifIFD
- ApertureValue: 8,0
- ColorSpace: Uncalibrated
- CreateDate: 2013:03:10 13:28:48
- CustomRendered: Normal
- DateTimeOriginal: 2013:03:10 13:28:48
- ExifImageHeight: 533
- ExifImageWidth: 800
- ExposureCompensation: -1
- ExposureMode: Auto
- ExposureProgram: Aperture-priority AE
- ExposureTime: 1/100
- FNumber: 8,0
- FocalLength: 18,0 mm
- ISO: 100
- LensInfo: 18-200mm f/?
- LensModel: EF-S18-200mm f/3.5-5.6 IS
- LensSerialNumber: 000043ec8d
- MaxApertureValue: 3,5
- MeteringMode: Multi-segment
- RecommendedExposureIndex: 100
- SceneCaptureType: Standard
- SensitivityType: Recommended Exposure Index
- SerialNumber: 083033023315
- ShutterSpeedValue: 1/100
- WhiteBalance: Auto
- ICC-header
- IFD0
- Make: Canon
- Model: Canon EOS 650D
- ModifyDate: 2013:05:03 04:13:24
- Orientation: Horizontal (normal)
- IFD1
- IPTC
- DateCreated: 2013:03:10
- System
- XMP-aux
- ApproximateFocusDistance: 4294967295
- Firmware: 1.0.1
- FlashCompensation: 0
- ImageNumber: 0
- Lens: EF-S18-200mm f/3.5-5.6 IS
- LensID: 50
- XMP-crs
- AlreadyApplied: True
- AutoLateralCA: 0
- Blacks2012: -6
- BlueHue: 0
- BlueSaturation: 0
- Brightness: +50
- Clarity: 0
- Clarity2012: +33
- ColorNoiseReduction: 25
- ColorNoiseReductionDetail: 50
- ColorTemperature: 5350
- Contrast: +25
- Contrast2012: +11
- ConvertToGrayscale: False
- Defringe: 0
- Exposure: 0.00
- Exposure2012: +0.10
- FillLight: 0
- GrainAmount: 0
- GreenHue: 0
- GreenSaturation: 0
- HasCrop: False
- HasSettings: True
- HighlightRecovery: 0
- Highlights2012: -8
- HueAdjustmentAqua: 0
- HueAdjustmentBlue: 0
- HueAdjustmentGreen: 0
- HueAdjustmentMagenta: 0
- HueAdjustmentOrange: 0
- HueAdjustmentPurple: 0
- HueAdjustmentRed: 0
- HueAdjustmentYellow: 0
- LensManualDistortionAmount: 0
- LensProfileEnable: 0
- LensProfileSetup: LensDefaults
- LuminanceAdjustmentAqua: 0
- LuminanceAdjustmentBlue: 0
- LuminanceAdjustmentGreen: 0
- LuminanceAdjustmentMagenta: 0
- LuminanceAdjustmentOrange: 0
- LuminanceAdjustmentPurple: 0
- LuminanceAdjustmentRed: 0
- LuminanceAdjustmentYellow: 0
- LuminanceSmoothing: 0
- ParametricDarks: 0
- ParametricHighlightSplit: 75
- ParametricHighlights: 0
- ParametricLights: 0
- ParametricMidtoneSplit: 50
- ParametricShadowSplit: 25
- ParametricShadows: 0
- PerspectiveHorizontal: 0
- PerspectiveRotate: 0.0
- PerspectiveScale: 100
- PerspectiveVertical: 0
- PostCropVignetteAmount: 0
- ProcessVersion: 6.7
- RawFileName: 2013.03.10.13.28.48.dng
- RedHue: 0
- RedSaturation: 0
- Saturation: +30
- SaturationAdjustmentAqua: 0
- SaturationAdjustmentBlue: 0
- SaturationAdjustmentGreen: 0
- SaturationAdjustmentMagenta: 0
- SaturationAdjustmentOrange: 0
- SaturationAdjustmentPurple: 0
- SaturationAdjustmentRed: 0
- SaturationAdjustmentYellow: 0
- ShadowTint: 0
- Shadows: 5
- Shadows2012: +8
- SharpenDetail: 83
- SharpenEdgeMasking: 2
- SharpenRadius: +2.0
- Sharpness: 128
- SplitToningBalance: 0
- SplitToningHighlightHue: 0
- SplitToningHighlightSaturation: 0
- SplitToningShadowHue: 0
- SplitToningShadowSaturation: 0
- Tint: +4
- ToneCurve: 0, 0, 32, 22, 64, 56, 128, 128, 192, 196, 255, 255
- ToneCurveBlue: 0, 0, 255, 255
- ToneCurveGreen: 0, 0, 255, 255
- ToneCurveName: Medium Contrast
- ToneCurveName2012: Linear
- ToneCurvePV2012: 0, 0, 255, 255
- ToneCurvePV2012Blue: 0, 0, 255, 255
- ToneCurvePV2012Green: 0, 0, 255, 255
- ToneCurvePV2012Red: 0, 0, 255, 255
- ToneCurveRed: 0, 0, 255, 255
- Version: 7.0
- Vibrance: +23
- VignetteAmount: 0
- Whites2012: +5
- XMP-dc
- XMP-exif
- DateTimeDigitized: 2013:03:10 13:28:48+04:00
- DateTimeOriginal: 2013:03:10 13:28:48+04:00
- FlashFired: False
- FlashFunction: False
- FlashMode: Off
- FlashRedEyeMode: False
- FlashReturn: No return detection
- XMP-tiff
- XMP-xmp
- CreateDate: 2013:03:10 13:28:48.00
- ModifyDate: 2013:05:03 04:13:24+04:00
- XMP-xmpMM
- Просмотров: 95
- Рейтинг: голосов еще нет
- Отзывов: 0