- Раздел: Автомобили
- Дата съёмки: 05.05.2013 14:17
- Дата загрузки фото: 12.05.2013 21:07
- Оригинальная фотография: 1600 x 1110 (843 Кб)
- Технические характеристики:
- Фотоаппарат: Sony SLT-A99V
- Выдержка: 1/160
- Гиперфокальное расстояние: inf m
- Диафрагма: 8,0
- Светочувствительность: 100
- Фокусное расстояние: 70,0 mm (35 mm equivalent: 70,0 mm)
- Полный EXIF
- Adobe
- ColorTransform: YCbCr
- Composite
- Aperture: 8,0
- CircleOfConfusion: 0,030 mm
- FOV: 28,0 deg
- FocalLength35efl: 70,0 mm (35 mm equivalent: 70,0 mm)
- GPSAltitude: 35,9 m Above Sea Level
- GPSDateTime: 2013:05:05 18:17:36Z
- GPSLatitude: 43 deg 26' 15,00" N
- GPSLongitude: 73 deg 19' 51,00" W
- GPSPosition: 43 deg 26' 15,00" N, 73 deg 19' 51,00" W
- HyperfocalDistance: inf m
- LensID: Minolta AF 28-80mm F3.5-5.6 (D) or Sigma Lens
- ScaleFactor35efl: 1,0
- ShutterSpeed: 1/160
- ExifIFD
- ApertureValue: 8,0
- BrightnessValue: 8,34921875
- Contrast: Normal
- CreateDate: 2013:05:05 14:17:35
- CustomRendered: Normal
- DateTimeOriginal: 2013:05:05 14:17:35
- DigitalZoomRatio: 1
- ExposureCompensation: 0
- ExposureMode: Auto
- ExposureProgram: Aperture-priority AE
- ExposureTime: 1/160
- FNumber: 8,0
- Flash: Off, Did not fire
- FocalLength: 70,0 mm
- FocalLengthIn35mmFormat: 70 mm
- ISO: 100
- LensInfo: 28-80mm f/3.5-5.6
- LensModel: 28-80mm F3.5-5.6
- LightSource: Unknown
- MaxApertureValue: 2,8
- MeteringMode: Multi-segment
- RecommendedExposureIndex: 100
- Saturation: Normal
- SceneCaptureType: Standard
- SceneType: Directly photographed
- SensitivityType: Recommended Exposure Index
- Sharpness: Normal
- ShutterSpeedValue: 1/160
- WhiteBalance: Auto
- GPS
- GPSAltitude: 35,911 m
- GPSAltitudeRef: Above Sea Level
- GPSDOP: 1,2723
- GPSDateStamp: 2013:05:05
- GPSDifferential: No Correction
- GPSLatitude: 43 deg 26' 15,00"
- GPSLatitudeRef: North
- GPSLongitude: 73 deg 19' 51,00"
- GPSLongitudeRef: West
- GPSMapDatum: WGS-84
- GPSMeasureMode: 3-Dimensional Measurement
- GPSSpeed: 0,069
- GPSSpeedRef: km/h
- GPSStatus: Measurement Active
- GPSTimeStamp: 18:17:36
- GPSTrack: 292,89
- GPSTrackRef: True North
- GPSVersionID: 2.3.0.0
- ICC-header
- ICC-meas
- ICC-view
- IFD0
- Make: SONY
- Model: SLT-A99V
- ModifyDate: 2013:05:05 16:44:48
- IFD1
- IPTC
- City: Methuen
- Country-PrimaryLocationName: United States
- DateCreated: 2013:05:05
- Province-State: Massachusetts
- System
- XMP-aux
- Lens: 28-80mm F3.5-5.6
- LensID: 30
- XMP-crs
- AlreadyApplied: True
- AutoLateralCA: 0
- Blacks2012: 0
- BlueHue: 0
- BlueSaturation: 0
- Clarity2012: +43
- ColorNoiseReduction: 25
- ColorNoiseReductionDetail: 50
- ColorTemperature: 5000
- Contrast2012: 0
- ConvertToGrayscale: False
- CropAngle: 0
- CropBottom: 1
- CropConstrainToWarp: 0
- CropHeight: 1110
- CropLeft: 0.05789
- CropRight: 0.962652
- CropTop: 0.058824
- CropUnit: pixels
- CropWidth: 1600
- DefringeGreenAmount: 0
- DefringeGreenHueHi: 60
- DefringeGreenHueLo: 40
- DefringePurpleAmount: 0
- DefringePurpleHueHi: 70
- DefringePurpleHueLo: 30
- Exposure2012: 0.00
- GrainAmount: 0
- GreenHue: 0
- GreenSaturation: 0
- HasCrop: True
- HasSettings: True
- Highlights2012: -11
- HueAdjustmentAqua: 0
- HueAdjustmentBlue: 0
- HueAdjustmentGreen: 0
- HueAdjustmentMagenta: 0
- HueAdjustmentOrange: 0
- HueAdjustmentPurple: 0
- HueAdjustmentRed: 0
- HueAdjustmentYellow: 0
- LensManualDistortionAmount: 0
- LensProfileEnable: 0
- LensProfileSetup: LensDefaults
- LuminanceAdjustmentAqua: 0
- LuminanceAdjustmentBlue: 0
- LuminanceAdjustmentGreen: 0
- LuminanceAdjustmentMagenta: 0
- LuminanceAdjustmentOrange: 0
- LuminanceAdjustmentPurple: 0
- LuminanceAdjustmentRed: 0
- LuminanceAdjustmentYellow: 0
- LuminanceSmoothing: 0
- ParametricDarks: 0
- ParametricHighlightSplit: 75
- ParametricHighlights: 0
- ParametricLights: 0
- ParametricMidtoneSplit: 50
- ParametricShadowSplit: 25
- ParametricShadows: 0
- PerspectiveHorizontal: 0
- PerspectiveRotate: 0.0
- PerspectiveScale: 100
- PerspectiveVertical: 0
- PostCropVignetteAmount: 0
- ProcessVersion: 6.7
- RedHue: 0
- RedSaturation: 0
- Saturation: 0
- SaturationAdjustmentAqua: 0
- SaturationAdjustmentBlue: 0
- SaturationAdjustmentGreen: 0
- SaturationAdjustmentMagenta: 0
- SaturationAdjustmentOrange: 0
- SaturationAdjustmentPurple: 0
- SaturationAdjustmentRed: 0
- SaturationAdjustmentYellow: 0
- ShadowTint: 0
- Shadows2012: +86
- SharpenDetail: 25
- SharpenEdgeMasking: 0
- SharpenRadius: +1.0
- Sharpness: 25
- SplitToningBalance: 0
- SplitToningHighlightHue: 0
- SplitToningHighlightSaturation: 0
- SplitToningShadowHue: 0
- SplitToningShadowSaturation: 0
- Tint: -1
- ToneCurveName2012: Linear
- ToneCurvePV2012: 0, 0, 255, 255
- ToneCurvePV2012Blue: 0, 0, 255, 255
- ToneCurvePV2012Green: 0, 0, 255, 255
- ToneCurvePV2012Red: 0, 0, 255, 255
- Version: 7.4
- Vibrance: 0
- VignetteAmount: 0
- WhiteBalance: As Shot
- Whites2012: 0
- XMP-dc
- XMP-xmp
- ModifyDate: 2013:05:05 16:44:48-04:00
- XMP-xmpMM