- Раздел: Спорт
- Дата съёмки: 14.05.2013 12:17
- Дата загрузки фото: 14.05.2013 23:29
- Оригинальная фотография: 2400 x 1612 (2,1 Мб)
- Технические характеристики:
- Фотоаппарат: Canon EOS 5D Mark III
- Выдержка: 1/1600
- Гиперфокальное расстояние: inf m
- Диафрагма: 4,0
- Светочувствительность: 200
- Фокусное расстояние: 111,0 mm (35 mm equivalent: 222,0 mm)
- Полный EXIF
- Adobe
- ColorTransform: YCbCr
- Composite
- Aperture: 4,0
- CircleOfConfusion: 0,013 mm
- FOV: 9,0 deg
- FocalLength35efl: 111,0 mm (35 mm equivalent: 222,0 mm)
- HyperfocalDistance: inf m
- LensID: Canon EF 70-200mm f/4L IS
- ScaleFactor35efl: 2,4
- ShutterSpeed: 1/1600
- ExifIFD
- ApertureValue: 4,0
- ColorSpace: sRGB
- CreateDate: 2013:05:14 12:17:40
- CustomRendered: Normal
- DateTimeOriginal: 2013:05:14 12:17:40
- ExifImageHeight: 1612
- ExifImageWidth: 2400
- ExposureCompensation: 0
- ExposureMode: Auto
- ExposureProgram: Aperture-priority AE
- ExposureTime: 1/1600
- FNumber: 4,0
- Flash: Off, Did not fire
- FocalLength: 111,0 mm
- ISO: 200
- LensInfo: 70-200mm f/?
- LensModel: EF70-200mm f/4L IS USM
- LensSerialNumber: 00008422e9
- MaxApertureValue: 4,0
- MeteringMode: Multi-segment
- RecommendedExposureIndex: 200
- SceneCaptureType: Standard
- SensitivityType: Recommended Exposure Index
- SerialNumber: 053024002875
- ShutterSpeedValue: 1/1600
- WhiteBalance: Auto
- ICC-header
- ICC-meas
- ICC-view
- IFD0
- Artist: aliko
- Copyright: zavains@yahoo.com
- Make: Canon
- Model: Canon EOS 5D Mark III
- ModifyDate: 2013:05:14 21:58:46
- Orientation: Horizontal (normal)
- IFD1
- IPTC
- By-line: aliko
- CopyrightNotice: zavains@yahoo.com
- DateCreated: 2013:05:14
- System
- XMP-aux
- ApproximateFocusDistance: 12,6
- Firmware: 1.2.1
- FlashCompensation: 0
- ImageNumber: 0
- Lens: EF70-200mm f/4L IS USM
- LensID: 242
- XMP-crs
- AlreadyApplied: True
- AutoLateralCA: 1
- Blacks2012: -2
- BlueHue: 0
- BlueSaturation: 0
- Clarity2012: +8
- ColorNoiseReduction: 25
- ColorNoiseReductionDetail: 50
- ColorTemperature: 5900
- Contrast2012: -13
- ConvertToGrayscale: False
- CropAngle: 0
- CropBottom: 0.855688
- CropConstrainToWarp: 1
- CropLeft: 0.153846
- CropRight: 1
- CropTop: 0.003396
- DefringeGreenAmount: 0
- DefringeGreenHueHi: 60
- DefringeGreenHueLo: 40
- DefringePurpleAmount: 0
- DefringePurpleHueHi: 62
- DefringePurpleHueLo: 41
- Exposure2012: +0.15
- GrainAmount: 0
- GreenHue: 0
- GreenSaturation: 0
- HasCrop: True
- HasSettings: True
- Highlights2012: -13
- HueAdjustmentAqua: 0
- HueAdjustmentBlue: 0
- HueAdjustmentGreen: 0
- HueAdjustmentMagenta: 0
- HueAdjustmentOrange: 0
- HueAdjustmentPurple: 0
- HueAdjustmentRed: 0
- HueAdjustmentYellow: 0
- LensManualDistortionAmount: 0
- LensProfileChromaticAberrationScale: 100
- LensProfileDistortionScale: 100
- LensProfileEnable: 1
- LensProfileFilename: Canon EOS 5D Mark II (Canon EF 70-200mm f4L IS USM) - RAW.lcp
- LensProfileSetup: Custom
- LensProfileVignettingScale: 120
- LuminanceAdjustmentAqua: 0
- LuminanceAdjustmentBlue: 0
- LuminanceAdjustmentGreen: 0
- LuminanceAdjustmentMagenta: 0
- LuminanceAdjustmentOrange: 0
- LuminanceAdjustmentPurple: 0
- LuminanceAdjustmentRed: 0
- LuminanceAdjustmentYellow: 0
- LuminanceSmoothing: 0
- ParametricDarks: 0
- ParametricHighlightSplit: 75
- ParametricHighlights: 0
- ParametricLights: 0
- ParametricMidtoneSplit: 50
- ParametricShadowSplit: 25
- ParametricShadows: 0
- PerspectiveHorizontal: 0
- PerspectiveRotate: 0.0
- PerspectiveScale: 100
- PerspectiveVertical: 0
- PostCropVignetteAmount: 0
- ProcessVersion: 6.7
- RawFileName: IMG_0966.CR2
- RedHue: 0
- RedSaturation: 0
- Saturation: 0
- SaturationAdjustmentAqua: 0
- SaturationAdjustmentBlue: 0
- SaturationAdjustmentGreen: 0
- SaturationAdjustmentMagenta: 0
- SaturationAdjustmentOrange: 0
- SaturationAdjustmentPurple: 0
- SaturationAdjustmentRed: 0
- SaturationAdjustmentYellow: 0
- ShadowTint: 0
- Shadows2012: +11
- SharpenDetail: 25
- SharpenEdgeMasking: 0
- SharpenRadius: +1.0
- Sharpness: 25
- SplitToningBalance: 0
- SplitToningHighlightHue: 0
- SplitToningHighlightSaturation: 0
- SplitToningShadowHue: 0
- SplitToningShadowSaturation: 0
- Tint: +21
- ToneCurveName2012: Linear
- ToneCurvePV2012: 0, 0, 255, 255
- ToneCurvePV2012Blue: 0, 0, 255, 255
- ToneCurvePV2012Green: 0, 0, 255, 255
- ToneCurvePV2012Red: 0, 0, 255, 255
- Version: 7.4
- Vibrance: 0
- VignetteAmount: 0
- WhiteBalance: As Shot
- Whites2012: 0
- XMP-dc
- Creator: aliko
- Format: image/jpeg
- Rights: zavains@yahoo.com
- XMP-xmp
- ModifyDate: 2013:05:14 21:58:46+04:00
- Rating: 0
- XMP-xmpMM
- Просмотров: 362
- Рейтинг: голосов еще нет
- Отзывов: 0