- Раздел: Другое, разное
- Дата съёмки: 10.05.2013 20:04
- Дата загрузки фото: 15.05.2013 18:21
- Оригинальная фотография: 5175 x 6900 (31,3 Мб)
- Технические характеристики:
- Фотоаппарат: Pentax 645D
- Выдержка: 1/1600
- Светочувствительность: 400
- Полный EXIF
- Adobe
- ColorTransform: YCbCr
- Composite
- LensID: M-42 or No Lens
- ShutterSpeed: 1/1600
- ExifIFD
- ColorSpace: sRGB
- Contrast: Normal
- CreateDate: 2013:05:10 20:04:16
- CustomRendered: Normal
- DateTimeOriginal: 2013:05:10 20:04:16
- ExifImageHeight: 6900
- ExifImageWidth: 5175
- ExposureCompensation: 0
- ExposureMode: Auto
- ExposureProgram: Aperture-priority AE
- ExposureTime: 1/1600
- Flash: Off, Did not fire
- ISO: 400
- MeteringMode: Center-weighted average
- Saturation: Normal
- SceneCaptureType: Standard
- SensingMethod: One-chip color area
- Sharpness: Normal
- ShutterSpeedValue: 1/1600
- SubjectDistanceRange: Unknown
- WhiteBalance: Auto
- ICC-header
- ICC-meas
- ICC-view
- IFD0
- Artist: Dmitry Borodin
- Copyright: (c) managger
- Make: PENTAX
- Model: PENTAX 645D
- ModifyDate: 2013:05:15 13:23:04
- Orientation: Horizontal (normal)
- IFD1
- IPTC
- By-line: Dmitry Borodin
- CopyrightNotice: (c) managger
- DateCreated: 2013:05:10
- System
- XMP-aux
- ApproximateFocusDistance: 4
- LensID: 0 0
- XMP-crs
- AlreadyApplied: True
- AutoLateralCA: 1
- Blacks2012: +25
- BlueHue: 0
- BlueSaturation: 0
- Brightness: +50
- Clarity: 0
- Clarity2012: 0
- ColorNoiseReduction: 0
- ColorTemperature: 4450
- Contrast: +30
- Contrast2012: +7
- ConvertToGrayscale: False
- Defringe: 1
- Exposure: 0.00
- Exposure2012: +0.45
- FillLight: 20
- GrainAmount: 0
- GreenHue: 0
- GreenSaturation: 0
- HasCrop: False
- HasSettings: True
- HighlightRecovery: 0
- Highlights2012: -15
- HueAdjustmentAqua: 0
- HueAdjustmentBlue: 0
- HueAdjustmentGreen: 0
- HueAdjustmentMagenta: 0
- HueAdjustmentOrange: 0
- HueAdjustmentPurple: 0
- HueAdjustmentRed: 0
- HueAdjustmentYellow: 0
- LensManualDistortionAmount: 0
- LensProfileEnable: 0
- LensProfileSetup: Auto
- LuminanceAdjustmentAqua: 0
- LuminanceAdjustmentBlue: 0
- LuminanceAdjustmentGreen: 0
- LuminanceAdjustmentMagenta: 0
- LuminanceAdjustmentOrange: 0
- LuminanceAdjustmentPurple: 0
- LuminanceAdjustmentRed: 0
- LuminanceAdjustmentYellow: 0
- LuminanceSmoothing: 0
- ParametricDarks: 0
- ParametricHighlightSplit: 75
- ParametricHighlights: 0
- ParametricLights: 0
- ParametricMidtoneSplit: 50
- ParametricShadowSplit: 25
- ParametricShadows: 0
- PerspectiveHorizontal: 0
- PerspectiveRotate: 0.0
- PerspectiveScale: 100
- PerspectiveVertical: 0
- PostCropVignetteAmount: 0
- ProcessVersion: 5.7
- RawFileName: DI_09569.DNG
- RedHue: 0
- RedSaturation: 0
- Saturation: +10
- SaturationAdjustmentAqua: 0
- SaturationAdjustmentBlue: 0
- SaturationAdjustmentGreen: 0
- SaturationAdjustmentMagenta: 0
- SaturationAdjustmentOrange: 0
- SaturationAdjustmentPurple: 0
- SaturationAdjustmentRed: 0
- SaturationAdjustmentYellow: 0
- ShadowTint: 0
- Shadows: 0
- Shadows2012: +15
- SharpenDetail: 0
- SharpenEdgeMasking: 0
- SharpenRadius: +0.5
- Sharpness: 0
- SplitToningBalance: 0
- SplitToningHighlightHue: 0
- SplitToningHighlightSaturation: 0
- SplitToningShadowHue: 0
- SplitToningShadowSaturation: 0
- Tint: +20
- ToneCurve: 0, 0, 32, 16, 64, 50, 128, 128, 192, 202, 255, 255
- ToneCurveBlue: 0, 0, 255, 255
- ToneCurveGreen: 0, 0, 255, 255
- ToneCurveName: Strong Contrast
- ToneCurveName2012: Linear
- ToneCurvePV2012: 0, 0, 255, 255
- ToneCurvePV2012Blue: 0, 0, 255, 255
- ToneCurvePV2012Green: 0, 0, 255, 255
- ToneCurvePV2012Red: 0, 0, 255, 255
- ToneCurveRed: 0, 0, 255, 255
- Version: 6.7
- Vibrance: 0
- VignetteAmount: 0
- WhiteBalance: As Shot
- Whites2012: 0
- XMP-dc
- Creator: Dmitry Borodin
- Format: image/jpeg
- Rights: (c) managger
- XMP-xmp
- CreatorTool: 645D Ver 1.30
- ModifyDate: 2013:05:15 13:23:04+03:00
- Rating: 0
- XMP-xmpMM
- Просмотров: 646
- Рейтинг: голосов еще нет
- Отзывов: отключены