- Раздел: Портрет
- Дата съёмки: 18.05.2013 11:13
- Дата загрузки фото: 18.05.2013 21:13
- Оригинальная фотография: 2048 x 2446 (5,3 Мб)
- Технические характеристики:
- Фотоаппарат: Canon EOS 10D
- Выдержка: 1/200
- Диафрагма: 1,8
- Светочувствительность: 1600
- Фокусное расстояние: 85,0 mm
- Полный EXIF
- Adobe
- ColorTransform: YCbCr
- Composite
- Aperture: 1,8
- Flash: No Flash
- FocalLength35efl: 85,0 mm
- ShutterSpeed: 1/200
- ExifIFD
- ApertureValue: 1,8
- CreateDate: 2013:05:18 11:13:34
- DateTimeOriginal: 2013:05:18 11:13:34
- ExposureCompensation: 0
- ExposureProgram: Aperture-priority AE
- ExposureTime: 1/200
- FNumber: 1,8
- FocalLength: 85,0 mm
- ISO: 1600
- MaxApertureValue: 1,8
- MeteringMode: Partial
- ShutterSpeedValue: 1/200
- ICC-header
- ICC-meas
- ICC-view
- IFD0
- Make: Canon
- Model: Canon EOS 10D
- ModifyDate: 2013:05:18 21:13:06
- IFD1
- System
- XMP-aux
- Firmware: 2.0.1
- Lens: 85.0 mm
- LensInfo: 85mm f/?
- SerialNumber: 1720511286
- XMP-crs
- AlreadyApplied: True
- BlueHue: 0
- BlueSaturation: 0
- Brightness: +98
- CameraProfile: Camera Standard
- ChromaticAberrationB: 0
- ChromaticAberrationR: 0
- Clarity: 0
- ColorNoiseReduction: 25
- ColorNoiseReductionDetail: 50
- ColorTemperature: 2750
- Contrast: -50
- ConvertToGrayscale: True
- CropAngle: 0
- CropBottom: 1
- CropConstrainToWarp: 0
- CropHeight: 2048
- CropLeft: 0.182371
- CropRight: 0.978723
- CropTop: 0
- CropUnit: pixels
- CropWidth: 2446
- Defringe: 0
- Exposure: 0.00
- FillLight: 17
- GrainAmount: 0
- GrayMixerAqua: -19
- GrayMixerBlue: +9
- GrayMixerGreen: -26
- GrayMixerMagenta: +6
- GrayMixerOrange: -17
- GrayMixerPurple: +16
- GrayMixerRed: -8
- GrayMixerYellow: -22
- GreenHue: 0
- GreenSaturation: 0
- HasCrop: True
- HasSettings: True
- HighlightRecovery: 0
- LensManualDistortionAmount: 0
- LensProfileEnable: 0
- LensProfileSetup: LensDefaults
- LuminanceNoiseReductionContrast: 0
- LuminanceNoiseReductionDetail: 50
- LuminanceSmoothing: 14
- PaintCorrectionActive: true
- PaintCorrectionAmount: 1.000000
- PaintCorrectionBrightness: -1.000000
- PaintCorrectionClarity: 0.000000
- PaintCorrectionContrast: 0.000000
- PaintCorrectionExposure: -1.000000
- PaintCorrectionHue: 242.000000
- PaintCorrectionMaskCenterWeight: 0.068529
- PaintCorrectionMaskFlow: 0.500000
- PaintCorrectionMaskRadius: 0.098417
- PaintCorrectionMaskValue: 1.000000
- PaintCorrectionMaskWhat: Mask/Paint
- PaintCorrectionSaturation: 0.000000
- PaintCorrectionSharpness: 0.000000
- PaintCorrectionWhat: Correction
- ParametricDarks: 0
- ParametricHighlightSplit: 75
- ParametricHighlights: 0
- ParametricLights: 0
- ParametricMidtoneSplit: 50
- ParametricShadowSplit: 25
- ParametricShadows: 0
- PerspectiveHorizontal: 0
- PerspectiveRotate: 0.0
- PerspectiveScale: 100
- PerspectiveVertical: 0
- PostCropVignetteAmount: -40
- PostCropVignetteFeather: 50
- PostCropVignetteHighlightContrast: 0
- PostCropVignetteMidpoint: 16
- PostCropVignetteRoundness: 0
- PostCropVignetteStyle: 1
- ProcessVersion: 5.7
- RedHue: 0
- RedSaturation: 0
- ShadowTint: 0
- Shadows: 5
- SharpenDetail: 25
- SharpenEdgeMasking: 0
- SharpenRadius: +1.0
- Sharpness: 25
- SplitToningBalance: 0
- SplitToningHighlightHue: 61
- SplitToningHighlightSaturation: 46
- SplitToningShadowHue: 27
- SplitToningShadowSaturation: 40
- Tint: +12
- ToneCurve: 0, 0, 32, 22, 64, 56, 128, 128, 192, 196, 255, 255
- ToneCurveName: Medium Contrast
- Version: 6.1
- VignetteAmount: 0
- WhiteBalance: Custom
- XMP-exif
- DateTimeDigitized: 2013:05:18 11:13:34+04:00
- DateTimeOriginal: 2013:05:18 11:13:34+04:00
- ExifImageHeight: 2446
- ExifImageWidth: 2048
- FlashFired: False
- XMP-tiff
- ImageHeight: 2446
- ImageWidth: 2048
- XMP-xmp
- CreateDate: 2013:05:18 11:13:34+04:00
- ModifyDate: 2013:05:18 21:13:06+04:00
- Просмотров: 1219
- Рейтинг: голосов еще нет
- Отзывов: 0