| » Участники » Nines » SEL-50F18 » DSC06819.jpg |
Уважаемые друзья и участники проекта iXBT.photo! К сожалению, 1 марта 2026 года проект iXBT.photo прекратит свою работу и будет закрыт. Мы высоко ценим ваше участие и тот вклад, который вы внесли в развитие нашего сообщества. Пожалуйста, не забудьте сохранить ваши фотографии до этой даты.
С уважением, команда iXBT.com
| DSC06819.jpg |
DSC06819.jpg
- Раздел: Другое, разное
- Дата съёмки: 19.05.2013 19:03
- Дата загрузки фото: 20.05.2013 07:27
- Оригинальная фотография: 4682 x 2630 (1,8 Мб)
- Технические характеристики:
- Фотоаппарат: Sony NEX-6
- Выдержка: 1/2000
- Гиперфокальное расстояние: inf m
- Диафрагма: 2,8
- Светочувствительность: 100
- Фокусное расстояние: 50,0 mm (35 mm equivalent: 50,0 mm)
- Полный EXIF
- Adobe
- ColorTransform: YCbCr
- Composite
- Aperture: 2,8
- CircleOfConfusion: 0,020 mm
- FOV: 39,0 deg
- FocalLength35efl: 50,0 mm (35 mm equivalent: 50,0 mm)
- HyperfocalDistance: inf m
- ScaleFactor35efl: 1,5
- ShutterSpeed: 1/2000
- ExifIFD
- ApertureValue: 2,8
- BrightnessValue: 9,4625
- Contrast: Low
- CreateDate: 2013:05:19 19:03:27
- CustomRendered: Normal
- DateTimeOriginal: 2013:05:19 19:03:27
- DigitalZoomRatio: 1
- ExposureCompensation: 0
- ExposureMode: Auto
- ExposureProgram: Aperture-priority AE
- ExposureTime: 1/2000
- FNumber: 2,8
- Flash: Off, Did not fire
- FocalLength: 50,0 mm
- FocalLengthIn35mmFormat: 75 mm
- ISO: 100
- LensInfo: 50mm f/1.8
- LensModel: E 50mm F1.8 OSS
- LightSource: Unknown
- MaxApertureValue: 1,8
- MeteringMode: Multi-segment
- RecommendedExposureIndex: 100
- Saturation: Normal
- SceneCaptureType: Standard
- SceneType: Directly photographed
- SensitivityType: Recommended Exposure Index
- Sharpness: Soft
- ShutterSpeedValue: 1/2000
- WhiteBalance: Auto
- ICC-header
- ICC-meas
- ICC-view
- IFD0
- Make: SONY
- Model: NEX-6
- ModifyDate: 2013:05:19 22:31:13
- IFD1
- IPTC
- DateCreated: 2013:05:19
- System
- XMP-aux
- Lens: E 50mm F1.8 OSS
- XMP-crs
- AlreadyApplied: True
- AutoLateralCA: 1
- Blacks2012: 0
- BlueHue: 0
- BlueSaturation: 0
- Clarity2012: +61
- ColorNoiseReduction: 25
- ColorNoiseReductionDetail: 50
- ColorTemperature: 4447
- Contrast2012: +41
- ConvertToGrayscale: False
- CropAngle: -5.5037
- CropBottom: 0.832301
- CropConstrainToWarp: 0
- CropHeight: 2630
- CropLeft: 0
- CropRight: 1
- CropTop: 0.167699
- CropUnit: pixels
- CropWidth: 4682
- DefringeGreenAmount: 0
- DefringeGreenHueHi: 60
- DefringeGreenHueLo: 40
- DefringePurpleAmount: 0
- DefringePurpleHueHi: 70
- DefringePurpleHueLo: 30
- Exposure2012: 0.00
- GrainAmount: 0
- GreenHue: 0
- GreenSaturation: 0
- HasCrop: True
- HasSettings: True
- Highlights2012: -91
- HueAdjustmentAqua: 0
- HueAdjustmentBlue: 0
- HueAdjustmentGreen: 0
- HueAdjustmentMagenta: 0
- HueAdjustmentOrange: 0
- HueAdjustmentPurple: 0
- HueAdjustmentRed: 0
- HueAdjustmentYellow: 0
- LensManualDistortionAmount: 0
- LensProfileChromaticAberrationScale: 100
- LensProfileDistortionScale: 100
- LensProfileEnable: 1
- LensProfileFilename: SONY (Sony E 50mm F1.8 OSS) - RAW.lcp
- LensProfileSetup: LensDefaults
- LensProfileVignettingScale: 100
- LuminanceAdjustmentAqua: 0
- LuminanceAdjustmentBlue: -18
- LuminanceAdjustmentGreen: 0
- LuminanceAdjustmentMagenta: 0
- LuminanceAdjustmentOrange: 0
- LuminanceAdjustmentPurple: -1
- LuminanceAdjustmentRed: 0
- LuminanceAdjustmentYellow: 0
- LuminanceNoiseReductionContrast: 0
- LuminanceNoiseReductionDetail: 50
- LuminanceSmoothing: 17
- ParametricDarks: 0
- ParametricHighlightSplit: 75
- ParametricHighlights: 0
- ParametricLights: 0
- ParametricMidtoneSplit: 50
- ParametricShadowSplit: 25
- ParametricShadows: 0
- PerspectiveHorizontal: 0
- PerspectiveRotate: 0.0
- PerspectiveScale: 100
- PerspectiveVertical: 0
- PostCropVignetteAmount: 0
- ProcessVersion: 6.7
- RedHue: 0
- RedSaturation: 0
- Saturation: 0
- SaturationAdjustmentAqua: 0
- SaturationAdjustmentBlue: 0
- SaturationAdjustmentGreen: 0
- SaturationAdjustmentMagenta: 0
- SaturationAdjustmentOrange: 0
- SaturationAdjustmentPurple: 0
- SaturationAdjustmentRed: 0
- SaturationAdjustmentYellow: 0
- ShadowTint: 0
- Shadows2012: +70
- SharpenDetail: 41
- SharpenEdgeMasking: 28
- SharpenRadius: +1.6
- Sharpness: 61
- SplitToningBalance: 0
- SplitToningHighlightHue: 0
- SplitToningHighlightSaturation: 0
- SplitToningShadowHue: 0
- SplitToningShadowSaturation: 0
- Tint: +21
- ToneCurveName2012: Linear
- ToneCurvePV2012: 0, 0, 255, 255
- ToneCurvePV2012Blue: 0, 0, 255, 255
- ToneCurvePV2012Green: 0, 0, 255, 255
- ToneCurvePV2012Red: 0, 0, 255, 255
- Version: 7.4
- Vibrance: +30
- VignetteAmount: 0
- WhiteBalance: Custom
- Whites2012: -34
- XMP-dc
- XMP-xmp
- ModifyDate: 2013:05:19 22:31:13+04:00
- XMP-xmpMM
- Просмотров: 518
- Рейтинг: голосов еще нет
- Отзывов: отключены
Получить код для блога
| Вставка фотографии в текущем разрешении |
Вставка миниатюры |
HTML (для вставки в блог):
BBCode (для вставки в форум):
Ссылка на фото:
Ссылка на миниатюру:
- Послать ссылку другу
| Комментарии к фотографии |