Уважаемые друзья и участники проекта iXBT.photo! К сожалению, 1 марта 2026 года проект iXBT.photo прекратит свою работу и будет закрыт. Мы высоко ценим ваше участие и тот вклад, который вы внесли в развитие нашего сообщества. Пожалуйста, не забудьте сохранить ваши фотографии до этой даты.
С уважением, команда iXBT.com
| _DSC0686.jpg |
_DSC0686.jpg
- Раздел: Путешествия
- Дата съёмки: 25.05.2013 12:04
- Дата загрузки фото: 02.06.2013 18:07
- Оригинальная фотография: 1980 x 1033 (496 Кб)
- Технические характеристики:
- Фотоаппарат: Sony SLT-A99V
- Выдержка: 1/1000
- Гиперфокальное расстояние: inf m
- Диафрагма: 3,2
- Светочувствительность: 100
- Фокусное расстояние: 35,0 mm (35 mm equivalent: 35,0 mm)
- Полный EXIF
- Adobe
- ColorTransform: YCbCr
- Composite
- Aperture: 3,2
- CircleOfConfusion: 0,030 mm
- FOV: 54,0 deg
- FocalLength35efl: 35,0 mm (35 mm equivalent: 35,0 mm)
- GPSAltitude: 23,7 m Above Sea Level
- GPSDateTime: 2013:05:25 16:04:00Z
- GPSLatitude: 44 deg 36' 57,00" N
- GPSLongitude: 69 deg 14' 33,00" W
- GPSPosition: 44 deg 36' 57,00" N, 69 deg 14' 33,00" W
- HyperfocalDistance: inf m
- LensID: Minolta AF 28-80mm F3.5-5.6 (D) or Sigma Lens
- ScaleFactor35efl: 1,0
- ShutterSpeed: 1/1000
- ExifIFD
- ApertureValue: 3,2
- BrightnessValue: 8,64609375
- Contrast: Normal
- CreateDate: 2013:05:25 12:04:00
- CustomRendered: Normal
- DateTimeOriginal: 2013:05:25 12:04:00
- DigitalZoomRatio: 1
- ExposureCompensation: 0
- ExposureMode: Auto
- ExposureProgram: Aperture-priority AE
- ExposureTime: 1/1000
- FNumber: 3,2
- Flash: Off, Did not fire
- FocalLength: 35,0 mm
- FocalLengthIn35mmFormat: 35 mm
- ISO: 100
- LensInfo: 28-80mm f/3.5-5.6
- LensModel: 28-80mm F3.5-5.6
- LightSource: Unknown
- MaxApertureValue: 2,8
- MeteringMode: Multi-segment
- RecommendedExposureIndex: 100
- Saturation: Normal
- SceneCaptureType: Standard
- SceneType: Directly photographed
- SensitivityType: Recommended Exposure Index
- Sharpness: Normal
- ShutterSpeedValue: 1/1000
- WhiteBalance: Auto
- GPS
- GPSAltitude: 23,779 m
- GPSAltitudeRef: Above Sea Level
- GPSDOP: 1,8378
- GPSDateStamp: 2013:05:25
- GPSDifferential: No Correction
- GPSLatitude: 44 deg 36' 57,00"
- GPSLatitudeRef: North
- GPSLongitude: 69 deg 14' 33,00"
- GPSLongitudeRef: West
- GPSMapDatum: WGS-84
- GPSMeasureMode: 3-Dimensional Measurement
- GPSSpeed: 0,348
- GPSSpeedRef: km/h
- GPSStatus: Measurement Active
- GPSTimeStamp: 16:04:00
- GPSTrack: 86,23
- GPSTrackRef: True North
- GPSVersionID: 2.3.0.0
- ICC-header
- ICC-meas
- ICC-view
- IFD0
- Make: SONY
- Model: SLT-A99V
- ModifyDate: 2013:05:26 17:32:54
- IFD1
- IPTC
- City: Prospect
- Country-PrimaryLocationName: United States
- DateCreated: 2013:05:25
- Province-State: Maine
- System
- XMP-aux
- Lens: 28-80mm F3.5-5.6
- LensID: 30
- XMP-crs
- AlreadyApplied: True
- AutoLateralCA: 0
- Blacks2012: 0
- BlueHue: 0
- BlueSaturation: 0
- Clarity2012: +18
- ColorNoiseReduction: 25
- ColorNoiseReductionDetail: 50
- ColorTemperature: 5650
- Contrast2012: 0
- ConvertToGrayscale: False
- CropAngle: 0
- CropBottom: 0.752554
- CropConstrainToWarp: 0
- CropHeight: 1033
- CropLeft: 0
- CropRight: 0.735249
- CropTop: 0.177072
- CropUnit: pixels
- CropWidth: 1980
- DefringeGreenAmount: 0
- DefringeGreenHueHi: 60
- DefringeGreenHueLo: 40
- DefringePurpleAmount: 0
- DefringePurpleHueHi: 70
- DefringePurpleHueLo: 30
- Exposure2012: +0.34
- GradientBasedCorrActive: true
- GradientBasedCorrAmount: 1.000000
- GradientBasedCorrBrightness: 0.000000
- GradientBasedCorrHue: 70.000000
- GradientBasedCorrMaskFullX: 0.320622
- GradientBasedCorrMaskFullY: 0.399501
- GradientBasedCorrMaskValue: 1.000000
- GradientBasedCorrMaskWhat: Mask/Gradient
- GradientBasedCorrMaskZeroX: 0.271692
- GradientBasedCorrMaskZeroY: 0.552643
- GradientBasedCorrSaturation: 0.000000
- GradientBasedCorrSharpness: 0.000000
- GradientBasedCorrWhat: Correction
- GradientBasedCorrectionsLocalClarity2012: 1.000000
- GradientBasedCorrectionsLocalContrast2012: 0.000000
- GradientBasedCorrectionsLocalDefringe: 0.000000
- GradientBasedCorrectionsLocalExposure2012: 0.000000
- GradientBasedCorrectionsLocalHighlights2012: -0.431820
- GradientBasedCorrectionsLocalLuminanceNoise: 0.000000
- GradientBasedCorrectionsLocalMoire: 0.000000
- GradientBasedCorrectionsLocalShadows2012: 0.500000
- GradientBasedCorrectionsLocalTemperature: 0.000000
- GradientBasedCorrectionsLocalTint: 0.000000
- GrainAmount: 0
- GreenHue: 0
- GreenSaturation: 0
- HasCrop: True
- HasSettings: True
- Highlights2012: -27
- HueAdjustmentAqua: 0
- HueAdjustmentBlue: 0
- HueAdjustmentGreen: 0
- HueAdjustmentMagenta: 0
- HueAdjustmentOrange: 0
- HueAdjustmentPurple: 0
- HueAdjustmentRed: 0
- HueAdjustmentYellow: 0
- LensManualDistortionAmount: 0
- LensProfileEnable: 0
- LensProfileSetup: LensDefaults
- LuminanceAdjustmentAqua: 0
- LuminanceAdjustmentBlue: 0
- LuminanceAdjustmentGreen: 0
- LuminanceAdjustmentMagenta: 0
- LuminanceAdjustmentOrange: 0
- LuminanceAdjustmentPurple: 0
- LuminanceAdjustmentRed: 0
- LuminanceAdjustmentYellow: 0
- LuminanceSmoothing: 0
- ParametricDarks: 0
- ParametricHighlightSplit: 75
- ParametricHighlights: 0
- ParametricLights: 0
- ParametricMidtoneSplit: 50
- ParametricShadowSplit: 25
- ParametricShadows: 0
- PerspectiveHorizontal: 0
- PerspectiveRotate: 0.0
- PerspectiveScale: 100
- PerspectiveVertical: 0
- PostCropVignetteAmount: 0
- ProcessVersion: 6.7
- RedHue: 0
- RedSaturation: 0
- Saturation: +9
- SaturationAdjustmentAqua: 0
- SaturationAdjustmentBlue: 0
- SaturationAdjustmentGreen: 0
- SaturationAdjustmentMagenta: 0
- SaturationAdjustmentOrange: 0
- SaturationAdjustmentPurple: 0
- SaturationAdjustmentRed: 0
- SaturationAdjustmentYellow: 0
- ShadowTint: 0
- Shadows2012: +52
- SharpenDetail: 25
- SharpenEdgeMasking: 0
- SharpenRadius: +1.0
- Sharpness: 25
- SplitToningBalance: 0
- SplitToningHighlightHue: 0
- SplitToningHighlightSaturation: 0
- SplitToningShadowHue: 0
- SplitToningShadowSaturation: 0
- Tint: 0
- ToneCurveName2012: Linear
- ToneCurvePV2012: 0, 0, 255, 255
- ToneCurvePV2012Blue: 0, 0, 255, 255
- ToneCurvePV2012Green: 0, 0, 255, 255
- ToneCurvePV2012Red: 0, 0, 255, 255
- Version: 7.4
- Vibrance: +9
- VignetteAmount: 0
- WhiteBalance: As Shot
- Whites2012: 0
- XMP-dc
- XMP-xmp
- ModifyDate: 2013:05:26 17:32:54-04:00
- XMP-xmpMM
- Просмотров: 321
- Рейтинг: голосов еще нет
- Отзывов: 0
Получить код для блога
| Вставка фотографии в текущем разрешении |
Вставка миниатюры |
HTML (для вставки в блог):
BBCode (для вставки в форум):
Ссылка на фото:
Ссылка на миниатюру:
- Послать ссылку другу
| Комментарии к фотографии |