- Раздел: Другое, разное
- Дата съёмки: 08.06.2013 13:04
- Дата загрузки фото: 08.06.2013 19:04
- Оригинальная фотография: 2834 x 3564 (5,5 Мб)
- Технические характеристики:
- Фотоаппарат: Pentax K-5
- Выдержка: 1/1000
- Гиперфокальное расстояние: inf m
- Диафрагма: 3,5
- Светочувствительность: 125
- Фокусное расстояние: 200,0 mm (35 mm equivalent: 200,0 mm)
- Полный EXIF
- Adobe
- ColorTransform: YCbCr
- Composite
- Aperture: 3,5
- CircleOfConfusion: 0,020 mm
- FOV: 10,0 deg
- FocalLength35efl: 200,0 mm (35 mm equivalent: 200,0 mm)
- HyperfocalDistance: inf m
- LensID: smc PENTAX-DA* 200mm F2.8 ED [IF] SDM
- ScaleFactor35efl: 1,5
- ShutterSpeed: 1/1000
- ExifIFD
- ApertureValue: 3,5
- ColorSpace: Uncalibrated
- Contrast: High
- CreateDate: 2013:06:08 13:04:20
- CustomRendered: Normal
- DateTimeOriginal: 2013:06:08 13:04:20
- ExifImageHeight: 3564
- ExifImageWidth: 2834
- ExposureCompensation: 0
- ExposureMode: Auto
- ExposureProgram: Aperture-priority AE
- ExposureTime: 1/1000
- FNumber: 3,5
- Flash: Off, Did not fire
- FocalLength: 200,0 mm
- FocalLengthIn35mmFormat: 300 mm
- ISO: 125
- LensInfo: 200mm f/2.8
- LensModel: smc PENTAX-DA* 200mm F2.8 ED [IF] SDM
- MeteringMode: Center-weighted average
- Saturation: Normal
- SceneCaptureType: Standard
- SensingMethod: One-chip color area
- Sharpness: Normal
- ShutterSpeedValue: 1/1000
- SubjectDistanceRange: Distant
- WhiteBalance: Auto
- IFD0
- Artist: VALERY_Ko.
- BitsPerSample: 8 8 8
- Copyright: valery_kolysko
- ImageHeight: 3564
- ImageWidth: 2834
- Make: PENTAX
- Model: PENTAX K-5
- ModifyDate: 2013:06:08 18:01:38
- Orientation: Horizontal (normal)
- PhotometricInterpretation: RGB
- SamplesPerPixel: 3
- IFD1
- IPTC
- By-line: VALERY_Ko.
- CopyrightNotice: valery_kolysko
- DateCreated: 2013:06:08
- System
- XMP-aux
- ApproximateFocusDistance: 9,51
- Lens: smc PENTAX-DA* 200mm F2.8 ED [IF] SDM
- LensID: 8 235
- XMP-crs
- AlreadyApplied: True
- AutoLateralCA: 0
- Blacks2012: -3
- BlueHue: 0
- BlueSaturation: 0
- Brightness: +50
- Clarity: 0
- Clarity2012: +2
- ColorNoiseReduction: 25
- ColorNoiseReductionDetail: 50
- ColorTemperature: 5600
- Contrast: +25
- Contrast2012: +9
- ConvertToGrayscale: False
- Defringe: 0
- Exposure: 0.00
- Exposure2012: +0.45
- FillLight: 0
- GrainAmount: 0
- GreenHue: 0
- GreenSaturation: 0
- HasCrop: False
- HasSettings: True
- HighlightRecovery: 0
- Highlights2012: 0
- HueAdjustmentAqua: 0
- HueAdjustmentBlue: 0
- HueAdjustmentGreen: 0
- HueAdjustmentMagenta: 0
- HueAdjustmentOrange: 0
- HueAdjustmentPurple: 0
- HueAdjustmentRed: 0
- HueAdjustmentYellow: 0
- LensManualDistortionAmount: 0
- LensProfileEnable: 0
- LensProfileSetup: LensDefaults
- LuminanceAdjustmentAqua: 0
- LuminanceAdjustmentBlue: 0
- LuminanceAdjustmentGreen: 0
- LuminanceAdjustmentMagenta: 0
- LuminanceAdjustmentOrange: 0
- LuminanceAdjustmentPurple: 0
- LuminanceAdjustmentRed: 0
- LuminanceAdjustmentYellow: 0
- LuminanceSmoothing: 0
- ParametricDarks: +7
- ParametricHighlightSplit: 75
- ParametricHighlights: +22
- ParametricLights: 0
- ParametricMidtoneSplit: 50
- ParametricShadowSplit: 25
- ParametricShadows: +6
- PerspectiveHorizontal: 0
- PerspectiveRotate: 0.0
- PerspectiveScale: 100
- PerspectiveVertical: 0
- PostCropVignetteAmount: 0
- ProcessVersion: 6.7
- RawFileName: PENT9398.DNG
- RedHue: 0
- RedSaturation: 0
- Saturation: 0
- SaturationAdjustmentAqua: 0
- SaturationAdjustmentBlue: 0
- SaturationAdjustmentGreen: 0
- SaturationAdjustmentMagenta: 0
- SaturationAdjustmentOrange: 0
- SaturationAdjustmentPurple: 0
- SaturationAdjustmentRed: 0
- SaturationAdjustmentYellow: 0
- ShadowTint: 0
- Shadows: 5
- Shadows2012: +18
- SharpenDetail: 64
- SharpenEdgeMasking: 0
- SharpenRadius: +2.1
- Sharpness: 98
- SplitToningBalance: 0
- SplitToningHighlightHue: 0
- SplitToningHighlightSaturation: 0
- SplitToningShadowHue: 0
- SplitToningShadowSaturation: 0
- Tint: +1
- ToneCurve: 0, 0, 32, 22, 64, 56, 128, 128, 192, 196, 255, 255
- ToneCurveBlue: 0, 0, 255, 255
- ToneCurveGreen: 0, 0, 255, 255
- ToneCurveName: Medium Contrast
- ToneCurveName2012: Linear
- ToneCurvePV2012: 0, 0, 255, 255
- ToneCurvePV2012Blue: 0, 0, 255, 255
- ToneCurvePV2012Green: 0, 0, 255, 255
- ToneCurvePV2012Red: 0, 0, 255, 255
- ToneCurveRed: 0, 0, 255, 255
- Version: 7.0
- Vibrance: 0
- VignetteAmount: 0
- WhiteBalance: As Shot
- Whites2012: 0
- XMP-dc
- Creator: VALERY_Ko.
- Format: image/jpeg
- Rights: valery_kolysko
- XMP-xmp
- CreatorTool: ACDSee Pro 5
- ModifyDate: 2013:06:08 18:01:38+03:00
- XMP-xmpMM
- Просмотров: 680
- Рейтинг: голосов еще нет
- Отзывов: 1