» Участники » imjohnsmith2 » Ножи 2 » DSC_3465_resize.jpg |
DSC_3465_resize.jpg |
DSC_3465_resize.jpg
- Раздел: Хобби
- Дата съёмки: 15.06.2013 12:07
- Дата загрузки фото: 15.06.2013 13:39
- Оригинальная фотография: 1920 x 1275 (677 Кб)
- Технические характеристики:
- Фотоаппарат: Nikon D5000
- Выдержка: 1/400
- Гиперфокальное расстояние: inf m
- Диафрагма: 3,0
- Светочувствительность: 800
- Фокусное расстояние: 105,0 mm (35 mm equivalent: 105,0 mm)
- Полный EXIF
- Composite
- Aperture: 3,0
- CircleOfConfusion: 0,020 mm
- FOV: 19,0 deg
- FocalLength35efl: 105,0 mm (35 mm equivalent: 105,0 mm)
- HyperfocalDistance: inf m
- LensID: AF-S VR Micro-Nikkor 105mm f/2.8G IF-ED
- ScaleFactor35efl: 1,5
- ShutterSpeed: 1/400
- ExifIFD
- ApertureValue: 3,0
- CFAPattern: [Green,Blue][Red,Green]
- Contrast: Normal
- CreateDate: 2013:06:15 12:07:41
- CustomRendered: Normal
- DateTimeOriginal: 2013:06:15 12:07:41
- DigitalZoomRatio: 1
- ExifImageHeight: 1275
- ExifImageWidth: 1920
- ExposureCompensation: 0
- ExposureMode: Auto
- ExposureProgram: Aperture-priority AE
- ExposureTime: 1/400
- FNumber: 3,0
- Flash: No Flash
- FocalLength: 105,0 mm
- FocalLengthIn35mmFormat: 157 mm
- GainControl: Low gain up
- ISO: 800
- LensInfo: 105mm f/2.8
- LensModel: 105.0 mm f/2.8
- LightSource: Unknown
- MaxApertureValue: 3,0
- MeteringMode: Center-weighted average
- Saturation: Normal
- SceneCaptureType: Standard
- SceneType: Directly photographed
- SensingMethod: One-chip color area
- SerialNumber: 6052028
- Sharpness: Normal
- ShutterSpeedValue: 1/400
- SubjectDistanceRange: Unknown
- WhiteBalance: Auto
- ICC-header
- IFD0
- Make: NIKON CORPORATION
- Model: NIKON D5000
- ModifyDate: 2013:06:15 13:32:26
- Orientation: Horizontal (normal)
- Software: ACDSee Pro 5
- IFD1
- IPTC
- DateCreated: 2013:06:15
- System
- XMP-aux
- ApproximateFocusDistance: 0,89
- ImageNumber: 15658
- Lens: 105.0 mm f/2.8
- LensID: 138
- XMP-crs
- AlreadyApplied: True
- AutoLateralCA: 0
- Blacks2012: -12
- BlueHue: 0
- BlueSaturation: 0
- CameraProfile: Matrix
- Clarity2012: +20
- ColorNoiseReduction: 25
- ColorNoiseReductionDetail: 50
- ColorTemperature: 5150
- Contrast2012: +19
- ConvertToGrayscale: False
- DefringeGreenAmount: 0
- DefringeGreenHueHi: 60
- DefringeGreenHueLo: 40
- DefringePurpleAmount: 0
- DefringePurpleHueHi: 70
- DefringePurpleHueLo: 30
- Exposure2012: -0.35
- GrainAmount: 0
- GreenHue: 0
- GreenSaturation: 0
- HasCrop: False
- HasSettings: True
- Highlights2012: -51
- HueAdjustmentAqua: 0
- HueAdjustmentBlue: 0
- HueAdjustmentGreen: 0
- HueAdjustmentMagenta: 0
- HueAdjustmentOrange: 0
- HueAdjustmentPurple: 0
- HueAdjustmentRed: 0
- HueAdjustmentYellow: 0
- LensManualDistortionAmount: 0
- LensProfileEnable: 0
- LensProfileSetup: LensDefaults
- LuminanceAdjustmentAqua: 0
- LuminanceAdjustmentBlue: 0
- LuminanceAdjustmentGreen: 0
- LuminanceAdjustmentMagenta: 0
- LuminanceAdjustmentOrange: 0
- LuminanceAdjustmentPurple: 0
- LuminanceAdjustmentRed: 0
- LuminanceAdjustmentYellow: 0
- LuminanceSmoothing: 0
- ParametricDarks: 0
- ParametricHighlightSplit: 75
- ParametricHighlights: 0
- ParametricLights: 0
- ParametricMidtoneSplit: 50
- ParametricShadowSplit: 25
- ParametricShadows: 0
- PerspectiveHorizontal: 0
- PerspectiveRotate: 0.0
- PerspectiveScale: 100
- PerspectiveVertical: 0
- PostCropVignetteAmount: 0
- ProcessVersion: 6.7
- RawFileName: DSC_3465.NEF
- RedHue: 0
- RedSaturation: 0
- Saturation: 0
- SaturationAdjustmentAqua: 0
- SaturationAdjustmentBlue: 0
- SaturationAdjustmentGreen: 0
- SaturationAdjustmentMagenta: 0
- SaturationAdjustmentOrange: 0
- SaturationAdjustmentPurple: 0
- SaturationAdjustmentRed: 0
- SaturationAdjustmentYellow: 0
- ShadowTint: 0
- Shadows2012: -27
- SharpenDetail: 25
- SharpenEdgeMasking: 0
- SharpenRadius: +1.0
- Sharpness: 25
- SplitToningBalance: 0
- SplitToningHighlightHue: 0
- SplitToningHighlightSaturation: 0
- SplitToningShadowHue: 0
- SplitToningShadowSaturation: 0
- Tint: +30
- ToneCurveName2012: Linear
- ToneCurvePV2012: 0, 0, 255, 255
- ToneCurvePV2012Blue: 0, 0, 255, 255
- ToneCurvePV2012Green: 0, 0, 255, 255
- ToneCurvePV2012Red: 0, 0, 255, 255
- Version: 7.1
- Vibrance: 0
- VignetteAmount: 0
- Whites2012: +55
- XMP-dc
- XMP-x
- XMP-xmp
- CreateDate: 2013:06:15 12:07:41.00
- ModifyDate: 2013:06:15 13:15:20+04:00
- XMP-xmpMM
- Просмотров: 217
- Рейтинг: голосов еще нет
- Отзывов: 0
Получить код для блога
Вставка фотографии в текущем разрешении |
Вставка миниатюры |
HTML (для вставки в блог):
BBCode (для вставки в форум):
Ссылка на фото:
Ссылка на миниатюру:
- Послать ссылку другу
Комментарии к фотографии |