- Раздел: Животные
- Дата съёмки: 21.06.2013 18:11
- Дата загрузки фото: 25.06.2013 20:23
- Оригинальная фотография: 4000 x 3000 (3,9 Мб)
- Технические характеристики:
- Фотоаппарат: Panasonic DMC-FZ150
- Выдержка: 1/500
- Гиперфокальное расстояние: inf m
- Диафрагма: 5,2
- Светочувствительность: 100
- Фокусное расстояние: 108,0 mm (35 mm equivalent: 540,0 mm)
- Полный EXIF
- Adobe
- ColorTransform: YCbCr
- Composite
- Aperture: 5,2
- CircleOfConfusion: 0,005 mm
- FOV: 3,0 deg
- FocalLength35efl: 108,0 mm (35 mm equivalent: 540,0 mm)
- HyperfocalDistance: inf m
- ScaleFactor35efl: 5,6
- ShutterSpeed: 1/500
- ExifIFD
- ApertureValue: 5,2
- Contrast: High
- CreateDate: 2013:06:21 18:11:01
- CustomRendered: Custom
- DateTimeOriginal: 2013:06:21 18:11:01
- DigitalZoomRatio: 0
- ExposureCompensation: 0
- ExposureMode: Auto
- ExposureProgram: Manual
- ExposureTime: 1/500
- FNumber: 5,2
- Flash: Auto, Fired
- FocalLength: 108,0 mm
- FocalLengthIn35mmFormat: 600 mm
- GainControl: None
- ISO: 100
- LightSource: Fine Weather
- MaxApertureValue: 5,2
- MeteringMode: Multi-segment
- Saturation: Normal
- SceneCaptureType: Standard
- SceneType: Directly photographed
- SensingMethod: One-chip color area
- Sharpness: Hard
- ShutterSpeedValue: 1/500
- WhiteBalance: Manual
- ICC-header
- IFD0
- Make: Panasonic
- Model: DMC-FZ150
- ModifyDate: 2013:06:24 10:24:02
- IFD1
- IPTC
- DateCreated: 2013:06:21
- System
- XMP-crs
- AlreadyApplied: True
- AutoLateralCA: 1
- Blacks2012: -40
- BlueHue: 0
- BlueSaturation: 0
- Brightness: +50
- CameraProfile: Matrix
- Clarity: 0
- Clarity2012: +30
- ColorNoiseReduction: 20
- ColorNoiseReductionDetail: 50
- ColorTemperature: 5500
- Contrast: +25
- Contrast2012: +20
- ConvertToGrayscale: False
- Defringe: 2
- Exposure: 0.00
- Exposure2012: +0.40
- FillLight: 0
- GrainAmount: 0
- GreenHue: 0
- GreenSaturation: 0
- HasCrop: False
- HasSettings: True
- HighlightRecovery: 0
- Highlights2012: -100
- HueAdjustmentAqua: 0
- HueAdjustmentBlue: 0
- HueAdjustmentGreen: 0
- HueAdjustmentMagenta: 0
- HueAdjustmentOrange: 0
- HueAdjustmentPurple: 0
- HueAdjustmentRed: 0
- HueAdjustmentYellow: 0
- LensManualDistortionAmount: 0
- LensProfileEnable: 0
- LensProfileSetup: LensDefaults
- LuminanceAdjustmentAqua: 0
- LuminanceAdjustmentBlue: 0
- LuminanceAdjustmentGreen: 0
- LuminanceAdjustmentMagenta: 0
- LuminanceAdjustmentOrange: 0
- LuminanceAdjustmentPurple: 0
- LuminanceAdjustmentRed: 0
- LuminanceAdjustmentYellow: 0
- LuminanceNoiseReductionContrast: 0
- LuminanceNoiseReductionDetail: 50
- LuminanceSmoothing: 10
- ParametricDarks: 0
- ParametricHighlightSplit: 75
- ParametricHighlights: 0
- ParametricLights: 0
- ParametricMidtoneSplit: 50
- ParametricShadowSplit: 25
- ParametricShadows: 0
- PerspectiveHorizontal: 0
- PerspectiveRotate: 0.0
- PerspectiveScale: 100
- PerspectiveVertical: 0
- PostCropVignetteAmount: 0
- ProcessVersion: 6.7
- RawFileName: P1000129.RW2
- RedHue: 0
- RedSaturation: 0
- Saturation: +10
- SaturationAdjustmentAqua: 0
- SaturationAdjustmentBlue: 0
- SaturationAdjustmentGreen: 0
- SaturationAdjustmentMagenta: 0
- SaturationAdjustmentOrange: 0
- SaturationAdjustmentPurple: 0
- SaturationAdjustmentRed: 0
- SaturationAdjustmentYellow: 0
- ShadowTint: 0
- Shadows: 5
- Shadows2012: +100
- SharpenDetail: 40
- SharpenEdgeMasking: 30
- SharpenRadius: +1.5
- Sharpness: 50
- SplitToningBalance: 0
- SplitToningHighlightHue: 0
- SplitToningHighlightSaturation: 0
- SplitToningShadowHue: 0
- SplitToningShadowSaturation: 0
- Tint: 0
- ToneCurve: 0, 0, 32, 22, 64, 56, 128, 128, 192, 196, 255, 255
- ToneCurveBlue: 0, 0, 255, 255
- ToneCurveGreen: 0, 0, 255, 255
- ToneCurveName: Medium Contrast
- ToneCurveName2012: Linear
- ToneCurvePV2012: 0, 0, 255, 255
- ToneCurvePV2012Blue: 0, 0, 255, 255
- ToneCurvePV2012Green: 0, 0, 255, 255
- ToneCurvePV2012Red: 0, 0, 255, 255
- ToneCurveRed: 0, 0, 255, 255
- Version: 7.0
- Vibrance: +10
- VignetteAmount: 0
- WhiteBalance: Flash
- Whites2012: -20
- XMP-dc
- XMP-xmp
- ModifyDate: 2013:06:24 10:24:02+04:00
- XMP-xmpMM
- Просмотров: 362
- Рейтинг: голосов еще нет
- Отзывов: 0