- Раздел: Тесты фототехники
- Дата съёмки: 07.07.2013 21:07
- Дата загрузки фото: 13.07.2013 21:36
- Оригинальная фотография: 4608 x 3072 (11,4 Мб)
- Технические характеристики:
- Фотоаппарат: Nikon D3100
- Выдержка: 1/20
- Гиперфокальное расстояние: inf m
- Диафрагма: 4,5
- Светочувствительность: 400
- Фокусное расстояние: 30,0 mm (35 mm equivalent: 30,0 mm)
- Полный EXIF
- Adobe
- ColorTransform: YCbCr
- Composite
- Aperture: 4,5
- CircleOfConfusion: 0,020 mm
- FOV: 61,0 deg
- FocalLength35efl: 30,0 mm (35 mm equivalent: 30,0 mm)
- HyperfocalDistance: inf m
- LensID: AF-S DX VR Zoom-Nikkor 18-55mm f/3.5-5.6G
- ScaleFactor35efl: 1,5
- ShutterSpeed: 1/20
- ExifIFD
- ApertureValue: 4,5
- CFAPattern: [Green,Blue][Red,Green]
- Contrast: Normal
- CreateDate: 2013:07:07 21:07:12
- CustomRendered: Normal
- DateTimeOriginal: 2013:07:07 21:07:12
- DigitalZoomRatio: 1
- ExposureCompensation: 0
- ExposureMode: Auto
- ExposureProgram: Not Defined
- ExposureTime: 1/20
- FNumber: 4,5
- Flash: Off, Did not fire
- FocalLength: 30,0 mm
- FocalLengthIn35mmFormat: 45 mm
- GainControl: Low gain up
- ISO: 400
- LensInfo: 18-55mm f/3.5-5.6
- LensModel: 18.0-55.0 mm f/3.5-5.6
- LightSource: Unknown
- MaxApertureValue: 4,6
- MeteringMode: Multi-segment
- Saturation: Normal
- SceneCaptureType: Standard
- SceneType: Directly photographed
- SensingMethod: One-chip color area
- SerialNumber: 4849385
- Sharpness: Normal
- ShutterSpeedValue: 1/20
- SubjectDistanceRange: Unknown
- WhiteBalance: Auto
- ICC-header
- ICC-meas
- ICC-view
- IFD0
- Make: NIKON CORPORATION
- Model: NIKON D3100
- ModifyDate: 2013:07:08 20:38:30
- IFD1
- IPTC
- DateCreated: 2013:07:07
- System
- XMP-aux
- ApproximateFocusDistance: 2,24
- ImageNumber: 1358
- Lens: 18.0-55.0 mm f/3.5-5.6
- LensID: 154
- XMP-crs
- AlreadyApplied: True
- AutoLateralCA: 1
- Blacks2012: -11
- BlueHue: 0
- BlueSaturation: 0
- Clarity2012: +15
- ColorNoiseReduction: 25
- ColorNoiseReductionDetail: 50
- ColorTemperature: 4150
- Contrast2012: +45
- ConvertToGrayscale: False
- DefringeGreenAmount: 0
- DefringeGreenHueHi: 60
- DefringeGreenHueLo: 40
- DefringePurpleAmount: 0
- DefringePurpleHueHi: 70
- DefringePurpleHueLo: 30
- Exposure2012: 0.00
- GrainAmount: 0
- GreenHue: 0
- GreenSaturation: 0
- HasCrop: False
- HasSettings: True
- Highlights2012: +26
- HueAdjustmentAqua: 0
- HueAdjustmentBlue: 0
- HueAdjustmentGreen: 0
- HueAdjustmentMagenta: 0
- HueAdjustmentOrange: 0
- HueAdjustmentPurple: 0
- HueAdjustmentRed: 0
- HueAdjustmentYellow: 0
- LensManualDistortionAmount: 0
- LensProfileEnable: 0
- LensProfileSetup: LensDefaults
- LuminanceAdjustmentAqua: 0
- LuminanceAdjustmentBlue: 0
- LuminanceAdjustmentGreen: 0
- LuminanceAdjustmentMagenta: 0
- LuminanceAdjustmentOrange: 0
- LuminanceAdjustmentPurple: 0
- LuminanceAdjustmentRed: 0
- LuminanceAdjustmentYellow: 0
- LuminanceSmoothing: 0
- ParametricDarks: 0
- ParametricHighlightSplit: 75
- ParametricHighlights: 0
- ParametricLights: 0
- ParametricMidtoneSplit: 50
- ParametricShadowSplit: 25
- ParametricShadows: 0
- PerspectiveAspect: 0
- PerspectiveHorizontal: 0
- PerspectiveRotate: 0.0
- PerspectiveScale: 100
- PerspectiveUpright: 0
- PerspectiveVertical: 0
- PostCropVignetteAmount: 0
- ProcessVersion: 6.7
- RedHue: 0
- RedSaturation: 0
- Saturation: +11
- SaturationAdjustmentAqua: 0
- SaturationAdjustmentBlue: 0
- SaturationAdjustmentGreen: 0
- SaturationAdjustmentMagenta: 0
- SaturationAdjustmentOrange: 0
- SaturationAdjustmentPurple: 0
- SaturationAdjustmentRed: 0
- SaturationAdjustmentYellow: 0
- ShadowTint: 0
- Shadows2012: -26
- SharpenDetail: 25
- SharpenEdgeMasking: 0
- SharpenRadius: +1.0
- Sharpness: 21
- SplitToningBalance: 0
- SplitToningHighlightHue: 0
- SplitToningHighlightSaturation: 0
- SplitToningShadowHue: 0
- SplitToningShadowSaturation: 0
- Tint: -4
- ToneCurveName2012: Linear
- ToneCurvePV2012: 0, 0, 255, 255
- ToneCurvePV2012Blue: 0, 0, 255, 255
- ToneCurvePV2012Green: 0, 0, 255, 255
- ToneCurvePV2012Red: 0, 0, 255, 255
- Version: 8.1
- Vibrance: +11
- VignetteAmount: 0
- WhiteBalance: As Shot
- Whites2012: +21
- XMP-dc
- XMP-xmp
- CreateDate: 2013:07:07 21:07:12.00
- ModifyDate: 2013:07:08 20:38:30+03:00
- XMP-xmpMM
- Просмотров: 406
- Рейтинг: голосов еще нет
- Отзывов: 0