IMGP0847.jpg |
IMGP0847.jpg
- Раздел: Другое, разное
- Дата съёмки: 14.07.2013 16:28
- Дата загрузки фото: 17.07.2013 03:43
- Оригинальная фотография: 1476 x 1476 (255 Кб)
- Технические характеристики:
- Фотоаппарат: Pentax K-x
- Выдержка: 1/2000
- Светочувствительность: 100
- Экспокоррекция: +2
- Полный EXIF
- Composite
- LensID: M-42 or No Lens
- ShutterSpeed: 1/2000
- ExifIFD
- CFAPattern: [Blue,Green][Green,Red]
- ColorSpace: Uncalibrated
- Contrast: Normal
- CreateDate: 2013:07:14 16:28:56
- CustomRendered: Normal
- DateTimeOriginal: 2013:07:14 16:28:56
- ExifImageHeight: 1476
- ExifImageWidth: 1476
- ExposureCompensation: +2
- ExposureMode: Manual
- ExposureProgram: Aperture-priority AE
- ExposureTime: 1/2000
- Flash: Off, Did not fire
- ISO: 100
- MeteringMode: Center-weighted average
- Saturation: Normal
- SceneCaptureType: Standard
- SensingMethod: One-chip color area
- Sharpness: Soft
- ShutterSpeedValue: 1/2000
- SubjectDistanceRange: Unknown
- WhiteBalance: Auto
- ICC-header
- IFD0
- Artist: SAMURAEV
- Copyright: SAMURAEV
- Make: PENTAX
- Model: PENTAX K-x
- ModifyDate: 2013:07:16 19:49:58
- Orientation: Horizontal (normal)
- Software: ACDSee Pro 5
- IFD1
- IPTC
- By-line: SAMURAEV
- CopyrightNotice: SAMURAEV
- DateCreated: 2013:07:14
- System
- XMP-aux
- XMP-crs
- AlreadyApplied: True
- BlueHue: 0
- BlueSaturation: -48
- Brightness: +6
- ChromaticAberrationB: 0
- ChromaticAberrationR: 0
- Clarity: -52
- ColorNoiseReduction: 25
- ColorNoiseReductionDetail: 50
- ColorTemperature: 4000
- Contrast: +40
- ConvertToGrayscale: False
- CropAngle: 0
- CropBottom: 1
- CropHeight: 1
- CropLeft: 0.276108
- CropRight: 0.940287
- CropTop: -0
- CropUnit: Unknown (3)
- CropWidth: 1
- Defringe: 0
- Exposure: +1.70
- FillLight: 16
- GrainAmount: 0
- GreenHue: 0
- GreenSaturation: -29
- HasCrop: True
- HasSettings: True
- HighlightRecovery: 0
- HueAdjustmentAqua: 0
- HueAdjustmentBlue: 0
- HueAdjustmentGreen: 0
- HueAdjustmentMagenta: 0
- HueAdjustmentOrange: 0
- HueAdjustmentPurple: 0
- HueAdjustmentRed: 0
- HueAdjustmentYellow: 0
- LuminanceAdjustmentAqua: 0
- LuminanceAdjustmentBlue: 0
- LuminanceAdjustmentGreen: 0
- LuminanceAdjustmentMagenta: 0
- LuminanceAdjustmentOrange: 0
- LuminanceAdjustmentPurple: 0
- LuminanceAdjustmentRed: 0
- LuminanceAdjustmentYellow: 0
- LuminanceSmoothing: 0
- ParametricDarks: +13
- ParametricHighlightSplit: 75
- ParametricHighlights: +53
- ParametricLights: +13
- ParametricMidtoneSplit: 50
- ParametricShadowSplit: 25
- ParametricShadows: -23
- PostCropVignetteAmount: 0
- ProcessVersion: 5.7
- RawFileName: IMGP0847.PEF
- RedHue: 0
- RedSaturation: +12
- Saturation: 0
- SaturationAdjustmentAqua: 0
- SaturationAdjustmentBlue: -38
- SaturationAdjustmentGreen: +38
- SaturationAdjustmentMagenta: -100
- SaturationAdjustmentOrange: +30
- SaturationAdjustmentPurple: -43
- SaturationAdjustmentRed: +20
- SaturationAdjustmentYellow: +15
- ShadowTint: 0
- Shadows: 23
- SharpenDetail: 69
- SharpenEdgeMasking: 12
- SharpenRadius: +1.3
- Sharpness: 54
- SplitToningBalance: 0
- SplitToningHighlightHue: 0
- SplitToningHighlightSaturation: 0
- SplitToningShadowHue: 0
- SplitToningShadowSaturation: 0
- Tint: +10
- ToneCurve: 0, 0, 32, 22, 64, 56, 128, 128, 192, 196, 255, 255
- ToneCurveName: Medium Contrast
- Version: 6.0
- Vibrance: 0
- VignetteAmount: -38
- VignetteMidpoint: 50
- WhiteBalance: Custom
- XMP-dc
- Creator: SAMURAEV
- Format: image/jpeg
- Rights: SAMURAEV
- XMP-x
- XMP-xmp
- CreateDate: 2013:07:14 16:28:56+04:00
- ModifyDate: 2013:07:16 19:49:10+04:00
- Rating: 0
- XMP-xmpMM
- Просмотров: 219
- Рейтинг: голосов еще нет
- Отзывов: 0
Получить код для блога
Вставка фотографии в текущем разрешении |
Вставка миниатюры |
HTML (для вставки в блог):
BBCode (для вставки в форум):
Ссылка на фото:
Ссылка на миниатюру:
- Послать ссылку другу
Комментарии к фотографии |