Уважаемые друзья и участники проекта iXBT.photo! К сожалению, 1 марта 2026 года проект iXBT.photo прекратит свою работу и будет закрыт. Мы высоко ценим ваше участие и тот вклад, который вы внесли в развитие нашего сообщества. Пожалуйста, не забудьте сохранить ваши фотографии до этой даты.
С уважением, команда iXBT.com
| 1/DSC_7455-1.jpg |
1/DSC_7455-1.jpg
- Раздел: Путешествия
- Дата съёмки: 07.07.2013 17:32
- Дата загрузки фото: 21.08.2013 08:44
- Оригинальная фотография: 4288 x 2848 (8,0 Мб)
- Технические характеристики:
- Фотоаппарат: Nikon D90
- Выдержка: 1/13
- Гиперфокальное расстояние: inf m
- Диафрагма: 4,8
- Светочувствительность: 1600
- Фокусное расстояние: 48,0 mm (35 mm equivalent: 48,0 mm)
- Полный EXIF
- Adobe
- ColorTransform: YCbCr
- Composite
- Aperture: 4,8
- CircleOfConfusion: 0,020 mm
- FOV: 41,0 deg
- Flash: Auto, Did not fire
- FocalLength35efl: 48,0 mm (35 mm equivalent: 48,0 mm)
- HyperfocalDistance: inf m
- LensID: AF-S DX VR Zoom-Nikkor 18-105mm f/3.5-5.6G ED
- ScaleFactor35efl: 1,5
- ShutterSpeed: 1/13
- ExifIFD
- ApertureValue: 4,8
- CFAPattern: [Green,Blue][Red,Green]
- Contrast: Normal
- CreateDate: 2013:07:07 17:32:01
- CustomRendered: Normal
- DateTimeOriginal: 2013:07:07 17:32:01
- DigitalZoomRatio: 1
- ExposureCompensation: 0
- ExposureMode: Auto
- ExposureProgram: Not Defined
- ExposureTime: 1/13
- FNumber: 4,8
- FocalLength: 48,0 mm
- FocalLengthIn35mmFormat: 72 mm
- GainControl: High gain up
- ISO: 1600
- LensInfo: 18-105mm f/3.5-5.6
- LensModel: 18.0-105.0 mm f/3.5-5.6
- LightSource: Unknown
- MaxApertureValue: 4,8
- MeteringMode: Multi-segment
- Saturation: Normal
- SceneCaptureType: Standard
- SceneType: Directly photographed
- SensingMethod: One-chip color area
- SensitivityType: Unknown
- SerialNumber: 6620826
- Sharpness: Normal
- ShutterSpeedValue: 1/13
- SubjectDistance: 0,67 m
- SubjectDistanceRange: Unknown
- WhiteBalance: Auto
- ICC-header
- ICC-meas
- ICC-view
- IFD0
- Make: NIKON CORPORATION
- Model: NIKON D90
- ModifyDate: 2013:08:14 11:06:47
- Software: Ver.1.00
- IFD1
- System
- XMP-aux
- ApproximateFocusDistance: 0,67
- ImageNumber: 7880
- Lens: 18.0-105.0 mm f/3.5-5.6
- LensID: 158
- XMP-crs
- AlreadyApplied: True
- BlueHue: 0
- BlueSaturation: 0
- Brightness: +55
- ChromaticAberrationB: 0
- ChromaticAberrationR: 0
- Clarity: +8
- ColorNoiseReduction: 25
- ColorNoiseReductionDetail: 50
- ColorTemperature: 3700
- Contrast: +33
- ConvertToGrayscale: False
- Defringe: 0
- Exposure: +0.12
- FillLight: 16
- GrainAmount: 0
- GreenHue: 0
- GreenSaturation: 0
- HasCrop: False
- HasSettings: True
- HighlightRecovery: 18
- HueAdjustmentAqua: 0
- HueAdjustmentBlue: 0
- HueAdjustmentGreen: 0
- HueAdjustmentMagenta: 0
- HueAdjustmentOrange: 0
- HueAdjustmentPurple: 0
- HueAdjustmentRed: 0
- HueAdjustmentYellow: 0
- LensManualDistortionAmount: 0
- LensProfileEnable: 0
- LensProfileSetup: LensDefaults
- LuminanceAdjustmentAqua: 0
- LuminanceAdjustmentBlue: 0
- LuminanceAdjustmentGreen: 0
- LuminanceAdjustmentMagenta: 0
- LuminanceAdjustmentOrange: 0
- LuminanceAdjustmentPurple: 0
- LuminanceAdjustmentRed: 0
- LuminanceAdjustmentYellow: 0
- LuminanceNoiseReductionContrast: 0
- LuminanceNoiseReductionDetail: 50
- LuminanceSmoothing: 2
- ParametricDarks: -30
- ParametricHighlightSplit: 75
- ParametricHighlights: +7
- ParametricLights: +7
- ParametricMidtoneSplit: 50
- ParametricShadowSplit: 25
- ParametricShadows: -19
- PerspectiveHorizontal: 0
- PerspectiveRotate: 0.0
- PerspectiveScale: 100
- PerspectiveVertical: 0
- PostCropVignetteAmount: 0
- ProcessVersion: 5.7
- RedHue: 0
- RedSaturation: 0
- Saturation: +5
- SaturationAdjustmentAqua: 0
- SaturationAdjustmentBlue: 0
- SaturationAdjustmentGreen: 0
- SaturationAdjustmentMagenta: 0
- SaturationAdjustmentOrange: 0
- SaturationAdjustmentPurple: 0
- SaturationAdjustmentRed: 0
- SaturationAdjustmentYellow: +15
- ShadowTint: 0
- Shadows: 5
- SharpenDetail: 32
- SharpenEdgeMasking: 0
- SharpenRadius: +1.0
- Sharpness: 68
- SplitToningBalance: 0
- SplitToningHighlightHue: 0
- SplitToningHighlightSaturation: 0
- SplitToningShadowHue: 0
- SplitToningShadowSaturation: 0
- Tint: +19
- ToneCurve: 0, 0, 32, 22, 64, 56, 128, 128, 192, 196, 255, 255
- ToneCurveName: Medium Contrast
- Version: 6.3
- Vibrance: +5
- VignetteAmount: 0
- WhiteBalance: As Shot
- XMP-exif
- DateTimeDigitized: 2013:07:07 17:32:01.00+04:00
- DateTimeOriginal: 2013:07:07 17:32:01.00+04:00
- ExifImageHeight: 2848
- ExifImageWidth: 4288
- FlashFired: False
- FlashFunction: False
- FlashMode: Auto
- FlashRedEyeMode: False
- FlashReturn: No return detection
- XMP-tiff
- ImageHeight: 2848
- ImageWidth: 4288
- XMP-xmp
- CreateDate: 2013:07:07 17:32:01.00+04:00
- ModifyDate: 2013:08:14 11:06:47+04:00
- Rating: 4
- Просмотров: 126
- Рейтинг: голосов еще нет
- Отзывов: 0
Получить код для блога
| Вставка фотографии в текущем разрешении |
Вставка миниатюры |
HTML (для вставки в блог):
BBCode (для вставки в форум):
Ссылка на фото:
Ссылка на миниатюру:
- Послать ссылку другу
| Комментарии к фотографии |