- Раздел: Репортаж
- Дата съёмки: 27.08.2013 11:44
- Дата загрузки фото: 18.09.2013 03:40
- Оригинальная фотография: 1920 x 1280 (1,9 Мб)
- Технические характеристики:
- Фотоаппарат: Canon EOS-1D X
- Выдержка: 1/1000
- Гиперфокальное расстояние: inf m
- Диафрагма: 8,0
- Светочувствительность: 640
- Фокусное расстояние: 24,0 mm (35 mm equivalent: 48,0 mm)
- Полный EXIF
- Adobe
- ColorTransform: YCbCr
- Composite
- Aperture: 8,0
- CircleOfConfusion: 0,011 mm
- FOV: 41,0 deg
- FocalLength35efl: 24,0 mm (35 mm equivalent: 48,0 mm)
- HyperfocalDistance: inf m
- LensID: Canon EF 24-70mm f/2.8L II USM
- ScaleFactor35efl: 2,7
- ShutterSpeed: 1/1000
- ExifIFD
- ApertureValue: 8,0
- ColorSpace: sRGB
- CreateDate: 2013:08:27 11:44:51
- CustomRendered: Normal
- DateTimeOriginal: 2013:08:27 11:44:51
- ExifImageHeight: 1280
- ExifImageWidth: 1920
- ExposureCompensation: 0
- ExposureMode: Manual
- ExposureProgram: Manual
- ExposureTime: 1/1000
- FNumber: 8,0
- Flash: Off, Did not fire
- FocalLength: 24,0 mm
- ISO: 640
- LensInfo: 24-70mm f/?
- LensModel: EF24-70mm f/2.8L II USM
- LensSerialNumber: 9515001231
- MaxApertureValue: 2,8
- MeteringMode: Center-weighted average
- RecommendedExposureIndex: 640
- SceneCaptureType: Standard
- SensitivityType: Recommended Exposure Index
- SerialNumber: 053011002397
- ShutterSpeedValue: 1/1000
- WhiteBalance: Auto
- ICC-header
- ICC-meas
- ICC-view
- IFD0
- Artist: Pavel "Myth" YB
- BitsPerSample: 8 8 8
- ImageHeight: 2583
- ImageWidth: 3874
- Make: Canon
- Model: Canon EOS-1D X
- ModifyDate: 2013:09:11 22:12:15
- Orientation: Horizontal (normal)
- PhotometricInterpretation: RGB
- SamplesPerPixel: 3
- IFD1
- IPTC
- By-line: Pavel "Myth" YB
- DateCreated: 2013:08:27
- System
- XMP-aux
- ApproximateFocusDistance: 7,32
- Firmware: 1.2.4
- FlashCompensation: 0
- ImageNumber: 0
- Lens: EF24-70mm f/2.8L II USM
- LensID: 495
- XMP-crs
- AlreadyApplied: True
- AutoLateralCA: 1
- Blacks2012: 0
- BlueHue: 0
- BlueSaturation: 0
- CameraProfile: Camera Standard
- Clarity2012: +29
- ColorNoiseReduction: 25
- ColorNoiseReductionDetail: 50
- ColorTemperature: 5650
- Contrast2012: 0
- ConvertToGrayscale: False
- CropAngle: 1.96173
- CropBottom: 0.991595
- CropConstrainToWarp: 0
- CropLeft: 0.071127
- CropRight: 0.801108
- CropTop: 0.206174
- DefringeGreenAmount: 0
- DefringeGreenHueHi: 60
- DefringeGreenHueLo: 40
- DefringePurpleAmount: 0
- DefringePurpleHueHi: 70
- DefringePurpleHueLo: 30
- Exposure2012: +0.32
- GrainAmount: 0
- GreenHue: 0
- GreenSaturation: 0
- HasCrop: True
- HasSettings: True
- Highlights2012: 0
- HueAdjustmentAqua: 0
- HueAdjustmentBlue: 0
- HueAdjustmentGreen: 0
- HueAdjustmentMagenta: 0
- HueAdjustmentOrange: 0
- HueAdjustmentPurple: 0
- HueAdjustmentRed: 0
- HueAdjustmentYellow: 0
- LensManualDistortionAmount: 0
- LensProfileEnable: 0
- LensProfileSetup: LensDefaults
- LuminanceAdjustmentAqua: 0
- LuminanceAdjustmentBlue: 0
- LuminanceAdjustmentGreen: 0
- LuminanceAdjustmentMagenta: 0
- LuminanceAdjustmentOrange: 0
- LuminanceAdjustmentPurple: 0
- LuminanceAdjustmentRed: 0
- LuminanceAdjustmentYellow: 0
- LuminanceSmoothing: 0
- ParametricDarks: 0
- ParametricHighlightSplit: 75
- ParametricHighlights: 0
- ParametricLights: 0
- ParametricMidtoneSplit: 50
- ParametricShadowSplit: 25
- ParametricShadows: 0
- PerspectiveAspect: 0
- PerspectiveHorizontal: 0
- PerspectiveRotate: 0.0
- PerspectiveScale: 100
- PerspectiveUpright: 0
- PerspectiveVertical: 0
- PostCropVignetteAmount: 0
- ProcessVersion: 6.7
- RedHue: 0
- RedSaturation: 0
- Saturation: 0
- SaturationAdjustmentAqua: 0
- SaturationAdjustmentBlue: 0
- SaturationAdjustmentGreen: 0
- SaturationAdjustmentMagenta: 0
- SaturationAdjustmentOrange: 0
- SaturationAdjustmentPurple: 0
- SaturationAdjustmentRed: 0
- SaturationAdjustmentYellow: 0
- ShadowTint: 0
- Shadows2012: 0
- SharpenDetail: 25
- SharpenEdgeMasking: 0
- SharpenRadius: +1.0
- Sharpness: 25
- SplitToningBalance: 0
- SplitToningHighlightHue: 0
- SplitToningHighlightSaturation: 0
- SplitToningShadowHue: 0
- SplitToningShadowSaturation: 0
- Tint: +10
- ToneCurveName2012: Linear
- ToneCurvePV2012: 0, 0, 255, 255
- ToneCurvePV2012Blue: 0, 0, 255, 255
- ToneCurvePV2012Green: 0, 0, 255, 255
- ToneCurvePV2012Red: 0, 0, 255, 255
- Version: 8.1
- Vibrance: 0
- VignetteAmount: 0
- WhiteBalance: As Shot
- Whites2012: 0
- XMP-dc
- Creator: Pavel "Myth" YB
- Format: image/jpeg
- XMP-xmp
- ModifyDate: 2013:09:11 22:12:15+04:00
- Rating: 5
- XMP-xmpMM
- Просмотров: 505
- Рейтинг: голосов еще нет
- Отзывов: 0