- Раздел: Хобби
- Дата съёмки: 25.07.2012 13:33
- Дата загрузки фото: 06.10.2013 12:33
- Оригинальная фотография: 2774 x 2067 (354 Кб)
- Технические характеристики:
- Фотоаппарат: Nikon D800
- Выдержка: 0,6
- Гиперфокальное расстояние: inf m
- Диафрагма: 13,0
- Светочувствительность: 50
- Фокусное расстояние: 150,0 mm (35 mm equivalent: 150,0 mm)
- Экспокоррекция: +2/3
- Полный EXIF
- Adobe
- ColorTransform: YCbCr
- Composite
- Aperture: 13,0
- CircleOfConfusion: 0,030 mm
- FOV: 13,0 deg
- FocalLength35efl: 150,0 mm (35 mm equivalent: 150,0 mm)
- HyperfocalDistance: inf m
- LensID: Sigma 150mm F2.8 EX DG APO Macro HSM
- ScaleFactor35efl: 1,0
- ShutterSpeed: 0,6
- ExifIFD
- ApertureValue: 13,0
- CFAPattern: [Red,Green][Green,Blue]
- Contrast: Normal
- CreateDate: 2012:07:25 13:33:27
- CustomRendered: Normal
- DateTimeOriginal: 2012:07:25 13:33:27
- DigitalZoomRatio: 1
- ExposureCompensation: +2/3
- ExposureMode: Manual
- ExposureProgram: Manual
- ExposureTime: 0,6
- FNumber: 13,0
- Flash: Off, Did not fire
- FocalLength: 150,0 mm
- FocalLengthIn35mmFormat: 150 mm
- GainControl: None
- ISO: 50
- LensInfo: 150mm f/2.8
- LensModel: 150.0 mm f/2.8
- LightSource: Unknown
- MaxApertureValue: 2,8
- MeteringMode: Center-weighted average
- Saturation: Normal
- SceneCaptureType: Standard
- SceneType: Directly photographed
- SensingMethod: One-chip color area
- SensitivityType: Recommended Exposure Index
- SerialNumber: 8002139
- Sharpness: Normal
- ShutterSpeedValue: 0,6
- SubjectDistanceRange: Unknown
- UserComment: illya@xdevs.com (C) TSEMENKO ILYA
- WhiteBalance: Auto
- ICC-header
- IFD0
- Artist: Tsemenko Illya xDevs.com
- Copyright: (C)TIN
- Make: NIKON CORPORATION
- Model: NIKON D800
- ModifyDate: 2012:07:26 02:13:47
- IFD1
- IPTC
- By-line: Tsemenko Illya xDevs.com
- CopyrightNotice: (C)TIN
- DateCreated: 2012:07:25
- System
- XMP-aux
- ApproximateFocusDistance: 0,71
- ImageNumber: 6640
- Lens: 150.0 mm f/2.8
- LensID: 72
- XMP-crs
- AlreadyApplied: True
- AutoLateralCA: 0
- Blacks2012: +1
- BlueHue: 0
- BlueSaturation: 0
- Brightness: 0
- CameraProfile: Embedded
- Clarity: 0
- Clarity2012: 0
- ColorNoiseReduction: 0
- Contrast: 0
- Contrast2012: +12
- ConvertToGrayscale: False
- CropAngle: 0
- CropBottom: 1
- CropConstrainToWarp: 0
- CropHeight: 2067
- CropLeft: 0.415966
- CropRight: 0.792917
- CropTop: 0.579137
- CropUnit: pixels
- CropWidth: 2774
- Defringe: 0
- Exposure: 0.00
- Exposure2012: -1.05
- FillLight: 0
- GrainAmount: 0
- GreenHue: 0
- GreenSaturation: 0
- HasCrop: True
- HasSettings: True
- HighlightRecovery: 0
- Highlights2012: -24
- HueAdjustmentAqua: 0
- HueAdjustmentBlue: 0
- HueAdjustmentGreen: 0
- HueAdjustmentMagenta: 0
- HueAdjustmentOrange: 0
- HueAdjustmentPurple: 0
- HueAdjustmentRed: 0
- HueAdjustmentYellow: 0
- IncrementalTemperature: -9
- IncrementalTint: +6
- LensManualDistortionAmount: 0
- LensProfileEnable: 0
- LensProfileSetup: LensDefaults
- LuminanceAdjustmentAqua: 0
- LuminanceAdjustmentBlue: 0
- LuminanceAdjustmentGreen: 0
- LuminanceAdjustmentMagenta: 0
- LuminanceAdjustmentOrange: 0
- LuminanceAdjustmentPurple: 0
- LuminanceAdjustmentRed: 0
- LuminanceAdjustmentYellow: 0
- LuminanceSmoothing: 0
- ParametricDarks: 0
- ParametricHighlightSplit: 75
- ParametricHighlights: 0
- ParametricLights: 0
- ParametricMidtoneSplit: 50
- ParametricShadowSplit: 25
- ParametricShadows: 0
- PerspectiveHorizontal: 0
- PerspectiveRotate: 0.0
- PerspectiveScale: 100
- PerspectiveVertical: 0
- PostCropVignetteAmount: 0
- ProcessVersion: 6.7
- RedHue: 0
- RedSaturation: 0
- Saturation: 0
- SaturationAdjustmentAqua: 0
- SaturationAdjustmentBlue: 0
- SaturationAdjustmentGreen: 0
- SaturationAdjustmentMagenta: 0
- SaturationAdjustmentOrange: 0
- SaturationAdjustmentPurple: 0
- SaturationAdjustmentRed: 0
- SaturationAdjustmentYellow: 0
- ShadowTint: 0
- Shadows: 0
- Shadows2012: +24
- SharpenDetail: 25
- SharpenEdgeMasking: 0
- SharpenRadius: +1.0
- Sharpness: 0
- SplitToningBalance: 0
- SplitToningHighlightHue: 0
- SplitToningHighlightSaturation: 0
- SplitToningShadowHue: 0
- SplitToningShadowSaturation: 0
- ToneCurve: 0, 0, 255, 255
- ToneCurveBlue: 0, 0, 255, 255
- ToneCurveGreen: 0, 0, 255, 255
- ToneCurveName: Linear
- ToneCurveName2012: Linear
- ToneCurvePV2012: 0, 0, 255, 255
- ToneCurvePV2012Blue: 0, 0, 255, 255
- ToneCurvePV2012Green: 0, 0, 255, 255
- ToneCurvePV2012Red: 0, 0, 255, 255
- ToneCurveRed: 0, 0, 255, 255
- Version: 7.0
- Vibrance: 0
- VignetteAmount: 0
- WhiteBalance: Custom
- Whites2012: +27
- XMP-dc
- Creator: Tsemenko Illya xDevs.com
- Format: image/jpeg
- Rights: (C)TIN
- XMP-xmp
- CreateDate: 2012:07:25 13:33:27.50
- ModifyDate: 2012:07:26 02:13:47+08:00
- XMP-xmpMM
- Просмотров: 183
- Рейтинг: голосов еще нет
- Отзывов: 0