- Раздел: Путешествия
- Дата съёмки: 10.11.2013 12:53
- Дата загрузки фото: 02.12.2013 16:00
- Оригинальная фотография: 2912 x 4368 (1,7 Мб)
- Технические характеристики:
- Фотоаппарат: Canon EOS 5D
- Выдержка: 1/125
- Гиперфокальное расстояние: inf m
- Диафрагма: 11,0
- Светочувствительность: 100
- Фокусное расстояние: 28,0 mm (35 mm equivalent: 28,0 mm)
- Полный EXIF
- Adobe
- ColorTransform: YCbCr
- Composite
- Aperture: 11,0
- CircleOfConfusion: 0,030 mm
- FOV: 65,0 deg
- Flash: Off, Did not fire
- FocalLength35efl: 28,0 mm (35 mm equivalent: 28,0 mm)
- HyperfocalDistance: inf m
- ScaleFactor35efl: 1,0
- ShutterSpeed: 1/125
- ExifIFD
- ApertureValue: 11,0
- ColorSpace: Uncalibrated
- CreateDate: 2013:11:10 12:53:51
- CustomRendered: Normal
- DateTimeOriginal: 2013:11:10 12:53:51
- ExifImageHeight: 4368
- ExifImageWidth: 2912
- ExposureCompensation: 0
- ExposureMode: Auto
- ExposureProgram: Aperture-priority AE
- ExposureTime: 1/125
- FNumber: 11,0
- FocalLength: 28,0 mm
- ISO: 100
- MaxApertureValue: 3,5
- MeteringMode: Multi-segment
- SceneCaptureType: Standard
- ShutterSpeedValue: 1/125
- WhiteBalance: Auto
- ICC-header
- IFD0
- Make: Canon
- Model: Canon EOS 5D
- ModifyDate: 2013:12:02 18:47:26
- Orientation: Horizontal (normal)
- TimeZoneOffset: 7 7
- IFD1
- IPTC
- System
- XMP-aux
- Firmware: 1.1.1
- FlashCompensation: 0
- ImageNumber: 85
- Lens: EF28-105mm f/3.5-4.5 USM
- LensInfo: 28-105mm f/?
- SerialNumber: 2211200337
- XMP-crs
- AlreadyApplied: True
- BlueHue: 0
- BlueSaturation: 0
- Brightness: +27
- CameraProfile: ACR 3.3
- ChromaticAberrationB: 0
- ChromaticAberrationR: 0
- ColorNoiseReduction: 25
- ColorTemperature: 5050
- Contrast: +38
- ConvertToGrayscale: False
- Exposure: 0.00
- FillLight: 0
- GreenHue: 0
- GreenSaturation: 0
- HasCrop: False
- HasSettings: True
- HighlightRecovery: 21
- HueAdjustmentAqua: 0
- HueAdjustmentBlue: 0
- HueAdjustmentGreen: 0
- HueAdjustmentMagenta: 0
- HueAdjustmentOrange: 0
- HueAdjustmentPurple: 0
- HueAdjustmentRed: 0
- HueAdjustmentYellow: 0
- LuminanceAdjustmentAqua: 0
- LuminanceAdjustmentBlue: 0
- LuminanceAdjustmentGreen: 0
- LuminanceAdjustmentMagenta: 0
- LuminanceAdjustmentOrange: 0
- LuminanceAdjustmentPurple: 0
- LuminanceAdjustmentRed: 0
- LuminanceAdjustmentYellow: 0
- LuminanceSmoothing: 0
- ParametricDarks: 0
- ParametricHighlightSplit: 75
- ParametricHighlights: 0
- ParametricLights: 0
- ParametricMidtoneSplit: 50
- ParametricShadowSplit: 25
- ParametricShadows: 0
- RawFileName: IMG_1813.CR2
- RedHue: 0
- RedSaturation: 0
- Saturation: 0
- SaturationAdjustmentAqua: 0
- SaturationAdjustmentBlue: 0
- SaturationAdjustmentGreen: 0
- SaturationAdjustmentMagenta: 0
- SaturationAdjustmentOrange: 0
- SaturationAdjustmentPurple: 0
- SaturationAdjustmentRed: 0
- SaturationAdjustmentYellow: 0
- ShadowTint: 0
- Shadows: 5
- Sharpness: 25
- SplitToningBalance: 0
- SplitToningHighlightHue: 0
- SplitToningHighlightSaturation: 0
- SplitToningShadowHue: 0
- SplitToningShadowSaturation: 0
- Tint: +5
- ToneCurve: 0, 0, 32, 22, 64, 56, 128, 128, 192, 196, 255, 255
- ToneCurveName: Medium Contrast
- Version: 4.0
- Vibrance: 0
- VignetteAmount: 0
- WhiteBalance: As Shot
- XMP-dc
- XMP-exif
- ColorSpace: Unknown (-1)
- DateTimeDigitized: 2013:11:10 12:53:51+07:00
- DateTimeOriginal: 2013:11:10 12:53:51+07:00
- FlashFired: False
- FlashFunction: False
- FlashMode: Off
- FlashRedEyeMode: False
- FlashReturn: No return detection
- XMP-tiff
- XMP-xmp
- CreateDate: 2013:12:02 18:47:26+07:00
- ModifyDate: 2013:12:02 18:47:26+07:00
- Rating: 0
- XMP-xmpMM
- DerivedFrom:
- Просмотров: 177
- Рейтинг: голосов еще нет
- Отзывов: 0