- Раздел: Другое, разное
- Дата съёмки: 06.12.2013 10:58
- Дата загрузки фото: 08.12.2013 00:31
- Оригинальная фотография: 3648 x 2108 (4,5 Мб)
- Технические характеристики:
- Фотоаппарат: Canon PowerShot S95
- Выдержка: 1/1000
- Гиперфокальное расстояние: inf m
- Диафрагма: 4,9
- Светочувствительность: 80
- Фокусное расстояние: 22,0 mm (35 mm equivalent: 110,0 mm)
- Экспокоррекция: -1/3
- Полный EXIF
- Adobe
- ColorTransform: YCbCr
- Composite
- Aperture: 4,9
- CircleOfConfusion: 0,006 mm
- DOF: inf (0,00 m - inf)
- FOV: 18,0 deg
- FocalLength35efl: 22,0 mm (35 mm equivalent: 110,0 mm)
- HyperfocalDistance: inf m
- ScaleFactor35efl: 5,1
- ShutterSpeed: 1/1000
- ExifIFD
- ApertureValue: 4,9
- CreateDate: 2013:12:06 10:58:33
- CustomRendered: Normal
- DateTimeOriginal: 2013:12:06 10:58:33
- DigitalZoomRatio: 1
- ExposureCompensation: -1/3
- ExposureMode: Manual
- ExposureTime: 1/1000
- FNumber: 4,9
- Flash: Off, Did not fire
- FocalLength: 22,5 mm
- ISO: 80
- LensInfo: 6-22.5mm f/?
- LensModel: 6.0-22.5 mm
- MaxApertureValue: 4,9
- MeteringMode: Multi-segment
- SceneCaptureType: Standard
- SensingMethod: One-chip color area
- SensitivityType: Standard Output Sensitivity and Recommended Exposure Index
- ShutterSpeedValue: 1/1000
- SubjectDistance: 25,7 m
- WhiteBalance: Auto
- ICC-header
- ICC-meas
- ICC-view
- IFD0
- Make: Canon
- Model: Canon PowerShot S95
- ModifyDate: 2013:12:07 20:58:55
- IFD1
- IPTC
- DateCreated: 2013:12:06
- System
- XMP-aux
- ApproximateFocusDistance: 25,7
- Firmware: 1.00
- FlashCompensation: 0
- Lens: 6.0-22.5 mm
- XMP-crs
- AlreadyApplied: True
- BlueHue: 0
- BlueSaturation: 0
- Brightness: +24
- ChromaticAberrationB: 0
- ChromaticAberrationR: 0
- Clarity: +35
- ColorNoiseReduction: 35
- ColorNoiseReductionDetail: 50
- ColorTemperature: 6579
- Contrast: +45
- ConvertToGrayscale: False
- CropAngle: 0
- CropBottom: 0.770357
- CropConstrainToWarp: 0
- CropHeight: 2108
- CropLeft: 0
- CropRight: 1
- CropTop: 0
- CropUnit: pixels
- CropWidth: 3648
- Defringe: 0
- Exposure: +0.05
- FillLight: 62
- GrainAmount: 0
- GreenHue: 0
- GreenSaturation: 0
- HasCrop: True
- HasSettings: True
- HighlightRecovery: 27
- HueAdjustmentAqua: 0
- HueAdjustmentBlue: -9
- HueAdjustmentGreen: 0
- HueAdjustmentMagenta: 0
- HueAdjustmentOrange: +2
- HueAdjustmentPurple: 0
- HueAdjustmentRed: 0
- HueAdjustmentYellow: +2
- LensManualDistortionAmount: 0
- LensProfileChromaticAberrationScale: 100
- LensProfileDistortionScale: 100
- LensProfileEnable: 1
- LensProfileFilename: Canon PowerShot S95 - RAW.lcp
- LensProfileSetup: LensDefaults
- LensProfileVignettingScale: 100
- LuminanceAdjustmentAqua: 0
- LuminanceAdjustmentBlue: 0
- LuminanceAdjustmentGreen: 0
- LuminanceAdjustmentMagenta: 0
- LuminanceAdjustmentOrange: 0
- LuminanceAdjustmentPurple: 0
- LuminanceAdjustmentRed: 0
- LuminanceAdjustmentYellow: 0
- LuminanceNoiseReductionContrast: 0
- LuminanceNoiseReductionDetail: 75
- LuminanceSmoothing: 24
- ParametricDarks: +11
- ParametricHighlightSplit: 75
- ParametricHighlights: 0
- ParametricLights: +17
- ParametricMidtoneSplit: 50
- ParametricShadowSplit: 25
- ParametricShadows: -6
- PerspectiveHorizontal: 0
- PerspectiveRotate: 0.0
- PerspectiveScale: 100
- PerspectiveVertical: 0
- PostCropVignetteAmount: 0
- ProcessVersion: 5.7
- RedHue: 0
- RedSaturation: 0
- Saturation: +1
- SaturationAdjustmentAqua: 0
- SaturationAdjustmentBlue: -17
- SaturationAdjustmentGreen: 0
- SaturationAdjustmentMagenta: 0
- SaturationAdjustmentOrange: 0
- SaturationAdjustmentPurple: 0
- SaturationAdjustmentRed: 0
- SaturationAdjustmentYellow: 0
- ShadowTint: 0
- Shadows: 8
- SharpenDetail: 45
- SharpenEdgeMasking: 0
- SharpenRadius: +1.4
- Sharpness: 36
- SplitToningBalance: 0
- SplitToningHighlightHue: 0
- SplitToningHighlightSaturation: 0
- SplitToningShadowHue: 0
- SplitToningShadowSaturation: 0
- Tint: +10
- ToneCurve: 0, 0, 32, 22, 64, 56, 128, 128, 192, 196, 255, 255
- ToneCurveName: Medium Contrast
- Version: 6.6
- Vibrance: +16
- VignetteAmount: 0
- WhiteBalance: Custom
- XMP-dc
- XMP-xmp
- ModifyDate: 2013:12:07 20:58:55+02:00
- XMP-xmpMM
- Просмотров: 415
- Рейтинг: голосов еще нет
- Отзывов: 0