- Раздел: Тесты фототехники
- Дата съёмки: 11.12.2013 16:32
- Дата загрузки фото: 14.12.2013 18:54
- Оригинальная фотография: 4800 x 3200 (4,2 Мб)
- Технические характеристики:
- Фотоаппарат: Sony ILCE-7R
- Выдержка: 1/5
- Гиперфокальное расстояние: inf m
- Диафрагма: 5,6
- Светочувствительность: 200
- Фокусное расстояние: 24,0 mm (35 mm equivalent: 24,0 mm)
- Полный EXIF
- Composite
- Aperture: 5,6
- CircleOfConfusion: 0,020 mm
- FOV: 73,0 deg
- Flash: Off, Did not fire
- FocalLength35efl: 24,0 mm (35 mm equivalent: 24,0 mm)
- HyperfocalDistance: inf m
- LensID: 18-35mm F1.8
- ScaleFactor35efl: 1,5
- ShutterSpeed: 1/5
- ExifIFD
- BrightnessValue: 0,81796875
- ColorSpace: sRGB
- CompressedBitsPerPixel: 8
- Contrast: Normal
- CreateDate: 2013:12:11 16:32:29
- CustomRendered: Normal
- DateTimeOriginal: 2013:12:11 16:32:29
- DigitalZoomRatio: 1
- ExifImageHeight: 3200
- ExifImageWidth: 4800
- ExposureCompensation: 0
- ExposureMode: Auto
- ExposureProgram: Aperture-priority AE
- ExposureTime: 1/5
- FNumber: 5,6
- FocalLength: 24,0 mm
- FocalLengthIn35mmFormat: 36 mm
- ISO: 200
- LensInfo: 18-35mm f/1.8
- LensModel: 18-35mm F1.8
- LightSource: Other
- MaxApertureValue: 1,7
- MeteringMode: Multi-segment
- RecommendedExposureIndex: 200
- Saturation: Normal
- SceneCaptureType: Standard
- SceneType: Directly photographed
- SensitivityType: Recommended Exposure Index
- Sharpness: Normal
- UserComment:
- WhiteBalance: Manual
- IFD0
- ImageDescription:
- Make: SONY
- Model: ILCE-7R
- ModifyDate: 2013:12:11 16:32:29
- Orientation: Horizontal (normal)
- OtherImageLength: 969850
- OtherImageStart: 148160
- Software: DxO Optics Pro 9.1 build 32
- IFD1
- Software: ILCE-7R v1.01
- SubfileType: Reduced-resolution image
- PrintIM
- Sony
- Anti-Blur: On (Shooting)
- AutoPortraitFramed: No
- Brightness: 0
- ColorCompensationFilter: 0
- ColorMode: Standard
- ColorReproduction: dard
- ColorTemperature: 5500
- Contrast: 0
- DistortionCorrection: Off
- DynamicRangeOptimizer: Auto
- ExposureMode: Aperture Priority
- FaceInfoLength: 13111
- FaceInfoOffset: 12338
- FacesDetected: 17220
- FileFormat: Unknown (3 3 1 0)
- FlashExposureComp: 6,357828776e-06
- FlashLevel: Normal
- HDR: Off; Uncorrected image
- HighISONoiseReduction: Off
- HighISONoiseReduction2: n/a
- ImageStabilization: On
- IntelligentAuto: Off
- LateralChromaticAberration: Auto
- LensSpec: Unknown (35 1800 0 0 0 00)
- LensType: Unknown (61321)
- LongExposureNoiseReduction: On (unused)
- MultiFrameNoiseReduction: Off
- PanoramaCropBottom: 0
- PanoramaCropLeft: 0
- PanoramaCropRight: 0
- PanoramaCropTop: 0
- PanoramaDirection: Right to Left
- PanoramaFrameHeight: 0
- PanoramaFrameWidth: 0
- PanoramaFullHeight: 0
- PanoramaFullWidth: 0
- PanoramaSourceHeight: 0
- PanoramaSourceWidth: 0
- PictureEffect: Off
- Quality: RAW + JPEG
- Rating: 0
- ReleaseMode: Normal
- Saturation: 0
- SceneMode: Standard
- SequenceNumber: Single
- Sharpness: 0
- SoftSkinEffect: Off
- SonyDateTime: :12:11 16:32:29
- SonyImageHeight: 0
- SonyImageWidth: 3026
- SonyModelID: Unknown (311)
- Teleconverter: None
- VignettingCorrection: Auto
- WBShiftAB_GM: 0 6179145
- WhiteBalance: Custom
- WhiteBalanceFineTune: 0
- ZoneMatching: ISO Setting Used
- System
- XMP-aux
- Lens: 18-35mm F1.8
- LensID: 61321
- XMP-crs
- AlreadyApplied: True
- AutoLateralCA: 0
- AutoWhiteVersion: 134348800
- Blacks2012: +62
- BlueHue: 0
- BlueSaturation: 0
- Clarity2012: 0
- ColorNoiseReduction: 25
- ColorNoiseReductionDetail: 50
- ColorNoiseReductionSmoothness: 50
- ColorTemperature: 6800
- Contrast2012: +24
- ConvertToGrayscale: False
- DefringeGreenAmount: 0
- DefringeGreenHueHi: 60
- DefringeGreenHueLo: 40
- DefringePurpleAmount: 0
- DefringePurpleHueHi: 70
- DefringePurpleHueLo: 30
- Exposure2012: -0.40
- GrainAmount: 0
- GreenHue: 0
- GreenSaturation: 0
- HasCrop: False
- HasSettings: True
- Highlights2012: -51
- HueAdjustmentAqua: 0
- HueAdjustmentBlue: 0
- HueAdjustmentGreen: 0
- HueAdjustmentMagenta: 0
- HueAdjustmentOrange: 0
- HueAdjustmentPurple: 0
- HueAdjustmentRed: 0
- HueAdjustmentYellow: 0
- LensManualDistortionAmount: 0
- LensProfileEnable: 0
- LensProfileSetup: LensDefaults
- LuminanceAdjustmentAqua: 0
- LuminanceAdjustmentBlue: 0
- LuminanceAdjustmentGreen: 0
- LuminanceAdjustmentMagenta: 0
- LuminanceAdjustmentOrange: 0
- LuminanceAdjustmentPurple: 0
- LuminanceAdjustmentRed: 0
- LuminanceAdjustmentYellow: 0
- LuminanceSmoothing: 0
- ParametricDarks: 0
- ParametricHighlightSplit: 75
- ParametricHighlights: 0
- ParametricLights: 0
- ParametricMidtoneSplit: 50
- ParametricShadowSplit: 25
- ParametricShadows: 0
- PerspectiveAspect: 0
- PerspectiveHorizontal: 0
- PerspectiveRotate: 0.0
- PerspectiveScale: 100
- PerspectiveUpright: 0
- PerspectiveVertical: 0
- PostCropVignetteAmount: 0
- ProcessVersion: 6.7
- RawFileName: DSC00195p24f56.ARW
- RedHue: 0
- RedSaturation: 0
- SaturationAdjustmentAqua: 0
- SaturationAdjustmentBlue: 0
- SaturationAdjustmentGreen: 0
- SaturationAdjustmentMagenta: 0
- SaturationAdjustmentOrange: 0
- SaturationAdjustmentPurple: 0
- SaturationAdjustmentRed: 0
- SaturationAdjustmentYellow: 0
- ShadowTint: 0
- Shadows2012: +59
- SharpenDetail: 25
- SharpenEdgeMasking: 0
- SharpenRadius: +1.0
- Sharpness: 25
- SplitToningBalance: 0
- SplitToningHighlightHue: 0
- SplitToningHighlightSaturation: 0
- SplitToningShadowHue: 0
- SplitToningShadowSaturation: 0
- Tint: +36
- ToneCurveName2012: Linear
- ToneCurvePV2012: 0, 0, 255, 255
- ToneCurvePV2012Blue: 0, 0, 255, 255
- ToneCurvePV2012Green: 0, 0, 255, 255
- ToneCurvePV2012Red: 0, 0, 255, 255
- Version: 8.3
- Vibrance: 0
- VignetteAmount: 0
- Whites2012: 0
- XMP-dc
- XMP-exif
- ApertureValue: 5,6
- FlashFired: False
- FlashFunction: False
- FlashMode: Off
- FlashRedEyeMode: False
- FlashReturn: No return detection
- SensitivityType: 2
- ShutterSpeedValue: 1/5
- XMP-tiff
- XMP-xmp
- CreatorTool: ILCE-7R v1.01
- XMP-xmpMM
- Просмотров: 503
- Рейтинг: голосов еще нет
- Отзывов: 0