- Раздел: Репортаж
- Дата съёмки: 01.01.2014 15:00
- Дата загрузки фото: 01.01.2014 16:50
- Оригинальная фотография: 1500 x 1125 (650 Кб)
- Технические характеристики:
- Фотоаппарат: Canon PowerShot SX100 IS
- Выдержка: 1/200
- Гиперфокальное расстояние: inf m
- Диафрагма: 3,5
- Светочувствительность: 80
- Фокусное расстояние: 20,0 mm (35 mm equivalent: 260,0 mm)
- Экспокоррекция: -2/3
- Полный EXIF
- Adobe
- ColorTransform: YCbCr
- Composite
- Aperture: 3,5
- CircleOfConfusion: 0,002 mm
- FOV: 7,0 deg
- Flash: Off, Did not fire
- FocalLength35efl: 20,0 mm (35 mm equivalent: 260,0 mm)
- HyperfocalDistance: inf m
- ScaleFactor35efl: 13,2
- ShutterSpeed: 1/200
- ExifIFD
- ApertureValue: 3,5
- ColorSpace: sRGB
- CreateDate: 2014:01:01 15:00:10
- CustomRendered: Normal
- DateTimeOriginal: 2014:01:01 15:00:10
- DigitalZoomRatio: 1
- ExifImageHeight: 1125
- ExifImageWidth: 1500
- ExposureCompensation: -2/3
- ExposureMode: Manual
- ExposureTime: 1/200
- FNumber: 3,5
- FocalLength: 20,1 mm
- ISO: 80
- MaxApertureValue: 3,5
- MeteringMode: Multi-segment
- SceneCaptureType: Standard
- SensingMethod: One-chip color area
- ShutterSpeedValue: 1/200
- WhiteBalance: Auto
- ICC-header
- ICC-meas
- ICC-view
- IFD0
- Make: Canon
- Model: Canon PowerShot SX100 IS
- ModifyDate: 2014:01:01 16:39:12
- Orientation: Horizontal (normal)
- IFD1
- IPTC
- System
- XMP-aux
- Firmware: 1.00
- FlashCompensation: 0
- Lens: 6.0-60.0 mm
- LensInfo: 6-60mm f/?
- XMP-crs
- AlreadyApplied: True
- BlueHue: 0
- BlueSaturation: 0
- Brightness: 0
- CameraProfile: Embedded
- ChromaticAberrationB: 0
- ChromaticAberrationR: 0
- Clarity: 0
- ColorNoiseReduction: 0
- Contrast: 0
- ConvertToGrayscale: False
- Defringe: 0
- Exposure: 0.00
- FillLight: 0
- GreenHue: 0
- GreenSaturation: 0
- HasCrop: False
- HasSettings: True
- HighlightRecovery: 0
- HueAdjustmentAqua: 0
- HueAdjustmentBlue: 0
- HueAdjustmentGreen: 0
- HueAdjustmentMagenta: 0
- HueAdjustmentOrange: 0
- HueAdjustmentPurple: 0
- HueAdjustmentRed: 0
- HueAdjustmentYellow: 0
- IncrementalTemperature: +9
- IncrementalTint: -21
- LuminanceAdjustmentAqua: 0
- LuminanceAdjustmentBlue: 0
- LuminanceAdjustmentGreen: 0
- LuminanceAdjustmentMagenta: 0
- LuminanceAdjustmentOrange: 0
- LuminanceAdjustmentPurple: 0
- LuminanceAdjustmentRed: 0
- LuminanceAdjustmentYellow: 0
- LuminanceSmoothing: 0
- ParametricDarks: +18
- ParametricHighlightSplit: 75
- ParametricHighlights: 0
- ParametricLights: 0
- ParametricMidtoneSplit: 50
- ParametricShadowSplit: 25
- ParametricShadows: 0
- RawFileName: IMG_2881.JPG
- RedHue: 0
- RedSaturation: 0
- Saturation: 0
- SaturationAdjustmentAqua: 0
- SaturationAdjustmentBlue: 0
- SaturationAdjustmentGreen: 0
- SaturationAdjustmentMagenta: 0
- SaturationAdjustmentOrange: 0
- SaturationAdjustmentPurple: 0
- SaturationAdjustmentRed: 0
- SaturationAdjustmentYellow: 0
- ShadowTint: 0
- Shadows: 0
- SharpenDetail: 25
- SharpenEdgeMasking: 0
- SharpenRadius: +1.0
- Sharpness: 0
- SplitToningBalance: 0
- SplitToningHighlightHue: 0
- SplitToningHighlightSaturation: 0
- SplitToningShadowHue: 0
- SplitToningShadowSaturation: 0
- ToneCurve: 0, 0, 255, 255
- ToneCurveName: Linear
- Version: 4.4.1
- Vibrance: +29
- VignetteAmount: 0
- XMP-dc
- XMP-exif
- DateTimeDigitized: 2014:01:01 15:00:10+03:00
- DateTimeOriginal: 2014:01:01 15:00:10+03:00
- FlashFired: False
- FlashFunction: False
- FlashMode: Off
- FlashRedEyeMode: False
- FlashReturn: No return detection
- XMP-tiff
- XMP-xmp
- CreateDate: 2014:01:01 15:00:10+03:00
- ModifyDate: 2014:01:01 16:39:12+03:00
- Rating: 0
- XMP-xmpMM
- Просмотров: 1699
- Рейтинг: голосов еще нет
- Отзывов: 1