DSC01964-5.jpg |
![](img/title-line.gif) |
![](img/title-shadow.gif) | |
DSC01964-5.jpg
- Раздел: Другое, разное
- Дата съёмки: 11.07.2013 17:03
- Дата загрузки фото: 03.01.2014 18:03
- Оригинальная фотография: 3074 x 3074 (3,2 Мб)
- Технические характеристики:
- Фотоаппарат: Sony NEX-5N
- Выдержка: 1/200
- Светочувствительность: 100
- Полный EXIF
- Adobe
- ColorTransform: YCbCr
- Composite
- ShutterSpeed: 1/200
- ExifIFD
- BrightnessValue: 1,571875
- Contrast: Normal
- CreateDate: 2013:07:11 17:03:07
- CustomRendered: Normal
- DateTimeOriginal: 2013:07:11 17:03:07
- ExposureCompensation: 0
- ExposureMode: Auto
- ExposureProgram: Aperture-priority AE
- ExposureTime: 1/200
- Flash: Off, Did not fire
- ISO: 100
- LensModel: ----
- LightSource: Daylight
- MaxApertureValue: 1,0
- MeteringMode: Multi-segment
- RecommendedExposureIndex: 100
- Saturation: Normal
- SceneCaptureType: Standard
- SceneType: Directly photographed
- SensitivityType: Recommended Exposure Index
- Sharpness: Normal
- ShutterSpeedValue: 1/200
- WhiteBalance: Manual
- ICC-header
- ICC-meas
- ICC-view
- IFD0
- Make: SONY
- Model: NEX-5N
- ModifyDate: 2014:01:04 00:48:52
- IFD1
- IPTC
- DateCreated: 2013:07:11
- System
- XMP-aux
- XMP-crs
- AlreadyApplied: True
- BlueHue: 0
- BlueSaturation: 0
- Brightness: +20
- ChromaticAberrationB: 0
- ChromaticAberrationR: 0
- Clarity: -60
- ColorNoiseReduction: 25
- ColorNoiseReductionDetail: 50
- ColorTemperature: 5000
- Contrast: +34
- ConvertToGrayscale: True
- CropAngle: -3.66283
- CropBottom: 0.939836
- CropConstrainToWarp: 0
- CropHeight: 3074
- CropLeft: 0.12493
- CropRight: 0.789426
- CropTop: 0.060164
- CropUnit: pixels
- CropWidth: 3074
- Defringe: 0
- Exposure: +0.80
- FillLight: 50
- GradientBasedCorrActive: true
- GradientBasedCorrAmount: 1.000000
- GradientBasedCorrBrightness: 0.000000
- GradientBasedCorrClarity: -0.473680
- GradientBasedCorrContrast: 0.000000
- GradientBasedCorrExposure: -0.282250
- GradientBasedCorrHue: 38.000000
- GradientBasedCorrMaskFullX: 0.740014
- GradientBasedCorrMaskFullY: -0.070997
- GradientBasedCorrMaskValue: 1.000000
- GradientBasedCorrMaskWhat: Mask/Gradient
- GradientBasedCorrMaskZeroX: 0.555073
- GradientBasedCorrMaskZeroY: 0.418251
- GradientBasedCorrSaturation: 0.110000
- GradientBasedCorrSharpness: 0.000000
- GradientBasedCorrWhat: Correction
- GrainAmount: 0
- GrayMixerAqua: 0
- GrayMixerBlue: 0
- GrayMixerGreen: 0
- GrayMixerMagenta: 0
- GrayMixerOrange: 0
- GrayMixerPurple: 0
- GrayMixerRed: 0
- GrayMixerYellow: 0
- GreenHue: 0
- GreenSaturation: 0
- HasCrop: True
- HasSettings: True
- HighlightRecovery: 37
- LensManualDistortionAmount: 0
- LensProfileEnable: 0
- LensProfileSetup: LensDefaults
- LuminanceNoiseReductionContrast: 0
- LuminanceNoiseReductionDetail: 50
- LuminanceSmoothing: 100
- PaintCorrectionActive: true
- PaintCorrectionAmount: 1.000000
- PaintCorrectionBrightness: 0.000000
- PaintCorrectionClarity: 0.000000
- PaintCorrectionContrast: 0.000000
- PaintCorrectionExposure: -0.148250
- PaintCorrectionHue: 52.000000
- PaintCorrectionMaskCenterWeight: 0.141407
- PaintCorrectionMaskFlow: 0.300000
- PaintCorrectionMaskRadius: 0.046837
- PaintCorrectionMaskValue: 1.000000
- PaintCorrectionMaskWhat: Mask/Paint
- PaintCorrectionSaturation: 0.190000
- PaintCorrectionSharpness: 0.000000
- PaintCorrectionWhat: Correction
- ParametricDarks: 0
- ParametricHighlightSplit: 75
- ParametricHighlights: 0
- ParametricLights: 0
- ParametricMidtoneSplit: 50
- ParametricShadowSplit: 25
- ParametricShadows: 0
- PerspectiveHorizontal: 0
- PerspectiveRotate: 0.0
- PerspectiveScale: 100
- PerspectiveVertical: 0
- PostCropVignetteAmount: -33
- PostCropVignetteFeather: 81
- PostCropVignetteHighlightContrast: 0
- PostCropVignetteMidpoint: 88
- PostCropVignetteRoundness: 0
- PostCropVignetteStyle: 1
- ProcessVersion: 5.7
- RedHue: 0
- RedSaturation: 0
- ShadowTint: 0
- Shadows: 23
- SharpenDetail: 14
- SharpenEdgeMasking: 45
- SharpenRadius: +3.0
- Sharpness: 112
- SplitToningBalance: -63
- SplitToningHighlightHue: 0
- SplitToningHighlightSaturation: 0
- SplitToningShadowHue: 45
- SplitToningShadowSaturation: 64
- Tint: +11
- ToneCurve: 0, 0, 255, 255
- ToneCurveName: Linear
- Version: 6.6
- VignetteAmount: -29
- VignetteMidpoint: 50
- WhiteBalance: As Shot
- XMP-dc
- XMP-xmp
- ModifyDate: 2014:01:04 00:48:52+03:00
- Rating: 3
- XMP-xmpMM
- XMP-xmpNote
- HasExtendedXMP: DF6DF7F0CC334BE4C0A6EF154903B36C
- Просмотров: 258
- Рейтинг: голосов еще нет
- Отзывов: 0
Получить код для блога
Вставка фотографии в текущем разрешении |
Вставка миниатюры |
HTML (для вставки в блог):
BBCode (для вставки в форум):
Ссылка на фото:
Ссылка на миниатюру:
- Послать ссылку другу
Комментарии к фотографии |