- Раздел: Другое, разное
- Дата съёмки: 03.06.2014 13:33
- Дата загрузки фото: 04.06.2014 23:58
- Оригинальная фотография: 4800 x 3200 (10,9 Мб)
- Технические характеристики:
- Фотоаппарат: Samsung NX1000
- Выдержка: 1/160
- Гиперфокальное расстояние: inf m
- Диафрагма: 5,6
- Светочувствительность: 100
- Фокусное расстояние: 50,0 mm (35 mm equivalent: 50,0 mm)
- Полный EXIF
- Adobe
- ColorTransform: YCbCr
- Composite
- Aperture: 5,6
- CircleOfConfusion: 0,020 mm
- FOV: 39,0 deg
- FocalLength35efl: 50,0 mm (35 mm equivalent: 50,0 mm)
- HyperfocalDistance: inf m
- LensID: Samsung NX 20-50mm F3.5-5.6 ED
- ScaleFactor35efl: 1,5
- ShutterSpeed: 1/160
- ExifIFD
- ApertureValue: 5,6
- ColorSpace: sRGB
- Contrast: Normal
- DateTimeOriginal: 2014:06:03 13:33:13
- DigitalZoomRatio: 1
- ExposureCompensation: 0
- ExposureMode: Unknown (3)
- ExposureProgram: Aperture-priority AE
- ExposureTime: 1/160
- FNumber: 5,6
- Flash: No Flash
- FocalLength: 50,0 mm
- FocalLengthIn35mmFormat: 77 mm
- ISO: 100
- LensInfo: 20-50mm f/3.5-5.6
- LensModel: Samsung 20-50mm f/3.5-5.6 ED
- LensSerialNumber: 340900486952
- LightSource: Unknown
- MeteringMode: Multi-segment
- Saturation: High
- SceneCaptureType: Standard
- SerialNumber: 6023925
- Sharpness: Normal
- ShutterSpeedValue: 1/160
- WhiteBalance: Auto
- ICC-header
- ICC-meas
- ICC-view
- IFD0
- Make: SAMSUNG
- Model: NX1000
- ModifyDate: 2014:06:03 20:57:10
- IFD1
- IPTC
- DateCreated: 2014:06:03
- System
- XMP-aux
- Firmware: NX200_01.15
- Lens: Samsung 20-50mm f/3.5-5.6 ED
- LensID: 4
- XMP-crs
- AlreadyApplied: True
- AutoLateralCA: 1
- AutoWhiteVersion: 134348800
- Blacks2012: +15
- BlueHue: 0
- BlueSaturation: 0
- Clarity2012: +15
- ColorNoiseReduction: 25
- ColorNoiseReductionDetail: 50
- ColorNoiseReductionSmoothness: 50
- ColorTemperature: 5200
- Contrast2012: +15
- ConvertToGrayscale: False
- DefringeGreenAmount: 0
- DefringeGreenHueHi: 60
- DefringeGreenHueLo: 40
- DefringePurpleAmount: 0
- DefringePurpleHueHi: 70
- DefringePurpleHueLo: 30
- Exposure2012: +0.31
- GrainAmount: 7
- GrainFrequency: 50
- GrainSize: 25
- GreenHue: 0
- GreenSaturation: 0
- HasCrop: False
- HasSettings: True
- Highlights2012: -75
- HueAdjustmentAqua: 0
- HueAdjustmentBlue: 0
- HueAdjustmentGreen: 0
- HueAdjustmentMagenta: 0
- HueAdjustmentOrange: 0
- HueAdjustmentPurple: 0
- HueAdjustmentRed: 0
- HueAdjustmentYellow: 0
- LensManualDistortionAmount: 0
- LensProfileEnable: 0
- LensProfileSetup: LensDefaults
- LuminanceAdjustmentAqua: 0
- LuminanceAdjustmentBlue: 0
- LuminanceAdjustmentGreen: 0
- LuminanceAdjustmentMagenta: 0
- LuminanceAdjustmentOrange: 0
- LuminanceAdjustmentPurple: 0
- LuminanceAdjustmentRed: 0
- LuminanceAdjustmentYellow: 0
- LuminanceNoiseReductionContrast: 0
- LuminanceNoiseReductionDetail: 50
- LuminanceSmoothing: 21
- ParametricDarks: 0
- ParametricHighlightSplit: 75
- ParametricHighlights: 0
- ParametricLights: 0
- ParametricMidtoneSplit: 50
- ParametricShadowSplit: 25
- ParametricShadows: 0
- PerspectiveAspect: 0
- PerspectiveHorizontal: 0
- PerspectiveRotate: 0.0
- PerspectiveScale: 100
- PerspectiveUpright: 0
- PerspectiveVertical: 0
- PostCropVignetteAmount: 0
- ProcessVersion: 6.7
- RedHue: 0
- RedSaturation: 0
- Saturation: 0
- SaturationAdjustmentAqua: 0
- SaturationAdjustmentBlue: 0
- SaturationAdjustmentGreen: 0
- SaturationAdjustmentMagenta: 0
- SaturationAdjustmentOrange: 0
- SaturationAdjustmentPurple: 0
- SaturationAdjustmentRed: 0
- SaturationAdjustmentYellow: 0
- ShadowTint: 0
- Shadows2012: +25
- SharpenDetail: 25
- SharpenEdgeMasking: 0
- SharpenRadius: +1.0
- Sharpness: 35
- SplitToningBalance: 0
- SplitToningHighlightHue: 0
- SplitToningHighlightSaturation: 0
- SplitToningShadowHue: 0
- SplitToningShadowSaturation: 0
- Tint: +18
- ToneCurve: 0, 0, 255, 255
- ToneCurveBlue: 0, 0, 255, 255
- ToneCurveGreen: 0, 0, 255, 255
- ToneCurveName: Linear
- ToneCurveName2012: Linear
- ToneCurvePV2012: 0, 0, 255, 255
- ToneCurvePV2012Blue: 0, 0, 255, 255
- ToneCurvePV2012Green: 0, 0, 255, 255
- ToneCurvePV2012Red: 0, 0, 255, 255
- ToneCurveRed: 0, 0, 255, 255
- Version: 8.4
- Vibrance: 0
- VignetteAmount: 0
- WhiteBalance: As Shot
- Whites2012: 0
- XMP-dc
- XMP-xmp
- ModifyDate: 2014:06:03 20:57:10+03:00
- XMP-xmpMM
- Просмотров: 131
- Рейтинг: голосов еще нет
- Отзывов: 0