Уважаемые друзья и участники проекта iXBT.photo! К сожалению, 1 марта 2026 года проект iXBT.photo прекратит свою работу и будет закрыт. Мы высоко ценим ваше участие и тот вклад, который вы внесли в развитие нашего сообщества. Пожалуйста, не забудьте сохранить ваши фотографии до этой даты.
С уважением, команда iXBT.com
- Раздел: Тесты фототехники
- Дата съёмки: 03.06.2014 20:02
- Дата загрузки фото: 08.06.2014 11:07
- Оригинальная фотография: 1613 x 1080 (866 Кб)
- Технические характеристики:
- Фотоаппарат: Nikon 1 J2
- Выдержка: 0,4
- Гиперфокальное расстояние: inf m
- Диафрагма: 4,0
- Светочувствительность: 100
- Фокусное расстояние: 6,0 mm (35 mm equivalent: 18,0 mm)
- Экспокоррекция: -1/3
- Полный EXIF
- Adobe
- ColorTransform: YCbCr
- Composite
- Aperture: 4,0
- CircleOfConfusion: 0,010 mm
- FOV: 90,0 deg
- FocalLength35efl: 6,0 mm (35 mm equivalent: 18,0 mm)
- HyperfocalDistance: inf m
- ScaleFactor35efl: 3,0
- ShutterSpeed: 0,4
- ExifIFD
- ApertureValue: 4,0
- CFAPattern: [Red,Green][Green,Blue]
- Contrast: Normal
- CreateDate: 2014:06:03 20:02:49
- CustomRendered: Normal
- DateTimeOriginal: 2014:06:03 20:02:49
- DigitalZoomRatio: 1
- ExposureCompensation: -1/3
- ExposureMode: Auto
- ExposureProgram: Aperture-priority AE
- ExposureTime: 0,4
- FNumber: 4,0
- Flash: No Flash
- FocalLength: 6,7 mm
- FocalLengthIn35mmFormat: 18 mm
- GainControl: None
- ISO: 100
- LensInfo: 6.7-13mm f/3.5-5.6
- LensModel: 1 NIKKOR VR 6.7-13mm f/3.5-5.6
- LightSource: Unknown
- MaxApertureValue: 3,5
- MeteringMode: Multi-segment
- Saturation: Normal
- SceneCaptureType: Standard
- SceneType: Directly photographed
- SensingMethod: One-chip color area
- SensitivityType: Recommended Exposure Index
- SerialNumber: 53001309
- Sharpness: Normal
- ShutterSpeedValue: 0,4
- SubjectDistanceRange: Unknown
- WhiteBalance: Auto
- ICC-header
- ICC-meas
- ICC-view
- IFD0
- Make: NIKON CORPORATION
- Model: NIKON 1 J2
- ModifyDate: 2014:06:03 23:14:24
- IFD1
- IPTC
- DateCreated: 2014:06:03
- System
- XMP-aux
- ApproximateFocusDistance: 0,35
- ImageNumber: 33011
- Lens: 1 NIKKOR VR 6.7-13mm f/3.5-5.6
- XMP-crs
- AlreadyApplied: True
- AutoLateralCA: 1
- Blacks2012: 0
- BlueHue: 0
- BlueSaturation: 0
- Clarity2012: 0
- ColorNoiseReduction: 25
- ColorNoiseReductionDetail: 50
- ColorTemperature: 5000
- Contrast2012: +25
- ConvertToGrayscale: False
- DefringeGreenAmount: 0
- DefringeGreenHueHi: 60
- DefringeGreenHueLo: 40
- DefringePurpleAmount: 0
- DefringePurpleHueHi: 70
- DefringePurpleHueLo: 30
- Exposure2012: 0.00
- GrainAmount: 0
- GreenHue: 0
- GreenSaturation: 0
- HasCrop: False
- HasSettings: True
- Highlights2012: -55
- HueAdjustmentAqua: 0
- HueAdjustmentBlue: 0
- HueAdjustmentGreen: 0
- HueAdjustmentMagenta: 0
- HueAdjustmentOrange: 0
- HueAdjustmentPurple: 0
- HueAdjustmentRed: 0
- HueAdjustmentYellow: 0
- LensManualDistortionAmount: 0
- LensProfileEnable: 0
- LensProfileSetup: LensDefaults
- LuminanceAdjustmentAqua: 0
- LuminanceAdjustmentBlue: 0
- LuminanceAdjustmentGreen: 0
- LuminanceAdjustmentMagenta: 0
- LuminanceAdjustmentOrange: 0
- LuminanceAdjustmentPurple: 0
- LuminanceAdjustmentRed: 0
- LuminanceAdjustmentYellow: 0
- LuminanceSmoothing: 0
- ParametricDarks: 0
- ParametricHighlightSplit: 75
- ParametricHighlights: 0
- ParametricLights: 0
- ParametricMidtoneSplit: 50
- ParametricShadowSplit: 25
- ParametricShadows: 0
- PerspectiveHorizontal: 0
- PerspectiveRotate: 0.0
- PerspectiveScale: 100
- PerspectiveVertical: 0
- PostCropVignetteAmount: -15
- PostCropVignetteFeather: 50
- PostCropVignetteHighlightContrast: 0
- PostCropVignetteMidpoint: 50
- PostCropVignetteRoundness: 0
- PostCropVignetteStyle: 1
- ProcessVersion: 6.7
- RedHue: 0
- RedSaturation: +25
- Saturation: 0
- SaturationAdjustmentAqua: 0
- SaturationAdjustmentBlue: 0
- SaturationAdjustmentGreen: 0
- SaturationAdjustmentMagenta: 0
- SaturationAdjustmentOrange: 0
- SaturationAdjustmentPurple: 0
- SaturationAdjustmentRed: 0
- SaturationAdjustmentYellow: 0
- ShadowTint: 0
- Shadows2012: 0
- SharpenDetail: 25
- SharpenEdgeMasking: 0
- SharpenRadius: +1.0
- Sharpness: 25
- SplitToningBalance: 0
- SplitToningHighlightHue: 0
- SplitToningHighlightSaturation: 0
- SplitToningShadowHue: 0
- SplitToningShadowSaturation: 0
- Tint: +43
- ToneCurveName2012: Custom
- ToneCurvePV2012: 0, 0, 27, 17, 63, 53, 110, 109, 255, 255
- ToneCurvePV2012Blue: 0, 0, 255, 255
- ToneCurvePV2012Green: 0, 0, 255, 255
- ToneCurvePV2012Red: 0, 0, 255, 255
- Version: 7.4
- Vibrance: 0
- VignetteAmount: 0
- WhiteBalance: Custom
- Whites2012: 0
- XMP-dc
- XMP-xmp
- CreateDate: 2014:06:03 20:02:49.00
- ModifyDate: 2014:06:03 23:14:24+04:00
- XMP-xmpMM
- Просмотров: 400
- Рейтинг: голосов еще нет
- Отзывов: 0
Получить код для блога
| Вставка фотографии в текущем разрешении |
Вставка миниатюры |
HTML (для вставки в блог):
BBCode (для вставки в форум):
Ссылка на фото:
Ссылка на миниатюру:
- Послать ссылку другу
| Комментарии к фотографии |