- Раздел: Путешествия
- Дата съёмки: 24.05.2014 19:20
- Дата загрузки фото: 17.06.2014 12:34
- Оригинальная фотография: 800 x 1200 (422 Кб)
- Технические характеристики:
- Фотоаппарат: Canon EOS 650D
- Выдержка: 1/500
- Гиперфокальное расстояние: inf m
- Диафрагма: 8,0
- Светочувствительность: 100
- Фокусное расстояние: 24,0 mm (35 mm equivalent: 144,0 mm)
- Экспокоррекция: -1
- Полный EXIF
- Adobe
- ColorTransform: YCbCr
- Composite
- Aperture: 8,0
- CircleOfConfusion: 0,004 mm
- FOV: 14,0 deg
- FocalLength35efl: 24,0 mm (35 mm equivalent: 144,0 mm)
- HyperfocalDistance: inf m
- LensID: Canon EF 24-105mm f/4L IS
- ScaleFactor35efl: 6,8
- ShutterSpeed: 1/500
- ExifIFD
- ApertureValue: 8,0
- ColorSpace: Uncalibrated
- CreateDate: 2014:05:24 19:20:43
- CustomRendered: Normal
- DateTimeOriginal: 2014:05:24 19:20:43
- ExifImageHeight: 1200
- ExifImageWidth: 800
- ExposureCompensation: -1
- ExposureMode: Auto
- ExposureProgram: Aperture-priority AE
- ExposureTime: 1/500
- FNumber: 8,0
- Flash: Off, Did not fire
- FocalLength: 24,0 mm
- ISO: 100
- LensInfo: 24-105mm f/?
- LensModel: EF24-105mm f/4L IS USM
- LensSerialNumber: 0000ffffff
- MaxApertureValue: 4,0
- MeteringMode: Multi-segment
- RecommendedExposureIndex: 100
- SceneCaptureType: Standard
- SensitivityType: Recommended Exposure Index
- SerialNumber: 083033023315
- ShutterSpeedValue: 1/500
- WhiteBalance: Auto
- ICC-header
- IFD0
- BitsPerSample: 8 8 8
- ImageHeight: 5184
- ImageWidth: 3456
- Make: Canon
- Model: Canon EOS 650D
- ModifyDate: 2014:06:17 09:56:13
- Orientation: Horizontal (normal)
- PhotometricInterpretation: RGB
- SamplesPerPixel: 3
- IFD1
- IPTC
- DateCreated: 2014:05:24
- System
- XMP-aux
- ApproximateFocusDistance: 3,39
- Firmware: 1.0.1
- FlashCompensation: 0
- ImageNumber: 0
- Lens: EF24-105mm f/4L IS USM
- LensID: 237
- XMP-crs
- AlreadyApplied: True
- AutoLateralCA: 0
- Blacks2012: +100
- BlueHue: 0
- BlueSaturation: 0
- Clarity2012: +92
- ColorNoiseReduction: 25
- ColorNoiseReductionDetail: 50
- ColorTemperature: 5800
- Contrast2012: -35
- ConvertToGrayscale: False
- DefringeGreenAmount: 0
- DefringeGreenHueHi: 60
- DefringeGreenHueLo: 40
- DefringePurpleAmount: 0
- DefringePurpleHueHi: 70
- DefringePurpleHueLo: 30
- Exposure2012: -0.50
- GrainAmount: 0
- GreenHue: 0
- GreenSaturation: 0
- HasCrop: False
- HasSettings: True
- Highlights2012: 0
- HueAdjustmentAqua: 0
- HueAdjustmentBlue: 0
- HueAdjustmentGreen: 0
- HueAdjustmentMagenta: 0
- HueAdjustmentOrange: 0
- HueAdjustmentPurple: 0
- HueAdjustmentRed: 0
- HueAdjustmentYellow: 0
- LensManualDistortionAmount: 0
- LensProfileEnable: 0
- LensProfileSetup: LensDefaults
- LuminanceAdjustmentAqua: 0
- LuminanceAdjustmentBlue: 0
- LuminanceAdjustmentGreen: 0
- LuminanceAdjustmentMagenta: 0
- LuminanceAdjustmentOrange: 0
- LuminanceAdjustmentPurple: 0
- LuminanceAdjustmentRed: 0
- LuminanceAdjustmentYellow: 0
- LuminanceSmoothing: 0
- ParametricDarks: 0
- ParametricHighlightSplit: 75
- ParametricHighlights: 0
- ParametricLights: 0
- ParametricMidtoneSplit: 50
- ParametricShadowSplit: 25
- ParametricShadows: 0
- PerspectiveAspect: 0
- PerspectiveHorizontal: 0
- PerspectiveRotate: 0.0
- PerspectiveScale: 100
- PerspectiveUpright: 0
- PerspectiveVertical: 0
- PostCropVignetteAmount: 0
- ProcessVersion: 6.7
- RawFileName: 2014.05.24.19.20.43.CR2
- RedHue: 0
- RedSaturation: 0
- Saturation: +30
- SaturationAdjustmentAqua: 0
- SaturationAdjustmentBlue: 0
- SaturationAdjustmentGreen: 0
- SaturationAdjustmentMagenta: 0
- SaturationAdjustmentOrange: 0
- SaturationAdjustmentPurple: 0
- SaturationAdjustmentRed: 0
- SaturationAdjustmentYellow: 0
- ShadowTint: 0
- Shadows2012: +84
- SharpenDetail: 35
- SharpenEdgeMasking: 2
- SharpenRadius: +2.0
- Sharpness: 107
- SplitToningBalance: 0
- SplitToningHighlightHue: 0
- SplitToningHighlightSaturation: 0
- SplitToningShadowHue: 0
- SplitToningShadowSaturation: 0
- Tint: +10
- ToneCurveName2012: Linear
- ToneCurvePV2012: 0, 0, 255, 255
- ToneCurvePV2012Blue: 0, 0, 255, 255
- ToneCurvePV2012Green: 0, 0, 255, 255
- ToneCurvePV2012Red: 0, 0, 255, 255
- Version: 8.1
- Vibrance: +23
- VignetteAmount: 0
- WhiteBalance: As Shot
- Whites2012: +72
- XMP-dc
- XMP-xmp
- ModifyDate: 2014:06:17 09:56:13+04:00
- XMP-xmpMM
- Просмотров: 91
- Рейтинг: голосов еще нет
- Отзывов: 0