Та самая ЭТшка, в которой я видел старого дядечку-машиниста.
Кстати, к Igor Zabor это тоже всё относится, который ушёл из машинистов и рассказывает, какая это тяжёлая работа. Эх, с такой хорошей работы ушёл, как же так. Я так как вижу(или слышу) электричку, каждый раз всё думаю - эх, какая хорошая у дядечки работа, катается в лесу по рельсам - вот бы мне также как он работать.
- Раздел: Автомобили
- Дата съёмки: неизвестно
- Дата загрузки фото: 02.12.2020 22:29
- Оригинальная фотография: 1280 x 854 (813 Кб)
- Технические характеристики:
- Фотоаппарат: Sony ILCE-6000
- Выдержка: 0,0
- Гиперфокальное расстояние: inf m
- Диафрагма: 7,1
- Светочувствительность: 800
- Фокусное расстояние: 132,0 mm (35 mm equivalent: 132,0 mm)
- Полный EXIF
- Adobe
- ColorTransform: YCbCr
- Composite
- Aperture: 7,1
- CircleOfConfusion: 0,020 mm
- FOV: 15,0 deg
- FocalLength35efl: 132,0 mm (35 mm equivalent: 132,0 mm)
- HyperfocalDistance: inf m
- Megapixels: 1,1
- ScaleFactor35efl: 1,5
- ShutterSpeed: 0,0
- ExifIFD
- ApertureValue: 5,7
- BrightnessValue: 5,5875
- ColorSpace: Uncalibrated
- Contrast: Normal
- CreateDate: 2019:09:22 18:22:50
- CustomRendered: Normal
- DateTimeOriginal: 2019:09:22 18:22:50
- DigitalZoomRatio: 1
- ExifImageHeight: 854
- ExifImageWidth: 1280
- ExposureCompensation: 0
- ExposureMode: Manual
- ExposureProgram: Manual
- ExposureTime: 0,0
- FNumber: 7,1
- Flash: Off, Did not fire
- FocalLength: 132,0 mm
- FocalLengthIn35mmFormat: 198 mm
- ISO: 800
- LensInfo: 55-210mm f/4.5-6.300000191
- LensModel: E 55-210mm F4.5-6.3 OSS
- LightSource: Unknown
- MaxApertureValue: 4,0
- MeteringMode: Multi-segment
- RecommendedExposureIndex: 800
- Saturation: Normal
- SceneCaptureType: Standard
- SceneType: Directly photographed
- SensitivityType: Recommended Exposure Index
- Sharpness: Normal
- ShutterSpeedValue: 1/128
- WhiteBalance: Auto
- ICC-header
- IFD0
- Make: SONY
- Model: ILCE-6000
- ModifyDate: 2019:09:22 21:25:35
- Orientation: Horizontal (normal)
- IFD1
- IPTC
- DateCreated: 2019:09:22
- IPTC2
- System
- XMP-aux
- DistortionCorrectionAlreadyApplied: True
- LateralChromaticAberrationCorrectionAlreadyApplied: True
- Lens: E 55-210mm F4.5-6.3 OSS
- LensDistortInfo: 1049303629/1073741824 24173279/1073741824 704032/1073741824 -454425/1073741824
- LensInfo: 55-210mm f/4.5-6.3
- VignetteCorrectionAlreadyApplied: True
- XMP-crs
- AlreadyApplied: True
- AutoLateralCA: 1
- AutoWhiteVersion: 134348800
- Blacks2012: 0
- BlueHue: 0
- BlueSaturation: 0
- CameraProfile: Camera Standard
- Clarity2012: 0
- ColorNoiseReduction: 25
- ColorNoiseReductionDetail: 50
- ColorNoiseReductionSmoothness: 50
- ColorTemperature: 5400
- Contrast2012: +36
- ConvertToGrayscale: False
- DefringeGreenAmount: 0
- DefringeGreenHueHi: 60
- DefringeGreenHueLo: 40
- DefringePurpleAmount: 0
- DefringePurpleHueHi: 70
- DefringePurpleHueLo: 30
- Dehaze: +11
- Exposure2012: 0.00
- GrainAmount: 0
- GreenHue: 0
- GreenSaturation: 0
- HasCrop: False
- HasSettings: True
- Highlights2012: -57
- HueAdjustmentAqua: 0
- HueAdjustmentBlue: 0
- HueAdjustmentGreen: 0
- HueAdjustmentMagenta: 0
- HueAdjustmentOrange: 0
- HueAdjustmentPurple: 0
- HueAdjustmentRed: 0
- HueAdjustmentYellow: 0
- LensManualDistortionAmount: 0
- LensProfileChromaticAberrationScale: 100
- LensProfileDistortionScale: 100
- LensProfileEnable: 1
- LensProfileFilename: SONY (Sony E 55-210mm F4.5-6.3 OSS) - RAW.lcp
- LensProfileSetup: LensDefaults
- LensProfileVignettingScale: 100
- LuminanceAdjustmentAqua: 0
- LuminanceAdjustmentBlue: 0
- LuminanceAdjustmentGreen: 0
- LuminanceAdjustmentMagenta: 0
- LuminanceAdjustmentOrange: 0
- LuminanceAdjustmentPurple: 0
- LuminanceAdjustmentRed: 0
- LuminanceAdjustmentYellow: 0
- LuminanceSmoothing: 0
- ParametricDarks: +23
- ParametricHighlightSplit: 75
- ParametricHighlights: 0
- ParametricLights: -8
- ParametricMidtoneSplit: 50
- ParametricShadowSplit: 25
- ParametricShadows: +23
- PerspectiveAspect: 0
- PerspectiveHorizontal: 0
- PerspectiveRotate: 0.0
- PerspectiveScale: 100
- PerspectiveUpright: 0
- PerspectiveVertical: 0
- PostCropVignetteAmount: 0
- ProcessVersion: 6.7
- RawFileName: DSC02878.ARW
- RedHue: 0
- RedSaturation: 0
- Saturation: +19
- SaturationAdjustmentAqua: 0
- SaturationAdjustmentBlue: 0
- SaturationAdjustmentGreen: -7
- SaturationAdjustmentMagenta: 0
- SaturationAdjustmentOrange: 0
- SaturationAdjustmentPurple: 0
- SaturationAdjustmentRed: 0
- SaturationAdjustmentYellow: -12
- ShadowTint: 0
- Shadows2012: +50
- SharpenDetail: 25
- SharpenEdgeMasking: 0
- SharpenRadius: +1.0
- Sharpness: 51
- SplitToningBalance: 0
- SplitToningHighlightHue: 0
- SplitToningHighlightSaturation: 0
- SplitToningShadowHue: 0
- SplitToningShadowSaturation: 0
- Tint: +7
- ToneCurve: 0, 0, 32, 22, 64, 56, 128, 128, 192, 196, 255, 255
- ToneCurveBlue: 0, 0, 255, 255
- ToneCurveGreen: 0, 0, 255, 255
- ToneCurveName: Medium Contrast
- ToneCurveName2012: Linear
- ToneCurvePV2012: 0, 0, 255, 255
- ToneCurvePV2012Blue: 0, 0, 255, 255
- ToneCurvePV2012Green: 0, 0, 255, 255
- ToneCurvePV2012Red: 0, 0, 255, 255
- ToneCurveRed: 0, 0, 255, 255
- ToneMapStrength: 0
- Version: 9.5
- Vibrance: +18
- VignetteAmount: 0
- WhiteBalance: Custom
- Whites2012: 0
- XMP-dc
- XMP-x
- XMP-xmp
- CreatorTool: ILCE-6000 v1.21
- ModifyDate: 2019:09:22 21:25:35+03:00
- Rating: 0
- XMP-xmpMM
- Просмотров: 375
- Рейтинг: голосов еще нет
- Отзывов: 3
Получить код для блога
Вставка фотографии в текущем разрешении |
Вставка миниатюры |
HTML (для вставки в блог):
BBCode (для вставки в форум):
Ссылка на фото:
Ссылка на миниатюру:
- Послать ссылку другу
Комментарии к фотографии |