- Раздел: Природа
- Дата съёмки: 10.08.2014 12:22
- Дата загрузки фото: 12.08.2014 13:32
- Оригинальная фотография: 4928 x 3264 (3,2 Мб)
- Технические характеристики:
- Фотоаппарат: Nikon D7000
- Выдержка: 1/640
- Гиперфокальное расстояние: inf m
- Диафрагма: 4,5
- Светочувствительность: 160
- Фокусное расстояние: 35,0 mm (35 mm equivalent: 35,0 mm)
- Полный EXIF
- Adobe
- ColorTransform: YCbCr
- Composite
- Aperture: 4,5
- CircleOfConfusion: 0,020 mm
- FOV: 54,0 deg
- FocalLength35efl: 35,0 mm (35 mm equivalent: 35,0 mm)
- HyperfocalDistance: inf m
- LensID: Tamron AF 18-270mm F/3.5-6.3 Di II VC PZD (B008)
- ScaleFactor35efl: 1,5
- ShutterSpeed: 1/640
- ExifIFD
- ApertureValue: 4,5
- CFAPattern: [Red,Green][Green,Blue]
- Contrast: Normal
- CreateDate: 2014:08:10 12:22:10
- CustomRendered: Normal
- DateTimeOriginal: 2014:08:10 12:22:10
- DigitalZoomRatio: 1
- ExposureCompensation: 0
- ExposureMode: Auto
- ExposureProgram: Aperture-priority AE
- ExposureTime: 1/640
- FNumber: 4,5
- Flash: Off, Did not fire
- FocalLength: 35,0 mm
- FocalLengthIn35mmFormat: 52 mm
- GainControl: None
- ISO: 160
- LensInfo: 18-270mm f/3.5-6.3
- LensModel: 18.0-270.0 mm f/3.5-6.3
- LightSource: Unknown
- MaxApertureValue: 4,4
- MeteringMode: Center-weighted average
- Saturation: Normal
- SceneCaptureType: Landscape
- SceneType: Directly photographed
- SensingMethod: One-chip color area
- SensitivityType: Recommended Exposure Index
- SerialNumber: 2076196
- Sharpness: Hard
- ShutterSpeedValue: 1/640
- SubjectDistance: 0,47 m
- SubjectDistanceRange: Unknown
- WhiteBalance: Auto
- ICC-header
- IFD0
- Make: NIKON CORPORATION
- Model: NIKON D7000
- ModifyDate: 2014:08:12 20:25:07
- IFD1
- IPTC
- DateCreated: 2014:08:10
- System
- XMP-aux
- ApproximateFocusDistance: 0,47
- ImageNumber: 8745
- Lens: 18.0-270.0 mm f/3.5-6.3
- LensID: 240
- XMP-crs
- AlreadyApplied: True
- AutoLateralCA: 0
- Blacks2012: 0
- BlueHue: 0
- BlueSaturation: 0
- Brightness: +50
- Clarity: 0
- Clarity2012: 0
- ColorNoiseReduction: 25
- ColorNoiseReductionDetail: 50
- ColorTemperature: 5000
- Contrast: +44
- Contrast2012: 0
- ConvertToGrayscale: False
- Defringe: 0
- Exposure: 0.00
- Exposure2012: 0.00
- FillLight: 0
- GrainAmount: 0
- GreenHue: 0
- GreenSaturation: 0
- HasCrop: False
- HasSettings: True
- HighlightRecovery: 0
- Highlights2012: 0
- HueAdjustmentAqua: 0
- HueAdjustmentBlue: 0
- HueAdjustmentGreen: 0
- HueAdjustmentMagenta: 0
- HueAdjustmentOrange: 0
- HueAdjustmentPurple: 0
- HueAdjustmentRed: 0
- HueAdjustmentYellow: 0
- LensManualDistortionAmount: 0
- LensProfileEnable: 0
- LensProfileSetup: LensDefaults
- LuminanceAdjustmentAqua: -67
- LuminanceAdjustmentBlue: -51
- LuminanceAdjustmentGreen: +48
- LuminanceAdjustmentMagenta: 0
- LuminanceAdjustmentOrange: -43
- LuminanceAdjustmentPurple: 0
- LuminanceAdjustmentRed: -34
- LuminanceAdjustmentYellow: -31
- LuminanceSmoothing: 0
- ParametricDarks: 0
- ParametricHighlightSplit: 75
- ParametricHighlights: 0
- ParametricLights: 0
- ParametricMidtoneSplit: 50
- ParametricShadowSplit: 25
- ParametricShadows: 0
- PerspectiveHorizontal: 0
- PerspectiveRotate: 0.0
- PerspectiveScale: 100
- PerspectiveVertical: 0
- PostCropVignetteAmount: 0
- ProcessVersion: 5.7
- RawFileName: _ARK8498.NEF
- RedHue: 0
- RedSaturation: 0
- Saturation: +32
- SaturationAdjustmentAqua: 0
- SaturationAdjustmentBlue: +34
- SaturationAdjustmentGreen: +15
- SaturationAdjustmentMagenta: 0
- SaturationAdjustmentOrange: +24
- SaturationAdjustmentPurple: 0
- SaturationAdjustmentRed: +27
- SaturationAdjustmentYellow: 0
- ShadowTint: 0
- Shadows: 5
- Shadows2012: 0
- SharpenDetail: 25
- SharpenEdgeMasking: 0
- SharpenRadius: +1.0
- Sharpness: 25
- SplitToningBalance: 0
- SplitToningHighlightHue: 0
- SplitToningHighlightSaturation: 0
- SplitToningShadowHue: 0
- SplitToningShadowSaturation: 0
- Tint: +12
- ToneCurve: 0, 0, 32, 22, 64, 56, 128, 128, 192, 196, 255, 255
- ToneCurveBlue: 0, 0, 255, 255
- ToneCurveGreen: 0, 0, 255, 255
- ToneCurveName: Medium Contrast
- ToneCurveName2012: Linear
- ToneCurvePV2012: 0, 0, 255, 255
- ToneCurvePV2012Blue: 0, 0, 255, 255
- ToneCurvePV2012Green: 0, 0, 255, 255
- ToneCurvePV2012Red: 0, 0, 255, 255
- ToneCurveRed: 0, 0, 255, 255
- Version: 6.7
- Vibrance: +28
- VignetteAmount: 0
- WhiteBalance: As Shot
- Whites2012: 0
- XMP-dc
- XMP-xmp
- CreateDate: 2014:08:10 12:22:10.40
- ModifyDate: 2014:08:12 20:25:07+11:00
- XMP-xmpMM
- Просмотров: 235
- Рейтинг: голосов еще нет
- Отзывов: 0