- Раздел: Пейзаж
- Дата съёмки: 14.08.2014 17:34
- Дата загрузки фото: 05.09.2014 18:38
- Оригинальная фотография: 2240 x 1600 (689 Кб)
- Технические характеристики:
- Фотоаппарат: FujiFilm X-E1
- Выдержка: 1/750
- Гиперфокальное расстояние: inf m
- Диафрагма: 7,1
- Светочувствительность: 200
- Фокусное расстояние: 18,0 mm (35 mm equivalent: 18,0 mm)
- Полный EXIF
- Adobe
- ColorTransform: YCbCr
- Composite
- Aperture: 7,1
- CircleOfConfusion: 0,019 mm
- FOV: 90,0 deg
- Flash: Off, Did not fire
- FocalLength35efl: 18,0 mm (35 mm equivalent: 18,0 mm)
- HyperfocalDistance: inf m
- ScaleFactor35efl: 1,6
- ShutterSpeed: 1/750
- ExifIFD
- ApertureValue: 7,1
- BrightnessValue: 9,8
- ColorSpace: sRGB
- CreateDate: 2014:08:14 17:34:59
- DateTimeOriginal: 2014:08:14 17:34:59
- ExifImageHeight: 1600
- ExifImageWidth: 2240
- ExposureCompensation: 0
- ExposureMode: Auto
- ExposureProgram: Aperture-priority AE
- ExposureTime: 1/750
- FNumber: 7,1
- FocalLength: 18,8 mm
- FocalLengthIn35mmFormat: 28 mm
- ISO: 200
- LensInfo: 18-55mm f/2.8-4
- LensModel: XF18-55mmF2.8-4 R LM OIS
- LensSerialNumber: 24A05218
- LightSource: Unknown
- MaxApertureValue: 2,8
- MeteringMode: Multi-segment
- SceneCaptureType: Standard
- SensingMethod: One-chip color area
- Sharpness: Normal
- ShutterSpeedValue: 1/750
- WhiteBalance: Auto
- ICC-header
- ICC-meas
- ICC-view
- IFD0
- BitsPerSample: 16 16 16
- ImageHeight: 3212
- ImageWidth: 4497
- Make: FUJIFILM
- Model: X-E1
- ModifyDate: 2014:09:05 21:24:53
- Orientation: Horizontal (normal)
- PhotometricInterpretation: RGB
- PlanarConfiguration: Chunky
- SamplesPerPixel: 3
- IFD1
- IPTC
- DateCreated: 2014:08:14
- System
- XMP-aux
- Lens: XF18-55mmF2.8-4 R LM OIS
- LensCandidates: XF18-55mmF2.8-4 R LM OIS
- LensMake: FUJIFILM
- XMP-crs
- AlreadyApplied: True
- AutoLateralCA: 0
- AutoWhiteVersion: 134348800
- Blacks2012: -12
- BlueHue: 0
- BlueSaturation: 0
- CameraProfile: Embedded
- Clarity2012: +43
- ColorNoiseReduction: 0
- Contrast2012: +15
- ConvertToGrayscale: False
- CropAngle: 0.6
- CropBottom: 0.996327
- CropConstrainToWarp: 0
- CropLeft: 0.081476
- CropRight: 0.982688
- CropTop: 0.005201
- DefringeGreenAmount: 0
- DefringeGreenHueHi: 60
- DefringeGreenHueLo: 40
- DefringePurpleAmount: 0
- DefringePurpleHueHi: 70
- DefringePurpleHueLo: 30
- Exposure2012: -0.10
- GrainAmount: 0
- GreenHue: 0
- GreenSaturation: 0
- HasCrop: True
- HasSettings: True
- Highlights2012: -25
- HueAdjustmentAqua: 0
- HueAdjustmentBlue: 0
- HueAdjustmentGreen: 0
- HueAdjustmentMagenta: 0
- HueAdjustmentOrange: 0
- HueAdjustmentPurple: 0
- HueAdjustmentRed: 0
- HueAdjustmentYellow: 0
- IncrementalTemperature: +9
- IncrementalTint: +9
- LensManualDistortionAmount: 0
- LensProfileEnable: 0
- LensProfileSetup: LensDefaults
- LuminanceAdjustmentAqua: 0
- LuminanceAdjustmentBlue: 0
- LuminanceAdjustmentGreen: 0
- LuminanceAdjustmentMagenta: 0
- LuminanceAdjustmentOrange: 0
- LuminanceAdjustmentPurple: 0
- LuminanceAdjustmentRed: 0
- LuminanceAdjustmentYellow: 0
- LuminanceSmoothing: 0
- ParametricDarks: -8
- ParametricHighlightSplit: 75
- ParametricHighlights: -32
- ParametricLights: 0
- ParametricMidtoneSplit: 50
- ParametricShadowSplit: 25
- ParametricShadows: -18
- PerspectiveAspect: 0
- PerspectiveHorizontal: 0
- PerspectiveRotate: 0.0
- PerspectiveScale: 100
- PerspectiveUpright: 0
- PerspectiveVertical: 0
- PostCropVignetteAmount: 0
- ProcessVersion: 6.7
- RedHue: 0
- RedSaturation: 0
- Saturation: 0
- SaturationAdjustmentAqua: 0
- SaturationAdjustmentBlue: 0
- SaturationAdjustmentGreen: 0
- SaturationAdjustmentMagenta: 0
- SaturationAdjustmentOrange: 0
- SaturationAdjustmentPurple: 0
- SaturationAdjustmentRed: 0
- SaturationAdjustmentYellow: 0
- ShadowTint: 0
- Shadows2012: 0
- SharpenDetail: 25
- SharpenEdgeMasking: 0
- SharpenRadius: +1.0
- Sharpness: 0
- SplitToningBalance: 0
- SplitToningHighlightHue: 0
- SplitToningHighlightSaturation: 0
- SplitToningShadowHue: 0
- SplitToningShadowSaturation: 0
- ToneCurve: 0, 0, 255, 255
- ToneCurveBlue: 0, 0, 255, 255
- ToneCurveGreen: 0, 0, 255, 255
- ToneCurveName: Linear
- ToneCurveName2012: Linear
- ToneCurvePV2012: 0, 0, 255, 255
- ToneCurvePV2012Blue: 0, 0, 255, 255
- ToneCurvePV2012Green: 0, 0, 255, 255
- ToneCurvePV2012Red: 0, 0, 255, 255
- ToneCurveRed: 0, 0, 255, 255
- Version: 8.6
- Vibrance: +20
- VignetteAmount: 0
- WhiteBalance: Custom
- Whites2012: +30
- XMP-dc
- XMP-exif
- DateTimeOriginal: 2014:08:14 17:34:59+07:00
- FlashFired: False
- FlashFunction: False
- FlashMode: Off
- FlashRedEyeMode: False
- FlashReturn: No return detection
- XMP-pnlnk
- BlackAndWhite: False
- BlackOffset: 0.000000
- ColorCMap_0: 50 50 28 1 0 0 0 0
- ColorCMap_1: 50 50 50 1 20 0 0 0
- ColorCMap_2: 50 50 85 1 0 0 0 0
- ColorCMap_3: 50 50 125 1 0 0 0 0
- ColorCMap_4: 50 50 185 1 0 0 0 0
- ColorCMap_5: 50 50 265 1 0 0 0 0
- ColorCMap_6: 50 50 325 1 0 0 0 0
- ColorCMap_Count: 7
- ColorCorrection: True
- ColorEnhancement: True
- ColorIntensity: 50
- ColorRecovery: 100
- ColorStyle: 1
- ContrastShoulder: 0.000000
- ContrastToe: 0.000000
- Crop: False
- DefringeStrength: 0
- DistortionAndGeometry: False
- ExposureCompPolicy: 0
- ExposureMode: 1
- ExposureShadowMode: 1
- GlobalContrast: 1.450000
- IllumProfile: AAAYjXjaY5RXZ2BkkGBgZGRgYJQDsbkZmBgYGDgZBBgYmYASckAOoxJIQpyBBcj+eL3M/t//entN62B7BoYG53//mUFKWWBKFRFK/7/Z5xS02cw5fs1lJyCX4d9/VgY+hi9xc1w5gCqYQUIMDfYwzAUzQQ1kghjYBHTw778AUaoEgb4AASEozc0gCKZ5gE5l4IVy+KA0P5QG+USCAeRSRklIQICcyASlmYFO5gTSt50t7W3u1tt9nXXDZtF+vb0TTq2ydw2aum8X6web6MC2ffZX5gLDh4UIk354rLcPPNuzzy3q4F63LlnbDFt3+8PLre2KOo7vCXIwsDPQibIHBZkEwyMxoElSEJMkgTpZgGQK0GcKe+xCGEbBKBgFo2AUjIJRMApGwSgYBVQFTKNgFIyCUTAKRsEoGAWjYBSMAqqCf////QcAIpll+w==
- IllumStrength: 0
- LocalContrast: 0
- NRChromaStrength: 50
- NRLumEnabled: False
- NRLumResidStrength: 65
- NRLumSmoothing: 25
- NRMode: 0
- NRQuality: 1
- NoiseReduction: True
- OriginalOrientation: 1
- OriginalRawFile: BLMF6422.RAF
- OutputCompression: 0
- OutputFormat: TIF
- OutputHasEditorSettings: True
- OutputHeight: 3288
- OutputInheritMakernote: True
- OutputLevel: 0
- OutputMetadataFilter: 3
- OutputName: BLMF6422_v1.TIF
- OutputPath: H:Foto\_2014140814-19 iffBLMF6422_v1.TIF
- OutputQuality: 95
- OutputResUnit: 2
- OutputSizeFrac: 1.000000
- OutputTemplate: {FolderPath} iff{FileName}_v{Uniq1}.TIF
- OutputWidth: 4952
- OutputXRes: 240
- OutputYRes: 240
- PlainCA: False
- RGGBConverter: False
- RawCA: False
- SharpenMasking: 100
- SharpenRadius: 0.600000
- SharpenStrength: 50
- Sharpening: True
- ToneAndContrast: True
- ToneCurveMode: 0
- ToneVersion: 1
- Vignetting: False
- WBLightSource: 2
- WBLightSourceName: Daylight/Flash
- WBMode: 0
- WBRawWhite: 69.7762 128 73.2121
- WBTemp: 4876.699219
- WBTint: -1.372408
- WhiteOffset: -0.000000
- XMP-tiff
- BitsPerSample: 16, 16, 16
- XMP-xmp
- ModifyDate: 2014:09:05 21:24:53+07:00
- XMP-xmpMM