- Раздел: Портрет
- Дата съёмки: 20.09.2014 12:35
- Дата загрузки фото: 02.10.2014 20:04
- Оригинальная фотография: 3529 x 2353 (2,7 Мб)
- Технические характеристики:
- Фотоаппарат: Canon EOS 5D Mark II
- Выдержка: 1/800
- Гиперфокальное расстояние: inf m
- Диафрагма: 2,8
- Светочувствительность: 400
- Фокусное расстояние: 70,0 mm (35 mm equivalent: 70,0 mm)
- Экспокоррекция: +1/3
- Полный EXIF
- Adobe
- ColorTransform: YCbCr
- Composite
- Aperture: 2,8
- CircleOfConfusion: 0,028 mm
- FOV: 28,0 deg
- FocalLength35efl: 70,0 mm (35 mm equivalent: 70,0 mm)
- HyperfocalDistance: inf m
- LensID: Canon EF 24-70mm f/2.8L
- ScaleFactor35efl: 1,1
- ShutterSpeed: 1/800
- ExifIFD
- ApertureValue: 2,8
- ColorSpace: sRGB
- CreateDate: 2014:09:20 12:35:16
- CustomRendered: Normal
- DateTimeOriginal: 2014:09:20 12:35:16
- ExposureCompensation: +1/3
- ExposureMode: Auto
- ExposureProgram: Aperture-priority AE
- ExposureTime: 1/800
- FNumber: 2,8
- Flash: Off, Did not fire
- FocalLength: 70,0 mm
- ISO: 400
- LensInfo: 24-70mm f/?
- LensModel: EF24-70mm f/2.8L USM
- MaxApertureValue: 2,8
- MeteringMode: Partial
- SceneCaptureType: Standard
- SerialNumber: 1921203953
- ShutterSpeedValue: 1/800
- WhiteBalance: Auto
- ICC-header
- ICC-meas
- ICC-view
- IFD0
- Make: Canon
- Model: Canon EOS 5D Mark II
- ModifyDate: 2014:10:02 00:02:19
- IFD1
- IPTC
- DateCreated: 2014:09:20
- System
- XMP-aux
- ApproximateFocusDistance: 1,22
- Firmware: 2.1.2
- FlashCompensation: 0
- ImageNumber: 0
- Lens: EF24-70mm f/2.8L USM
- LensID: 230
- XMP-crs
- AlreadyApplied: True
- AutoLateralCA: 0
- AutoWhiteVersion: 134348800
- Blacks2012: -23
- BlueHue: 0
- BlueSaturation: 0
- Clarity2012: 0
- ColorNoiseReduction: 0
- ColorTemperature: 5590
- Contrast2012: +37
- ConvertToGrayscale: True
- CropAngle: -2.78816
- CropBottom: 0.933312
- CropConstrainToWarp: 0
- CropLeft: 0
- CropRight: 0.942535
- CropTop: 0.087104
- Exposure2012: 0.00
- GrainAmount: 0
- GrayMixerAqua: -20
- GrayMixerBlue: +3
- GrayMixerGreen: -21
- GrayMixerMagenta: +4
- GrayMixerOrange: -11
- GrayMixerPurple: +10
- GrayMixerRed: -4
- GrayMixerYellow: -14
- GreenHue: 0
- GreenSaturation: 0
- HasCrop: True
- HasSettings: True
- Highlights2012: +72
- LensManualDistortionAmount: 0
- LensProfileEnable: 0
- LensProfileSetup: LensDefaults
- LuminanceSmoothing: 0
- ParametricDarks: 0
- ParametricHighlightSplit: 75
- ParametricHighlights: 0
- ParametricLights: 0
- ParametricMidtoneSplit: 50
- ParametricShadowSplit: 25
- ParametricShadows: 0
- PerspectiveAspect: 0
- PerspectiveHorizontal: 0
- PerspectiveRotate: 0.0
- PerspectiveScale: 100
- PerspectiveUpright: 0
- PerspectiveVertical: 0
- PostCropVignetteAmount: 0
- ProcessVersion: 6.7
- RedHue: 0
- RedSaturation: 0
- ShadowTint: 0
- Shadows2012: -41
- SharpenDetail: 25
- SharpenEdgeMasking: 0
- SharpenRadius: +1.0
- Sharpness: 50
- SplitToningBalance: 0
- SplitToningHighlightHue: 51
- SplitToningHighlightSaturation: 8
- SplitToningShadowHue: 0
- SplitToningShadowSaturation: 0
- Tint: 0
- ToneCurve: 0, 0, 255, 255
- ToneCurveBlue: 0, 0, 255, 255
- ToneCurveGreen: 0, 0, 255, 255
- ToneCurveName: Linear
- ToneCurveName2012: Linear
- ToneCurvePV2012: 0, 0, 255, 255
- ToneCurvePV2012Blue: 0, 0, 255, 255
- ToneCurvePV2012Green: 0, 0, 255, 255
- ToneCurvePV2012Red: 0, 0, 255, 255
- ToneCurveRed: 0, 0, 255, 255
- Version: 8.6
- VignetteAmount: 0
- WhiteBalance: Custom
- Whites2012: +100
- XMP-dc
- XMP-xmp
- CreateDate: 2014:09:20 12:35:16.85
- ModifyDate: 2014:10:02 00:02:19+04:00
- XMP-xmpMM