- Раздел: Другое, разное
- Дата съёмки: 27.07.2013 15:11
- Дата загрузки фото: 11.02.2015 15:41
- Оригинальная фотография: 900 x 554 (240 Кб)
- Технические характеристики:
- Фотоаппарат: Pentax K20D
- Выдержка: 1/400
- Гиперфокальное расстояние: inf m
- Диафрагма: 8,0
- Светочувствительность: 160
- Фокусное расстояние: 28,0 mm (35 mm equivalent: 28,0 mm)
- Полный EXIF
- Composite
- Aperture: 8,0
- CircleOfConfusion: 0,020 mm
- FOV: 65,0 deg
- FocalLength35efl: 28,0 mm (35 mm equivalent: 28,0 mm)
- HyperfocalDistance: inf m
- LensID: Schneider D-XENON 18-55mm F3.5-5.6
- ScaleFactor35efl: 1,5
- ShutterSpeed: 1/400
- ExifIFD
- ApertureValue: 8,0
- CFAPattern: [Blue,Green][Green,Red]
- ColorSpace: sRGB
- Contrast: Normal
- CreateDate: 2013:07:27 15:11:10
- CustomRendered: Normal
- DateTimeOriginal: 2013:07:27 15:11:10
- ExifImageHeight: 554
- ExifImageWidth: 900
- ExposureCompensation: 0
- ExposureMode: Auto
- ExposureProgram: Aperture-priority AE
- ExposureTime: 1/400
- FNumber: 8,0
- Flash: Off, Did not fire
- FocalLength: 28,0 mm
- FocalLengthIn35mmFormat: 42 mm
- ISO: 160
- LensInfo: 18-55mm f/3.5-5.6
- LensModel: Schneider D-XENON 18-55mm F3.5-5.6
- MeteringMode: Multi-segment
- Saturation: Normal
- SceneCaptureType: Standard
- SensingMethod: One-chip color area
- Sharpness: Soft
- ShutterSpeedValue: 1/400
- SubjectDistanceRange: Distant
- WhiteBalance: Auto
- ICC-header
- ICC-meas
- ICC-view
- IFD0
- Artist: Andrey Kirnov
- BitsPerSample: 8 8 8
- Copyright: В© Andrey Kirnov
- ImageHeight: 2753
- ImageWidth: 4473
- Make: PENTAX
- Model: PENTAX K20D
- ModifyDate: 2013:07:28 13:47:45
- Orientation: Horizontal (normal)
- PhotometricInterpretation: RGB
- SamplesPerPixel: 3
- IFD1
- IPTC
- By-line: Andrey Kirnov
- CopyrightNotice: В© Andrey Kirnov
- DateCreated: 2013:07:27
- System
- XMP-aux
- Lens: Schneider D-XENON 18-55mm F3.5-5.6
- LensID: 4 246
- XMP-crs
- AlreadyApplied: True
- AutoLateralCA: 1
- BlueHue: 0
- BlueSaturation: +3
- Brightness: +50
- Clarity: +23
- ColorNoiseReduction: 24
- ColorNoiseReductionDetail: 50
- ColorTemperature: 5320
- Contrast: +57
- ConvertToGrayscale: False
- CropAngle: 4.36824
- CropBottom: 0.993975
- CropConstrainToWarp: 0
- CropHeight: 2753
- CropLeft: 0.045334
- CropRight: 0.955125
- CropTop: 0
- CropUnit: pixels
- CropWidth: 4473
- DefringeGreenAmount: 0
- DefringeGreenHueHi: 60
- DefringeGreenHueLo: 40
- DefringePurpleAmount: 0
- DefringePurpleHueHi: 70
- DefringePurpleHueLo: 30
- Exposure: -1.27
- FillLight: 32
- GrainAmount: 0
- GreenHue: 0
- GreenSaturation: 0
- HasCrop: True
- HasSettings: True
- HighlightRecovery: 7
- HueAdjustmentAqua: 0
- HueAdjustmentBlue: +2
- HueAdjustmentGreen: +5
- HueAdjustmentMagenta: 0
- HueAdjustmentOrange: 0
- HueAdjustmentPurple: 0
- HueAdjustmentRed: 0
- HueAdjustmentYellow: 0
- LensManualDistortionAmount: 0
- LensProfileEnable: 0
- LensProfileSetup: LensDefaults
- LuminanceAdjustmentAqua: -9
- LuminanceAdjustmentBlue: -15
- LuminanceAdjustmentGreen: -7
- LuminanceAdjustmentMagenta: 0
- LuminanceAdjustmentOrange: -4
- LuminanceAdjustmentPurple: 0
- LuminanceAdjustmentRed: -13
- LuminanceAdjustmentYellow: -4
- LuminanceNoiseReductionContrast: 0
- LuminanceNoiseReductionDetail: 50
- LuminanceSmoothing: 25
- PaintCorrectionActive: true
- PaintCorrectionAmount: 1.000000
- PaintCorrectionBrightness: -0.054945
- PaintCorrectionClarity: 0.010990
- PaintCorrectionContrast: 0.000000
- PaintCorrectionExposure: -0.099000
- PaintCorrectionHue: 0.000000
- PaintCorrectionMaskCenterWeight: 0.029277
- PaintCorrectionMaskFlow: 0.702000
- PaintCorrectionMaskRadius: 0.095128
- PaintCorrectionMaskValue: 0.667000
- PaintCorrectionMaskWhat: Mask/Paint
- PaintCorrectionSaturation: 0.000000
- PaintCorrectionSharpness: 0.000000
- PaintCorrectionWhat: Correction
- ParametricDarks: +50
- ParametricHighlightSplit: 75
- ParametricHighlights: +29
- ParametricLights: +56
- ParametricMidtoneSplit: 50
- ParametricShadowSplit: 25
- ParametricShadows: -7
- PerspectiveHorizontal: 0
- PerspectiveRotate: 0.0
- PerspectiveScale: 100
- PerspectiveVertical: 0
- PostCropVignetteAmount: 0
- ProcessVersion: 5.7
- RedHue: 0
- RedSaturation: 0
- Saturation: +1
- SaturationAdjustmentAqua: -13
- SaturationAdjustmentBlue: -11
- SaturationAdjustmentGreen: +2
- SaturationAdjustmentMagenta: 0
- SaturationAdjustmentOrange: -7
- SaturationAdjustmentPurple: 0
- SaturationAdjustmentRed: +2
- SaturationAdjustmentYellow: +4
- ShadowTint: 0
- Shadows: 14
- SharpenDetail: 40
- SharpenEdgeMasking: 0
- SharpenRadius: +1.5
- Sharpness: 40
- SplitToningBalance: 0
- SplitToningHighlightHue: 0
- SplitToningHighlightSaturation: 0
- SplitToningShadowHue: 0
- SplitToningShadowSaturation: 0
- Tint: -3
- ToneCurve: 0, 0, 32, 22, 64, 56, 128, 128, 192, 196, 255, 255
- ToneCurveBlue: 0, 0, 255, 255
- ToneCurveGreen: 0, 0, 255, 255
- ToneCurveName: Medium Contrast
- ToneCurveRed: 0, 0, 255, 255
- Version: 7.1
- Vibrance: +23
- VignetteAmount: +6
- VignetteMidpoint: 53
- WhiteBalance: Custom
- XMP-dc
- Creator: Andrey Kirnov
- Format: image/jpeg
- Rights: В© Andrey Kirnov
- XMP-iptcCore
- CreatorCity: Voronezh
- CreatorCountry: Russian Federation
- CreatorWorkEmail: muph@yandex.ru
- CreatorWorkURL: http://360vrn.ru
- XMP-xmp
- ModifyDate: 2013:07:28 13:47:45+04:00
- XMP-xmpMM
- XMP-xmpRights
- Marked: True
- UsageTerms: No reproduction of any kind without prior written consent.
- WebStatement: http://muph.livejournal.com or http://360vrn.ru
- Просмотров: 242
- Рейтинг: голосов еще нет
- Отзывов: 0