Наваждение
Наваждение — психическое состояние, непроизвольно вызываемое навязчивой идеей (мыслью, воображаемым событием, воспоминанием) и проявляющееся как угнетение психики, страх, беспокойство, сомнение, влечение.
- Раздел: Другое, разное
- Дата съёмки: 20.03.2015 14:22
- Дата загрузки фото: 20.03.2015 17:45
- Оригинальная фотография: 1920 x 1280 (587 Кб)
- Технические характеристики:
- Фотоаппарат: Sony DSC-RX100
- Выдержка: 1/1000
- Гиперфокальное расстояние: inf m
- Диафрагма: 8,0
- Светочувствительность: 125
- Фокусное расстояние: 37,0 mm (35 mm equivalent: 74,0 mm)
- Полный EXIF
- Adobe
- ColorTransform: YCbCr
- Composite
- Aperture: 8,0
- CircleOfConfusion: 0,011 mm
- FOV: 27,0 deg
- FocalLength35efl: 37,0 mm (35 mm equivalent: 74,0 mm)
- HyperfocalDistance: inf m
- ScaleFactor35efl: 2,7
- ShutterSpeed: 1/1000
- ExifIFD
- ApertureValue: 8,0
- BrightnessValue: 11,34140625
- ColorSpace: sRGB
- Contrast: Normal
- CreateDate: 2015:03:20 14:22:10
- CustomRendered: Normal
- DateTimeOriginal: 2015:03:20 14:22:10
- DigitalZoomRatio: 1
- ExifImageHeight: 1280
- ExifImageWidth: 1920
- ExposureCompensation: 0
- ExposureMode: Auto
- ExposureProgram: Program AE
- ExposureTime: 1/1000
- FNumber: 8,0
- Flash: Off, Did not fire
- FocalLength: 37,1 mm
- FocalLengthIn35mmFormat: 100 mm
- ISO: 125
- LensInfo: 10.4-37.1mm f/1.8-4.9
- LensModel: 28-100mm F1.8-4.9
- LightSource: Unknown
- MaxApertureValue: 4,9
- MeteringMode: Multi-segment
- RecommendedExposureIndex: 125
- Saturation: Normal
- SceneCaptureType: Standard
- SceneType: Directly photographed
- SensitivityType: Recommended Exposure Index
- Sharpness: Normal
- ShutterSpeedValue: 1/1000
- WhiteBalance: Auto
- ICC-header
- ICC-meas
- ICC-view
- IFD0
- Make: SONY
- Model: DSC-RX100
- ModifyDate: 2015:03:20 17:42:44
- Orientation: Horizontal (normal)
- IFD1
- IPTC
- DateCreated: 2015:03:20
- System
- XMP-aux
- Lens: 28-100mm F1.8-4.9
- LensDistortInfo: 1073655479/1073741824 11566601/1073741824 -41714462/1073741824 15035746/1073741824
- XMP-crs
- AlreadyApplied: True
- AutoLateralCA: 1
- AutoWhiteVersion: 134348800
- Blacks2012: -15
- BlueHue: 0
- BlueSaturation: 0
- CameraProfile: Camera Standard dcpTool Untwist
- Clarity2012: 0
- ColorNoiseReduction: 25
- ColorNoiseReductionDetail: 50
- ColorNoiseReductionSmoothness: 50
- ColorTemperature: 5200
- Contrast2012: 0
- ConvertToGrayscale: False
- DefringeGreenAmount: 1
- DefringeGreenHueHi: 60
- DefringeGreenHueLo: 40
- DefringePurpleAmount: 2
- DefringePurpleHueHi: 70
- DefringePurpleHueLo: 30
- Exposure2012: 0.00
- GrainAmount: 0
- GreenHue: 0
- GreenSaturation: 0
- HasCrop: False
- HasSettings: True
- Highlights2012: -50
- HueAdjustmentAqua: 0
- HueAdjustmentBlue: 0
- HueAdjustmentGreen: 0
- HueAdjustmentMagenta: 0
- HueAdjustmentOrange: 0
- HueAdjustmentPurple: 0
- HueAdjustmentRed: 0
- HueAdjustmentYellow: 0
- LensManualDistortionAmount: 0
- LensProfileEnable: 0
- LensProfileSetup: LensDefaults
- LuminanceAdjustmentAqua: 0
- LuminanceAdjustmentBlue: 0
- LuminanceAdjustmentGreen: 0
- LuminanceAdjustmentMagenta: 0
- LuminanceAdjustmentOrange: 0
- LuminanceAdjustmentPurple: 0
- LuminanceAdjustmentRed: 0
- LuminanceAdjustmentYellow: 0
- LuminanceSmoothing: 0
- ParametricDarks: 0
- ParametricHighlightSplit: 75
- ParametricHighlights: 0
- ParametricLights: 0
- ParametricMidtoneSplit: 50
- ParametricShadowSplit: 25
- ParametricShadows: 0
- PerspectiveAspect: 0
- PerspectiveHorizontal: 0
- PerspectiveRotate: 0.0
- PerspectiveScale: 100
- PerspectiveUpright: 0
- PerspectiveVertical: 0
- PostCropVignetteAmount: 0
- ProcessVersion: 6.7
- RawFileName: DSC06300.ARW
- RedHue: 0
- RedSaturation: 0
- Saturation: 0
- SaturationAdjustmentAqua: 0
- SaturationAdjustmentBlue: 0
- SaturationAdjustmentGreen: 0
- SaturationAdjustmentMagenta: 0
- SaturationAdjustmentOrange: 0
- SaturationAdjustmentPurple: 0
- SaturationAdjustmentRed: 0
- SaturationAdjustmentYellow: 0
- ShadowTint: 0
- Shadows2012: +50
- SharpenDetail: 50
- SharpenEdgeMasking: 50
- SharpenRadius: +0.5
- Sharpness: 0
- SplitToningBalance: 0
- SplitToningHighlightHue: 0
- SplitToningHighlightSaturation: 0
- SplitToningShadowHue: 0
- SplitToningShadowSaturation: 0
- Tint: +5
- ToneCurve: 0, 0, 32, 22, 64, 56, 128, 128, 192, 196, 255, 255
- ToneCurveBlue: 0, 0, 255, 255
- ToneCurveGreen: 0, 0, 255, 255
- ToneCurveName: Medium Contrast
- ToneCurveName2012: Linear
- ToneCurvePV2012: 0, 0, 255, 255
- ToneCurvePV2012Blue: 0, 0, 255, 255
- ToneCurvePV2012Green: 0, 0, 255, 255
- ToneCurvePV2012Red: 0, 0, 255, 255
- ToneCurveRed: 0, 0, 255, 255
- Version: 8.7.1
- Vibrance: 0
- VignetteAmount: 0
- WhiteBalance: As Shot
- Whites2012: +8
- XMP-dc
- XMP-xmp
- CreatorTool: DSC-RX100 v1.10
- ModifyDate: 2015:03:20 17:42:44+03:00
- Rating: 0
- XMP-xmpMM
- Просмотров: 143
- Рейтинг: голосов еще нет
- Отзывов: отключены
Получить код для блога
Вставка фотографии в текущем разрешении |
Вставка миниатюры |
HTML (для вставки в блог):
BBCode (для вставки в форум):
Ссылка на фото:
Ссылка на миниатюру:
- Послать ссылку другу
Комментарии к фотографии |