- Раздел: Пейзаж
- Дата съёмки: 07.05.2015 15:57
- Дата загрузки фото: 08.05.2015 23:58
- Оригинальная фотография: 1631 x 1080 (961 Кб)
- Технические характеристики:
- Фотоаппарат: Ricoh GR
- Выдержка: 1/250
- Гиперфокальное расстояние: inf m
- Диафрагма: 5,6
- Светочувствительность: 100
- Фокусное расстояние: 18,0 mm (35 mm equivalent: 18,0 mm)
- Экспокоррекция: -0,3
- Полный EXIF
- Adobe
- ColorTransform: YCbCr
- Composite
- Aperture: 5,6
- CircleOfConfusion: 0,019 mm
- FOV: 90,0 deg
- FocalLength35efl: 18,0 mm (35 mm equivalent: 18,0 mm)
- HyperfocalDistance: inf m
- ScaleFactor35efl: 1,6
- ShutterSpeed: 1/250
- ExifIFD
- ApertureValue: 5,6
- BrightnessValue: 8,1
- ColorSpace: sRGB
- CreateDate: 2015:05:07 15:57:57
- DateTimeOriginal: 2015:05:07 15:57:57
- ExifImageHeight: 1080
- ExifImageWidth: 1631
- ExposureCompensation: -0,3
- ExposureMode: Auto
- ExposureProgram: Aperture-priority AE
- ExposureTime: 1/250
- FNumber: 5,6
- Flash: Off, Did not fire
- FocalLength: 18,3 mm
- FocalLengthIn35mmFormat: 28 mm
- ISO: 100
- LensInfo: 18.3mm f/2.8
- LensModel: 18.3 mm f/2.8
- LightSource: Unknown
- MaxApertureValue: 2,8
- MeteringMode: Multi-segment
- SceneCaptureType: Standard
- Sharpness: Normal
- ShutterSpeedValue: 1/250
- WhiteBalance: Auto
- ICC-header
- ICC-meas
- ICC-view
- IFD0
- Copyright: (C)ANDREY I. KHODAK
- Make: RICOH IMAGING COMPANY, LTD.
- Model: GR
- ModifyDate: 2015:05:08 23:46:20
- Orientation: Horizontal (normal)
- IFD1
- IPTC
- CopyrightNotice: (C)ANDREY I. KHODAK
- DateCreated: 2015:05:07
- System
- XMP-aux
- Lens: 18.3 mm f/2.8
- XMP-crs
- AlreadyApplied: True
- AutoLateralCA: 1
- Blacks2012: 0
- BlueHue: 0
- BlueSaturation: 0
- Brightness: +50
- Clarity: 0
- Clarity2012: 0
- ColorNoiseReduction: 25
- ColorNoiseReductionDetail: 50
- ColorTemperature: 5300
- Contrast: +25
- Contrast2012: 0
- ConvertToGrayscale: False
- Defringe: 0
- Exposure: -0.25
- Exposure2012: 0.00
- FillLight: 30
- GrainAmount: 0
- GreenHue: 0
- GreenSaturation: 0
- HasCrop: False
- HasSettings: True
- HighlightRecovery: 0
- Highlights2012: 0
- HueAdjustmentAqua: -1
- HueAdjustmentBlue: -1
- HueAdjustmentGreen: 0
- HueAdjustmentMagenta: 0
- HueAdjustmentOrange: 0
- HueAdjustmentPurple: 0
- HueAdjustmentRed: 0
- HueAdjustmentYellow: 0
- LensManualDistortionAmount: 0
- LensProfileEnable: 0
- LensProfileSetup: LensDefaults
- LuminanceAdjustmentAqua: -3
- LuminanceAdjustmentBlue: -28
- LuminanceAdjustmentGreen: 0
- LuminanceAdjustmentMagenta: 0
- LuminanceAdjustmentOrange: 0
- LuminanceAdjustmentPurple: 0
- LuminanceAdjustmentRed: 0
- LuminanceAdjustmentYellow: 0
- LuminanceSmoothing: 0
- ParametricDarks: 0
- ParametricHighlightSplit: 75
- ParametricHighlights: 0
- ParametricLights: 0
- ParametricMidtoneSplit: 50
- ParametricShadowSplit: 25
- ParametricShadows: 0
- PerspectiveHorizontal: 0
- PerspectiveRotate: 0.0
- PerspectiveScale: 100
- PerspectiveVertical: 0
- PostCropVignetteAmount: 0
- ProcessVersion: 5.7
- RawFileName: AH001479.DNG
- RedHue: 0
- RedSaturation: 0
- Saturation: 0
- SaturationAdjustmentAqua: 0
- SaturationAdjustmentBlue: +12
- SaturationAdjustmentGreen: 0
- SaturationAdjustmentMagenta: 0
- SaturationAdjustmentOrange: 0
- SaturationAdjustmentPurple: 0
- SaturationAdjustmentRed: 0
- SaturationAdjustmentYellow: 0
- ShadowTint: 0
- Shadows: 8
- Shadows2012: 0
- SharpenDetail: 25
- SharpenEdgeMasking: 0
- SharpenRadius: +1.0
- Sharpness: 25
- SplitToningBalance: 0
- SplitToningHighlightHue: 0
- SplitToningHighlightSaturation: 0
- SplitToningShadowHue: 0
- SplitToningShadowSaturation: 0
- Tint: -13
- ToneCurve: 0, 0, 32, 22, 64, 56, 128, 128, 192, 196, 255, 255
- ToneCurveBlue: 0, 0, 255, 255
- ToneCurveGreen: 0, 0, 255, 255
- ToneCurveName: Medium Contrast
- ToneCurveName2012: Linear
- ToneCurvePV2012: 0, 0, 255, 255
- ToneCurvePV2012Blue: 0, 0, 255, 255
- ToneCurvePV2012Green: 0, 0, 255, 255
- ToneCurvePV2012Red: 0, 0, 255, 255
- ToneCurveRed: 0, 0, 255, 255
- Version: 6.7
- Vibrance: 0
- VignetteAmount: 0
- WhiteBalance: As Shot
- Whites2012: 0
- XMP-dc
- Format: image/jpeg
- Rights: (C)ANDREY I. KHODAK
- XMP-xmp
- ModifyDate: 2015:05:08 23:46:20+03:00
- Rating: 0
- XMP-xmpMM
- Просмотров: 401
- Рейтинг: голосов еще нет
- Отзывов: 0