- Раздел: Другое, разное
- Дата съёмки: 26.09.2015 15:58
- Дата загрузки фото: 26.09.2015 13:53
- Оригинальная фотография: 600 x 1067 (419 Кб)
- Технические характеристики:
- Фотоаппарат: Samsung SM-N910C
- Выдержка: 1/100
- Гиперфокальное расстояние: inf m
- Диафрагма: 2,2
- Светочувствительность: 64
- Фокусное расстояние: 4,0 mm (35 mm equivalent: 28,0 mm)
- Полный EXIF
- Adobe
- ColorTransform: YCbCr
- Composite
- Aperture: 2,2
- CircleOfConfusion: 0,004 mm
- FOV: 65,0 deg
- Flash: No Flash
- FocalLength35efl: 4,0 mm (35 mm equivalent: 28,0 mm)
- GPSAltitude: 139 m Above Sea Level
- GPSDateTime: 2015:09:26 08:52:24Z
- GPSLatitude: 56 deg 0' 32,00" N
- GPSLatitudeRef: North
- GPSLongitude: 92 deg 53' 15,00" E
- GPSLongitudeRef: East
- GPSPosition: 56 deg 0' 32,00" N, 92 deg 53' 15,00" E
- HyperfocalDistance: inf m
- ScaleFactor35efl: 7,8
- ShutterSpeed: 1/100
- ExifIFD
- ApertureValue: 2,2
- BrightnessValue: 4,47
- CreateDate: 2015:09:26 15:58:04
- DateTimeOriginal: 2015:09:26 15:58:04
- ExposureCompensation: 0
- ExposureMode: Auto
- ExposureProgram: Program AE
- ExposureTime: 1/100
- FNumber: 2,2
- FocalLength: 4,8 mm
- FocalLengthIn35mmFormat: 31 mm
- ISO: 64
- MaxApertureValue: 2,2
- MeteringMode: Average
- SceneCaptureType: Standard
- ShutterSpeedValue: 1/100
- WhiteBalance: Auto
- GPS
- GPSAltitude: 139 m
- GPSAltitudeRef: Above Sea Level
- GPSDateStamp: 2015:09:26
- GPSLatitude: 56 deg 0' 32,00"
- GPSLongitude: 92 deg 53' 15,00"
- GPSTimeStamp: 08:52:24
- GPSVersionID: 2.2.0.0
- ICC-header
- ICC-meas
- ICC-view
- IFD0
- Make: samsung
- Model: SM-N910C
- ModifyDate: 2015:09:26 17:23:48
- Software: N910CXXU1COH4
- IFD1
- System
- XMP-crs
- AlreadyApplied: True
- BlueHue: 0
- BlueSaturation: 0
- Brightness: +10
- CameraProfile: Embedded
- ChromaticAberrationB: 0
- ChromaticAberrationR: 0
- Clarity: 0
- ColorNoiseReduction: 0
- Contrast: -11
- ConvertToGrayscale: False
- Defringe: 0
- Exposure: 0.00
- FillLight: 34
- GrainAmount: 0
- GreenHue: 0
- GreenSaturation: 0
- HasCrop: False
- HasSettings: True
- HighlightRecovery: 0
- HueAdjustmentAqua: 0
- HueAdjustmentBlue: 0
- HueAdjustmentGreen: 0
- HueAdjustmentMagenta: 0
- HueAdjustmentOrange: 0
- HueAdjustmentPurple: 0
- HueAdjustmentRed: 0
- HueAdjustmentYellow: 0
- IncrementalTemperature: 0
- IncrementalTint: 0
- LensManualDistortionAmount: 0
- LensProfileEnable: 0
- LensProfileSetup: LensDefaults
- LuminanceAdjustmentAqua: 0
- LuminanceAdjustmentBlue: 0
- LuminanceAdjustmentGreen: 0
- LuminanceAdjustmentMagenta: 0
- LuminanceAdjustmentOrange: 0
- LuminanceAdjustmentPurple: 0
- LuminanceAdjustmentRed: 0
- LuminanceAdjustmentYellow: 0
- LuminanceSmoothing: 0
- ParametricDarks: 0
- ParametricHighlightSplit: 75
- ParametricHighlights: 0
- ParametricLights: 0
- ParametricMidtoneSplit: 50
- ParametricShadowSplit: 25
- ParametricShadows: 0
- PerspectiveHorizontal: 0
- PerspectiveRotate: 0.0
- PerspectiveScale: 100
- PerspectiveVertical: 0
- PostCropVignetteAmount: 0
- ProcessVersion: 5.7
- RedHue: 0
- RedSaturation: 0
- Saturation: 0
- SaturationAdjustmentAqua: 0
- SaturationAdjustmentBlue: 0
- SaturationAdjustmentGreen: 0
- SaturationAdjustmentMagenta: 0
- SaturationAdjustmentOrange: 0
- SaturationAdjustmentPurple: 0
- SaturationAdjustmentRed: 0
- SaturationAdjustmentYellow: 0
- ShadowTint: 0
- Shadows: 1
- SharpenDetail: 25
- SharpenEdgeMasking: 0
- SharpenRadius: +1.0
- Sharpness: 0
- SplitToningBalance: 0
- SplitToningHighlightHue: 0
- SplitToningHighlightSaturation: 0
- SplitToningShadowHue: 0
- SplitToningShadowSaturation: 0
- ToneCurve: 0, 0, 255, 255
- ToneCurveName: Linear
- Version: 6.1
- Vibrance: 0
- VignetteAmount: 0
- WhiteBalance: As Shot
- XMP-exif
- DateTimeDigitized: 2015:09:26 15:58:04+08:00
- DateTimeOriginal: 2015:09:26 15:58:04+08:00
- ExifImageHeight: 1067
- ExifImageWidth: 600
- FlashFired: False
- FlashFunction: False
- FlashMode: Unknown
- FlashRedEyeMode: False
- FlashReturn: No return detection
- XMP-tiff
- ImageHeight: 1067
- ImageWidth: 600
- XMP-xmp
- CreateDate: 2015:09:26 15:58:04+08:00
- ModifyDate: 2015:09:26 17:23:48+08:00
- Просмотров: 97
- Рейтинг: голосов еще нет
- Отзывов: отключены