» Участники » color » Бубля » 20151226_124139.jpg |
20151226_124139.jpg |
20151226_124139.jpg
- Раздел: Другое, разное
- Дата съёмки: 26.12.2015 12:41
- Дата загрузки фото: 22.01.2016 20:50
- Оригинальная фотография: 657 x 1000 (317 Кб)
- Технические характеристики:
- Фотоаппарат: Samsung SM-N910C
- Гиперфокальное расстояние: inf m
- Диафрагма: 2,2
- Фокусное расстояние: 4,0 mm (35 mm equivalent: 28,0 mm)
- Полный EXIF
- Adobe
- ColorTransform: YCbCr
- Composite
- Aperture: 2,2
- CircleOfConfusion: 0,004 mm
- FOV: 65,0 deg
- FocalLength35efl: 4,0 mm (35 mm equivalent: 28,0 mm)
- HyperfocalDistance: inf m
- ScaleFactor35efl: 7,8
- ExifIFD
- ApertureValue: 2,2
- CreateDate: 2015:12:26 12:41:39
- DateTimeOriginal: 2015:12:26 12:41:39
- ExposureMode: Auto
- ExposureProgram: Program AE
- FNumber: 2,2
- FocalLength: 4,8 mm
- FocalLengthIn35mmFormat: 31 mm
- MaxApertureValue: 2,2
- MeteringMode: Center-weighted average
- SceneCaptureType: Night
- WhiteBalance: Auto
- ICC-header
- ICC-meas
- ICC-view
- IFD0
- Make: samsung
- Model: SM-N910C
- ModifyDate: 2015:12:26 23:30:41
- Software: N910CXXU2COJ5
- IFD1
- System
- XMP-crs
- AlreadyApplied: True
- BlueHue: 0
- BlueSaturation: 0
- Brightness: 0
- CameraProfile: Embedded
- ChromaticAberrationB: 0
- ChromaticAberrationR: 0
- Clarity: 0
- ColorNoiseReduction: 0
- Contrast: -10
- ConvertToGrayscale: False
- CropAngle: 0
- CropBottom: 1
- CropConstrainToWarp: 0
- CropHeight: 657
- CropLeft: 0
- CropRight: 0.856471
- CropTop: 0
- CropUnit: pixels
- CropWidth: 1000
- Defringe: 0
- Exposure: +0.25
- FillLight: 23
- GrainAmount: 0
- GreenHue: 0
- GreenSaturation: 0
- HasCrop: True
- HasSettings: True
- HighlightRecovery: 0
- HueAdjustmentAqua: 0
- HueAdjustmentBlue: 0
- HueAdjustmentGreen: 0
- HueAdjustmentMagenta: 0
- HueAdjustmentOrange: 0
- HueAdjustmentPurple: 0
- HueAdjustmentRed: 0
- HueAdjustmentYellow: 0
- IncrementalTemperature: 0
- IncrementalTint: 0
- LensManualDistortionAmount: 0
- LensProfileEnable: 0
- LensProfileSetup: LensDefaults
- LuminanceAdjustmentAqua: 0
- LuminanceAdjustmentBlue: 0
- LuminanceAdjustmentGreen: 0
- LuminanceAdjustmentMagenta: 0
- LuminanceAdjustmentOrange: 0
- LuminanceAdjustmentPurple: 0
- LuminanceAdjustmentRed: 0
- LuminanceAdjustmentYellow: 0
- LuminanceSmoothing: 0
- ParametricDarks: 0
- ParametricHighlightSplit: 75
- ParametricHighlights: 0
- ParametricLights: 0
- ParametricMidtoneSplit: 50
- ParametricShadowSplit: 25
- ParametricShadows: 0
- PerspectiveHorizontal: 0
- PerspectiveRotate: 0.0
- PerspectiveScale: 100
- PerspectiveVertical: 0
- PostCropVignetteAmount: 0
- ProcessVersion: 5.7
- RedHue: 0
- RedSaturation: 0
- Saturation: 0
- SaturationAdjustmentAqua: 0
- SaturationAdjustmentBlue: 0
- SaturationAdjustmentGreen: 0
- SaturationAdjustmentMagenta: 0
- SaturationAdjustmentOrange: 0
- SaturationAdjustmentPurple: 0
- SaturationAdjustmentRed: 0
- SaturationAdjustmentYellow: 0
- ShadowTint: 0
- Shadows: 6
- SharpenDetail: 100
- SharpenEdgeMasking: 100
- SharpenRadius: +0.5
- Sharpness: 150
- SplitToningBalance: 0
- SplitToningHighlightHue: 0
- SplitToningHighlightSaturation: 0
- SplitToningShadowHue: 0
- SplitToningShadowSaturation: 0
- ToneCurve: 0, 0, 255, 255
- ToneCurveName: Linear
- Version: 6.1
- Vibrance: 0
- VignetteAmount: 0
- WhiteBalance: As Shot
- XMP-exif
- DateTimeDigitized: 2015:12:26 12:41:39+07:00
- DateTimeOriginal: 2015:12:26 12:41:39+07:00
- ExifImageHeight: 1000
- ExifImageWidth: 657
- XMP-tiff
- ImageHeight: 1000
- ImageWidth: 657
- XMP-xmp
- CreateDate: 2015:12:26 12:41:39+07:00
- ModifyDate: 2015:12:26 23:30:41+07:00
- Просмотров: 79
- Рейтинг: голосов еще нет
- Отзывов: отключены
Получить код для блога
Вставка фотографии в текущем разрешении |
Вставка миниатюры |
HTML (для вставки в блог):
BBCode (для вставки в форум):
Ссылка на фото:
Ссылка на миниатюру:
- Послать ссылку другу
Комментарии к фотографии |