SAM_3393.JPG |
SAM_3393.JPG
Лауреат Национальной премии «Продукт года 2015»
Номинация «Любительская компактная системная фотокамера»
Olympus Pen E-PL7
- Раздел: Другое, разное
- Дата съёмки: неизвестно
- Дата загрузки фото: 23.01.2016 16:43
- Оригинальная фотография: 3000 x 2250 (2,3 Мб)
- Технические характеристики:
- Фотоаппарат: Samsung ST60 / VLUU ST60 / TL105 / ST61
- Выдержка: 1/13
- Гиперфокальное расстояние: inf m
- Диафрагма: 3,9
- Светочувствительность: 80
- Фокусное расстояние: 6,0 mm (35 mm equivalent: 36,0 mm)
- Экспокоррекция: -0,7
- Полный EXIF
- Adobe
- ColorTransform: YCbCr
- Composite
- Aperture: 3,9
- CircleOfConfusion: 0,005 mm
- FOV: 53,0 deg
- FocalLength35efl: 6,0 mm (35 mm equivalent: 36,0 mm)
- HyperfocalDistance: inf m
- ScaleFactor35efl: 6,5
- ShutterSpeed: 1/13
- ExifIFD
- ApertureValue: 3,9
- BrightnessValue: 3
- ColorSpace: sRGB
- Contrast: Normal
- CreateDate: 2016:01:23 12:23:27
- CustomRendered: Normal
- DateTimeOriginal: 2016:01:23 12:23:27
- DigitalZoomRatio: 0
- ExifImageHeight: 2250
- ExifImageWidth: 3000
- ExposureCompensation: -0,7
- ExposureMode: Manual
- ExposureProgram: Program AE
- ExposureTime: 1/13
- FNumber: 3,9
- Flash: Off, Did not fire
- FocalLength: 6,9 mm
- FocalLengthIn35mmFormat: 39 mm
- GainControl: None
- ISO: 80
- LightSource: Unknown
- MaxApertureValue: 3,9
- MeteringMode: Multi-segment
- Saturation: Normal
- SceneCaptureType: Standard
- SceneType: Directly photographed
- Sharpness: Normal
- ShutterSpeedValue: 1/13
- SubjectDistanceRange: Unknown
- WhiteBalance: Auto
- ICC-header
- ICC-meas
- ICC-view
- IFD0
- ImageDescription: SAMSUNG DIGITAL CAMERA
- Make: SAMSUNG
- Model: SAMSUNG ST60 / VLUU ST60 / SAMSUNG TL105 / SAMSUNG ST61
- ModifyDate: 2016:01:23 12:44:30
- Orientation: Horizontal (normal)
- IFD1
- IPTC
- Caption-Abstract: SAMSUNG DIGITAL CAMERA
- DateCreated: 2016:01:23
- System
- XMP-crs
- AlreadyApplied: True
- BlueHue: 0
- BlueSaturation: 0
- Brightness: 0
- CameraProfile: Embedded
- ChromaticAberrationB: 0
- ChromaticAberrationR: 0
- Clarity: 0
- ColorNoiseReduction: 0
- Contrast: 0
- ConvertToGrayscale: False
- Defringe: 0
- Exposure: 0.00
- FillLight: 0
- GrainAmount: 0
- GreenHue: 0
- GreenSaturation: 0
- HasCrop: False
- HasSettings: True
- HighlightRecovery: 0
- HueAdjustmentAqua: 0
- HueAdjustmentBlue: 0
- HueAdjustmentGreen: 0
- HueAdjustmentMagenta: 0
- HueAdjustmentOrange: 0
- HueAdjustmentPurple: 0
- HueAdjustmentRed: 0
- HueAdjustmentYellow: 0
- IncrementalTemperature: 0
- IncrementalTint: 0
- LuminanceAdjustmentAqua: 0
- LuminanceAdjustmentBlue: 0
- LuminanceAdjustmentGreen: 0
- LuminanceAdjustmentMagenta: 0
- LuminanceAdjustmentOrange: 0
- LuminanceAdjustmentPurple: 0
- LuminanceAdjustmentRed: 0
- LuminanceAdjustmentYellow: 0
- LuminanceSmoothing: 0
- ParametricDarks: 0
- ParametricHighlightSplit: 75
- ParametricHighlights: -13
- ParametricLights: 0
- ParametricMidtoneSplit: 50
- ParametricShadowSplit: 25
- ParametricShadows: 0
- PostCropVignetteAmount: 0
- ProcessVersion: 5.7
- RawFileName: SAM_3393.JPG
- RedHue: 0
- RedSaturation: 0
- Saturation: 0
- SaturationAdjustmentAqua: 0
- SaturationAdjustmentBlue: 0
- SaturationAdjustmentGreen: 0
- SaturationAdjustmentMagenta: 0
- SaturationAdjustmentOrange: 0
- SaturationAdjustmentPurple: 0
- SaturationAdjustmentRed: 0
- SaturationAdjustmentYellow: 0
- ShadowTint: 0
- Shadows: 0
- SharpenDetail: 25
- SharpenEdgeMasking: 0
- SharpenRadius: +1.0
- Sharpness: 0
- SplitToningBalance: 0
- SplitToningHighlightHue: 0
- SplitToningHighlightSaturation: 0
- SplitToningShadowHue: 0
- SplitToningShadowSaturation: 0
- ToneCurve: 0, 0, 255, 255
- ToneCurveName: Linear
- Version: 6.0
- Vibrance: 0
- VignetteAmount: 0
- WhiteBalance: As Shot
- XMP-dc
- Description: SAMSUNG DIGITAL CAMERA
- Format: image/jpeg
- XMP-xmp
- CreateDate: 2016:01:23 12:23:27.000+04:00
- CreatorTool: ver1.0.22
- ModifyDate: 2016:01:23 12:44:30+04:00
- Rating: 0
- XMP-xmpMM
- DerivedFrom:
- Просмотров: 381
- Рейтинг: голосов еще нет
- Отзывов: 0
Получить код для блога
Вставка фотографии в текущем разрешении |
Вставка миниатюры |
HTML (для вставки в блог):
BBCode (для вставки в форум):
Ссылка на фото:
Ссылка на миниатюру:
- Послать ссылку другу
Комментарии к фотографии |