- Раздел: Другое, разное
- Дата съёмки: 11.03.2013 18:53
- Дата загрузки фото: 25.03.2016 22:25
- Оригинальная фотография: 1296 x 896 (816 Кб)
- Технические характеристики:
- Фотоаппарат: Leica Camera AG LEICA M (Typ 240)
- Выдержка: 4,0
- Гиперфокальное расстояние: inf m
- Диафрагма: 4,0
- Светочувствительность: 800
- Фокусное расстояние: 50,0 mm (35 mm equivalent: 200,0 mm)
- Полный EXIF
- Composite
- Aperture: 4,0
- CFAPattern: [Blue,Green][Green,Red]
- CircleOfConfusion: 0,007 mm
- FOV: 10,0 deg
- FocalLength35efl: 50,0 mm (35 mm equivalent: 200,0 mm)
- GPSAltitude: 0 m Above Sea Level
- GPSDateTime: 2013:03:11 00:00:00Z
- HyperfocalDistance: inf m
- LightValue: -1,0
- ScaleFactor35efl: 4,5
- ShutterSpeed: 4,0
- ExifIFD
- ApertureValue: 4,0
- Contrast: Normal
- CreateDate: 2013:03:11 18:53:28
- CustomRendered: Normal
- DateTimeOriginal: 2013:03:11 18:53:28
- DigitalZoomRatio: 0
- ExposureCompensation: 0
- ExposureMode: Manual
- ExposureProgram: Manual
- ExposureTime: 4,0
- FNumber: 4,0
- Flash: No Flash
- FocalLength: 50,0 mm
- ISO: 800
- LensModel: Noctilux-M 1:0.95/50 ASPH.
- LightSource: Other
- MaxApertureValue: inf
- MeteringMode: Center-weighted average
- Saturation: Normal
- SceneCaptureType: Standard
- SceneType: Directly photographed
- SerialNumber: 4444550
- Sharpness: Normal
- ShutterSpeedValue: 4,0
- WhiteBalance: Manual
- GPS
- GPSAltitude: 0 m
- GPSAltitudeRef: Above Sea Level
- GPSDOP: 0
- GPSDateStamp: 2013:03:11
- GPSSpeed: 0
- GPSSpeedRef: Unknown ()
- GPSStatus: Measurement Void
- GPSTimeStamp: 00:00:00
- GPSTrack: 0
- GPSVersionID: 2.2.0.0
- IFD0
- BitsPerSample: 8
- CameraSerialNumber: 4444550
- Copyright: В© 2013 Thorsten Overgaard
- ImageHeight: 896
- ImageWidth: 1296
- Make: Leica Camera AG
- Model: LEICA M (Typ 240)
- ModifyDate: 2013:03:11 18:53:28
- Orientation: Horizontal (normal)
- PhotometricInterpretation: RGB
- PlanarConfiguration: Chunky
- RawDataUniqueID: 30303030303030303030373932343732
- SamplesPerPixel: 3
- Software: RawTherapee
- UniqueCameraModel: LEICA M (Typ 240)
- SubIFD
- CFAPattern2: 2 1 1 0
- CFARepeatPatternDim: 2 2
- System
- XMP-aux
- Lens: Noctilux-M 1:0.95/50 ASPH.
- XMP-crs
- AlreadyApplied: False
- AutoLateralCA: 0
- AutoWhiteVersion: 134348800
- Blacks2012: +45
- BlueHue: 0
- BlueSaturation: 0
- Clarity2012: 0
- ColorNoiseReduction: 25
- ColorNoiseReductionDetail: 50
- ColorNoiseReductionSmoothness: 50
- ColorTemperature: 9200
- Contrast2012: -50
- ConvertToGrayscale: False
- CropAngle: 0
- CropBottom: 0.945497
- CropConstrainToWarp: 0
- CropLeft: 0.01362
- CropRight: 0.995445
- CropTop: 0.013643
- DefringeGreenAmount: 0
- DefringeGreenHueHi: 60
- DefringeGreenHueLo: 40
- DefringePurpleAmount: 0
- DefringePurpleHueHi: 70
- DefringePurpleHueLo: 30
- Dehaze: 0
- Exposure2012: +2.50
- GrainAmount: 0
- GreenHue: 0
- GreenSaturation: 0
- HasCrop: True
- HasSettings: True
- Highlights2012: -75
- HueAdjustmentAqua: 0
- HueAdjustmentBlue: 0
- HueAdjustmentGreen: 0
- HueAdjustmentMagenta: 0
- HueAdjustmentOrange: 0
- HueAdjustmentPurple: 0
- HueAdjustmentRed: 0
- HueAdjustmentYellow: 0
- LensManualDistortionAmount: 0
- LensProfileEnable: 0
- LensProfileSetup: LensDefaults
- LuminanceAdjustmentAqua: 0
- LuminanceAdjustmentBlue: 0
- LuminanceAdjustmentGreen: 0
- LuminanceAdjustmentMagenta: 0
- LuminanceAdjustmentOrange: 0
- LuminanceAdjustmentPurple: 0
- LuminanceAdjustmentRed: 0
- LuminanceAdjustmentYellow: 0
- LuminanceSmoothing: 0
- ParametricDarks: 0
- ParametricHighlightSplit: 75
- ParametricHighlights: 0
- ParametricLights: 0
- ParametricMidtoneSplit: 50
- ParametricShadowSplit: 25
- ParametricShadows: 0
- PerspectiveAspect: 0
- PerspectiveHorizontal: 0
- PerspectiveRotate: 0.0
- PerspectiveScale: 100
- PerspectiveUpright: 0
- PerspectiveVertical: 0
- PostCropVignetteAmount: 0
- ProcessVersion: 6.7
- RawFileName: L1001463.DNG
- RedHue: 0
- RedSaturation: 0
- Saturation: 0
- SaturationAdjustmentAqua: 0
- SaturationAdjustmentBlue: 0
- SaturationAdjustmentGreen: 0
- SaturationAdjustmentMagenta: 0
- SaturationAdjustmentOrange: 0
- SaturationAdjustmentPurple: 0
- SaturationAdjustmentRed: 0
- SaturationAdjustmentYellow: 0
- ShadowTint: 0
- Shadows2012: +45
- SharpenDetail: 25
- SharpenEdgeMasking: 0
- SharpenRadius: +1.0
- Sharpness: 25
- SplitToningBalance: 0
- SplitToningHighlightHue: 0
- SplitToningHighlightSaturation: 0
- SplitToningShadowHue: 0
- SplitToningShadowSaturation: 0
- Tint: -58
- ToneCurve: 0, 0, 32, 22, 64, 56, 128, 128, 192, 196, 255, 255
- ToneCurveBlue: 0, 0, 255, 255
- ToneCurveGreen: 0, 0, 255, 255
- ToneCurveName: Medium Contrast
- ToneCurveName2012: Linear
- ToneCurvePV2012: 0, 0, 255, 255
- ToneCurvePV2012Blue: 0, 0, 255, 255
- ToneCurvePV2012Green: 0, 0, 255, 255
- ToneCurvePV2012Red: 0, 0, 255, 255
- ToneCurveRed: 0, 0, 255, 255
- ToneMapStrength: 0
- Version: 9.5
- Vibrance: 0
- VignetteAmount: 0
- WhiteBalance: Custom
- Whites2012: -75
- XMP-dc
- Format: image/dng
- Rights: В© 2013 Thorsten Overgaard
- Subject: 2013, Brabrand, Denmark, Leica 50mm Noctilux-M ASPH f/0.95, Leica M Type 240, March, Thorsten Overgaard, evening, sunset, test, trees
- XMP-exifEX
- BodySerialNumber: 4444550
- PhotographicSensitivity: 800
- XMP-iptcCore
- CreatorAddress: Silkeborgvej 601
- CreatorCity: Aarhus
- CreatorCountry: Denmark
- CreatorWorkEmail: thorsten@overgaard.dk
- XMP-lr
- HierarchicalSubject: 2013, Brabrand, Denmark, Leica 50mm Noctilux-M ASPH f/0.95, Leica M Type 240, March, Thorsten Overgaard, evening, sunset, test, trees
- XMP-xmp
- CreatorTool: 1.1.0.0
- Label: Yellow
- Rating: 3
- XMP-xmpMM
- XMP-xmpRights
- Просмотров: 223
- Рейтинг: голосов еще нет
- Отзывов: 0