Уважаемые друзья и участники проекта iXBT.photo! К сожалению, 1 марта 2026 года проект iXBT.photo прекратит свою работу и будет закрыт. Мы высоко ценим ваше участие и тот вклад, который вы внесли в развитие нашего сообщества. Пожалуйста, не забудьте сохранить ваши фотографии до этой даты.
С уважением, команда iXBT.com
| iso200-1_40 с-f_8,0-14,0 мм-CU6I2759.jpg |
iso200-1_40 с-f_8,0-14,0 мм-CU6I2759.jpg
- Раздел: Тесты фототехники
- Дата съёмки: неизвестно
- Дата загрузки фото: 01.07.2016 08:52
- Оригинальная фотография: 5472 x 3648 (6,9 Мб)
- Технические характеристики:
- Фотоаппарат: Canon EOS-1D X Mark II
- Выдержка: 1/40
- Гиперфокальное расстояние: inf m
- Диафрагма: 8,0
- Светочувствительность: 200
- Фокусное расстояние: 14,0 mm (35 mm equivalent: 14,0 mm)
- Полный EXIF
- Adobe
- ColorTransform: YCbCr
- Composite
- Aperture: 8,0
- CircleOfConfusion: 0,030 mm
- FOV: 104,0 deg
- FocalLength35efl: 14,0 mm (35 mm equivalent: 14,0 mm)
- HyperfocalDistance: inf m
- LensID: Canon EF 14mm f/2.8L II USM
- ScaleFactor35efl: 1,0
- ShutterSpeed: 1/40
- ExifIFD
- ApertureValue: 8,0
- ColorSpace: sRGB
- CreateDate: 2016:04:24 11:11:01
- CustomRendered: Normal
- DateTimeOriginal: 2016:04:24 11:11:01
- ExifImageHeight: 3648
- ExifImageWidth: 5472
- ExposureCompensation: 0
- ExposureMode: Auto
- ExposureProgram: Aperture-priority AE
- ExposureTime: 1/40
- FNumber: 8,0
- Flash: Off, Did not fire
- FocalLength: 14,0 mm
- ISO: 200
- LensInfo: 14mm f/?
- LensModel: EF14mm f/2.8L II USM
- LensSerialNumber: 0000406381
- MaxApertureValue: 2,8
- MeteringMode: Multi-segment
- RecommendedExposureIndex: 200
- SceneCaptureType: Standard
- SensitivityType: Recommended Exposure Index
- SerialNumber: 023011001026
- ShutterSpeedValue: 1/40
- WhiteBalance: Manual
- ICC-header
- ICC-meas
- ICC-view
- IFD0
- Artist: Kostromin Igor
- BitsPerSample: 8 8 8
- Copyright: Kostromin Igor
- ImageHeight: 3648
- ImageWidth: 5472
- Make: Canon
- Model: Canon EOS-1D X Mark II
- ModifyDate: 2016:04:24 11:11:01
- Orientation: Horizontal (normal)
- PhotometricInterpretation: RGB
- SamplesPerPixel: 3
- IFD1
- IPTC
- By-line: Kostromin Igor
- City: Moscow
- CopyrightNotice: Kostromin Igor
- Country-PrimaryLocationName: Russia
- DateCreated: 2016:04:24
- Prefs: Tagged:0, ColorClass:0, Rating:0, FrameNum:-00001
- Urgency: 0 (reserved)
- System
- XMP-aux
- ApproximateFocusDistance: 0,93
- Firmware: 1.0.0
- FlashCompensation: 0
- ImageNumber: 0
- Lens: EF14mm f/2.8L II USM
- LensID: 247
- XMP-crs
- AutoLateralCA: 1
- AutoWhiteVersion: 134348800
- Blacks2012: 0
- BlueHue: 0
- BlueSaturation: 0
- CameraProfile: Camera Standard
- Clarity2012: +10
- ColorNoiseReduction: 25
- ColorNoiseReductionDetail: 50
- ColorNoiseReductionSmoothness: 50
- ColorTemperature: 4650
- Contrast2012: +2
- ConvertToGrayscale: False
- DefringeGreenAmount: 0
- DefringeGreenHueHi: 60
- DefringeGreenHueLo: 40
- DefringePurpleAmount: 0
- DefringePurpleHueHi: 70
- DefringePurpleHueLo: 30
- Dehaze: 0
- Exposure2012: +0.30
- GrainAmount: 0
- GreenHue: 0
- GreenSaturation: 0
- HasSettings: True
- Highlights2012: -41
- HueAdjustmentAqua: 0
- HueAdjustmentBlue: 0
- HueAdjustmentGreen: 0
- HueAdjustmentMagenta: 0
- HueAdjustmentOrange: 0
- HueAdjustmentPurple: 0
- HueAdjustmentRed: 0
- HueAdjustmentYellow: 0
- LensManualDistortionAmount: 0
- LensProfileChromaticAberrationScale: 100
- LensProfileDistortionScale: 100
- LensProfileEnable: 1
- LensProfileFilename: Canon EOS 5D Mark II (Canon EF 14mm f2.8 L II USM) - RAW.lcp
- LensProfileSetup: LensDefaults
- LensProfileVignettingScale: 100
- LuminanceAdjustmentAqua: 0
- LuminanceAdjustmentBlue: 0
- LuminanceAdjustmentGreen: 0
- LuminanceAdjustmentMagenta: 0
- LuminanceAdjustmentOrange: 0
- LuminanceAdjustmentPurple: 0
- LuminanceAdjustmentRed: 0
- LuminanceAdjustmentYellow: 0
- LuminanceSmoothing: 0
- ParametricDarks: 0
- ParametricHighlightSplit: 75
- ParametricHighlights: 0
- ParametricLights: 0
- ParametricMidtoneSplit: 50
- ParametricShadowSplit: 25
- ParametricShadows: 0
- PerspectiveAspect: 0
- PerspectiveHorizontal: 0
- PerspectiveRotate: 0.0
- PerspectiveScale: 100
- PerspectiveUpright: 0
- PerspectiveVertical: 0
- PostCropVignetteAmount: 0
- ProcessVersion: 6.7
- RedHue: 0
- RedSaturation: 0
- Saturation: +20
- SaturationAdjustmentAqua: 0
- SaturationAdjustmentBlue: 0
- SaturationAdjustmentGreen: 0
- SaturationAdjustmentMagenta: 0
- SaturationAdjustmentOrange: 0
- SaturationAdjustmentPurple: 0
- SaturationAdjustmentRed: 0
- SaturationAdjustmentYellow: 0
- ShadowTint: 0
- Shadows2012: +30
- SharpenDetail: 25
- SharpenEdgeMasking: 0
- SharpenRadius: +0.5
- Sharpness: 70
- SplitToningBalance: 0
- SplitToningHighlightHue: 0
- SplitToningHighlightSaturation: 0
- SplitToningShadowHue: 0
- SplitToningShadowSaturation: 0
- Tint: -24
- ToneCurve: 0, 0, 255, 255
- ToneCurveBlue: 0, 0, 255, 255
- ToneCurveGreen: 0, 0, 255, 255
- ToneCurveName: Linear
- ToneCurveName2012: Linear
- ToneCurvePV2012: 0, 0, 255, 255
- ToneCurvePV2012Blue: 0, 0, 255, 255
- ToneCurvePV2012Green: 0, 0, 255, 255
- ToneCurvePV2012Red: 0, 0, 255, 255
- ToneCurveRed: 0, 0, 255, 255
- ToneMapStrength: 0
- Version: 9.5
- Vibrance: +1
- VignetteAmount: 0
- WhiteBalance: As Shot
- Whites2012: 0
- XMP-dc
- Creator: Kostromin Igor
- Format: image/jpeg
- Rights: Kostromin Igor
- XMP-iptcCore
- CreatorCity: Moscow
- CreatorCountry: Russia
- CreatorPostalCode: 115093
- CreatorRegion: Moscow
- CreatorWorkEmail: kia-2_67@mail.ru
- CreatorWorkTelephone: 8 (926) 206-28-36
- CreatorWorkURL: www.kostromini.ru
- XMP-photomech
- ColorClass: 0
- PMVersion: PM5
- Prefs: Tagged:0, ColorClass:0, Rating:0, FrameNum:000000
- Tagged: False
- XMP-x
- XMP-xmp
- Label:
- ModifyDate: 2016:04:26 15:24:33+03:00
- Rating: 0
- XMP-xmpMM
- XMP-xmpRights
- Marked: True
- WebStatement: www.kostromini.ru
- Просмотров: 100
- Рейтинг: голосов еще нет
- Отзывов: отключены
Получить код для блога
| Вставка фотографии в текущем разрешении |
Вставка миниатюры |
HTML (для вставки в блог):
BBCode (для вставки в форум):
Ссылка на фото:
Ссылка на миниатюру:
- Послать ссылку другу
| Комментарии к фотографии |