- Раздел: Другое, разное
- Дата съёмки: неизвестно
- Дата загрузки фото: 07.07.2016 21:57
- Оригинальная фотография: 4272 x 2848 (1,3 Мб)
- Технические характеристики:
- Фотоаппарат: Canon EOS 450D
- Выдержка: 1/160
- Гиперфокальное расстояние: inf m
- Диафрагма: 4,0
- Светочувствительность: 100
- Фокусное расстояние: 33,0 mm (35 mm equivalent: 33,0 mm)
- Полный EXIF
- Adobe
- ColorTransform: YCbCr
- Composite
- Aperture: 4,0
- CircleOfConfusion: 0,019 mm
- DOF: inf (0,00 m - inf)
- FOV: 57,0 deg
- FocalLength35efl: 33,0 mm (35 mm equivalent: 33,0 mm)
- HyperfocalDistance: inf m
- LensID: Canon EF 85mm f/1.2L or Sigma or Tamron Lens
- ScaleFactor35efl: 1,6
- ShutterSpeed: 1/160
- ExifIFD
- ApertureValue: 4,0
- CreateDate: 2016:06:29 13:02:02
- CustomRendered: Normal
- DateTimeOriginal: 2016:06:29 13:02:02
- ExposureCompensation: 0
- ExposureMode: Auto
- ExposureProgram: Aperture-priority AE
- ExposureTime: 1/160
- FNumber: 4,0
- Flash: Off, Did not fire
- FocalLength: 33,0 mm
- ISO: 100
- LensInfo: 17-50mm f/?
- LensModel: 17-50mm
- MaxApertureValue: 2,8
- MeteringMode: Spot
- SceneCaptureType: Standard
- SerialNumber: 1530304971
- ShutterSpeedValue: 1/160
- SubjectDistance: 1,94 m
- WhiteBalance: Manual
- ICC-header
- ICC-meas
- ICC-view
- IFD0
- Make: Canon
- Model: Canon EOS 450D
- ModifyDate: 2016:07:03 21:52:10
- IFD1
- IPTC
- DateCreated: 2016:06:29
- System
- XMP-aux
- ApproximateFocusDistance: 1,94
- Firmware: 1.0.9
- FlashCompensation: 0
- ImageNumber: 0
- Lens: 17-50mm
- LensID: 137
- XMP-crs
- AlreadyApplied: True
- BlueHue: 0
- BlueSaturation: 0
- Brightness: +36
- ChromaticAberrationB: 0
- ChromaticAberrationR: 0
- Clarity: 0
- ColorNoiseReduction: 25
- ColorNoiseReductionDetail: 50
- ColorTemperature: 5650
- Contrast: +21
- ConvertToGrayscale: False
- Defringe: 0
- Exposure: -1.52
- FillLight: 8
- GrainAmount: 0
- GreenHue: 0
- GreenSaturation: 0
- HasCrop: False
- HasSettings: True
- HighlightRecovery: 7
- HueAdjustmentAqua: 0
- HueAdjustmentBlue: 0
- HueAdjustmentGreen: 0
- HueAdjustmentMagenta: 0
- HueAdjustmentOrange: 0
- HueAdjustmentPurple: 0
- HueAdjustmentRed: 0
- HueAdjustmentYellow: 0
- LensManualDistortionAmount: 0
- LensProfileChromaticAberrationScale: 100
- LensProfileDistortionScale: 100
- LensProfileEnable: 1
- LensProfileFilename: Canon (SIGMA 17-50mm F2.8 EX DC OS HSM) - RAW.lcp
- LensProfileSetup: LensDefaults
- LensProfileVignettingScale: 100
- LuminanceAdjustmentAqua: 0
- LuminanceAdjustmentBlue: 0
- LuminanceAdjustmentGreen: 0
- LuminanceAdjustmentMagenta: 0
- LuminanceAdjustmentOrange: 0
- LuminanceAdjustmentPurple: 0
- LuminanceAdjustmentRed: 0
- LuminanceAdjustmentYellow: 0
- LuminanceSmoothing: 0
- ParametricDarks: 0
- ParametricHighlightSplit: 75
- ParametricHighlights: 0
- ParametricLights: 0
- ParametricMidtoneSplit: 50
- ParametricShadowSplit: 25
- ParametricShadows: 0
- PerspectiveHorizontal: 0
- PerspectiveRotate: 0.0
- PerspectiveScale: 100
- PerspectiveVertical: 0
- PostCropVignetteAmount: 0
- ProcessVersion: 5.7
- RedHue: 0
- RedSaturation: 0
- Saturation: 0
- SaturationAdjustmentAqua: 0
- SaturationAdjustmentBlue: 0
- SaturationAdjustmentGreen: 0
- SaturationAdjustmentMagenta: 0
- SaturationAdjustmentOrange: 0
- SaturationAdjustmentPurple: 0
- SaturationAdjustmentRed: 0
- SaturationAdjustmentYellow: 0
- ShadowTint: 0
- Shadows: 30
- SharpenDetail: 25
- SharpenEdgeMasking: 0
- SharpenRadius: +1.0
- Sharpness: 25
- SplitToningBalance: 0
- SplitToningHighlightHue: 0
- SplitToningHighlightSaturation: 0
- SplitToningShadowHue: 0
- SplitToningShadowSaturation: 0
- Tint: +4
- ToneCurve: 0, 0, 32, 22, 64, 56, 128, 128, 192, 196, 255, 255
- ToneCurveName: Medium Contrast
- Version: 6.4
- Vibrance: 0
- VignetteAmount: 0
- WhiteBalance: As Shot
- XMP-xmp
- CreateDate: 2016:06:29 13:02:02.82
- ModifyDate: 2016:07:03 21:52:10+03:00
- Просмотров: 130
- Рейтинг: голосов еще нет
- Отзывов: 0