Уважаемые друзья и участники проекта iXBT.photo! К сожалению, 1 марта 2026 года проект iXBT.photo прекратит свою работу и будет закрыт. Мы высоко ценим ваше участие и тот вклад, который вы внесли в развитие нашего сообщества. Пожалуйста, не забудьте сохранить ваши фотографии до этой даты.
С уважением, команда iXBT.com
| _MG_7818.jpg |
_MG_7818.jpg
- Раздел: Природа
- Дата съёмки: 31.05.2014 18:11
- Дата загрузки фото: 11.01.2017 17:52
- Оригинальная фотография: 1612 x 1920 (2,4 Мб)
- Технические характеристики:
- Фотоаппарат: Canon EOS 60D
- Выдержка: 1/60
- Гиперфокальное расстояние: inf m
- Диафрагма: 9,0
- Светочувствительность: 100
- Фокусное расстояние: 60,0 mm (35 mm equivalent: 180,0 mm)
- Экспокоррекция: +2/3
- Полный EXIF
- Adobe
- ColorTransform: YCbCr
- Composite
- Aperture: 9,0
- CircleOfConfusion: 0,008 mm
- FOV: 11,0 deg
- FocalLength35efl: 60,0 mm (35 mm equivalent: 180,0 mm)
- HyperfocalDistance: inf m
- LensID: Canon EF 35-80mm f/4-5.6 or Tamron Lens
- ScaleFactor35efl: 3,9
- ShutterSpeed: 1/60
- ExifIFD
- ApertureValue: 9,0
- ColorSpace: sRGB
- CreateDate: 2014:05:31 18:11:32
- CustomRendered: Normal
- DateTimeOriginal: 2014:05:31 18:11:32
- ExifImageHeight: 1920
- ExifImageWidth: 1612
- ExposureCompensation: +2/3
- ExposureMode: Auto
- ExposureProgram: Aperture-priority AE
- ExposureTime: 1/60
- FNumber: 9,0
- Flash: On, Fired
- FocalLength: 60,0 mm
- ISO: 100
- LensInfo: 60mm f/?
- LensModel: 60mm
- LensSerialNumber: 0000000000
- MaxApertureValue: 2,0
- MeteringMode: Center-weighted average
- OwnerName: Andrew Finogenov
- RecommendedExposureIndex: 100
- SceneCaptureType: Standard
- SensitivityType: Recommended Exposure Index
- SerialNumber: 2671404683
- ShutterSpeedValue: 1/60
- WhiteBalance: Auto
- ICC-header
- ICC-meas
- ICC-view
- IFD0
- Artist: Andrew Finogenov
- BitsPerSample: 8 8 8
- Copyright: Finogenov Andrew Pavlovich
- ImageHeight: 1920
- ImageWidth: 1612
- Make: Canon
- Model: Canon EOS 60D
- ModifyDate: 2016:04:26 00:21:42
- Orientation: Horizontal (normal)
- PhotometricInterpretation: RGB
- SamplesPerPixel: 3
- IFD1
- IPTC
- By-line: Andrew Finogenov
- CopyrightNotice: Finogenov Andrew Pavlovich
- DateCreated: 2014:05:31
- System
- XMP-aux
- ApproximateFocusDistance: 0,27
- Firmware: 1.1.1
- FlashCompensation: 1
- ImageNumber: 0
- Lens: 60mm
- LensID: 37
- XMP-crs
- AlreadyApplied: True
- AutoLateralCA: 0
- AutoWhiteVersion: 134348800
- Blacks2012: -22
- BlueHue: +19
- BlueSaturation: +14
- CameraProfile: Canon EOS 60D DngPE 1
- Clarity2012: +30
- ColorNoiseReduction: 25
- ColorNoiseReductionDetail: 50
- ColorNoiseReductionSmoothness: 50
- ColorTemperature: 4951
- Contrast2012: 0
- ConvertToGrayscale: False
- CropAngle: 0
- CropBottom: 0.889057
- CropConstrainToWarp: 0
- CropLeft: 0.322677
- CropRight: 0.711289
- CropTop: 0.194904
- DefringeGreenAmount: 0
- DefringeGreenHueHi: 60
- DefringeGreenHueLo: 40
- DefringePurpleAmount: 0
- DefringePurpleHueHi: 70
- DefringePurpleHueLo: 30
- Exposure2012: +0.41
- GrainAmount: 0
- GreenHue: +26
- GreenSaturation: +14
- HasCrop: True
- HasSettings: True
- Highlights2012: -87
- HueAdjustmentAqua: 0
- HueAdjustmentBlue: 0
- HueAdjustmentGreen: 0
- HueAdjustmentMagenta: 0
- HueAdjustmentOrange: 0
- HueAdjustmentPurple: 0
- HueAdjustmentRed: 0
- HueAdjustmentYellow: 0
- LensManualDistortionAmount: 0
- LensProfileChromaticAberrationScale: 100
- LensProfileDistortionScale: 100
- LensProfileEnable: 1
- LensProfileFilename: Canon (TAMRON SP 60mm F2 DiII MACRO G005E) - RAW.lcp
- LensProfileSetup: Custom
- LensProfileVignettingScale: 100
- LuminanceAdjustmentAqua: 0
- LuminanceAdjustmentBlue: 0
- LuminanceAdjustmentGreen: -23
- LuminanceAdjustmentMagenta: 0
- LuminanceAdjustmentOrange: 0
- LuminanceAdjustmentPurple: 0
- LuminanceAdjustmentRed: 0
- LuminanceAdjustmentYellow: 0
- LuminanceSmoothing: 0
- ParametricDarks: 0
- ParametricHighlightSplit: 75
- ParametricHighlights: 0
- ParametricLights: 0
- ParametricMidtoneSplit: 50
- ParametricShadowSplit: 25
- ParametricShadows: 0
- PerspectiveAspect: 0
- PerspectiveHorizontal: 0
- PerspectiveRotate: 0.0
- PerspectiveScale: 100
- PerspectiveUpright: 0
- PerspectiveVertical: 0
- PostCropVignetteAmount: -15
- PostCropVignetteFeather: 50
- PostCropVignetteHighlightContrast: 0
- PostCropVignetteMidpoint: 50
- PostCropVignetteRoundness: 0
- PostCropVignetteStyle: 1
- ProcessVersion: 6.7
- RedHue: +10
- RedSaturation: +19
- Saturation: -14
- SaturationAdjustmentAqua: 0
- SaturationAdjustmentBlue: 0
- SaturationAdjustmentGreen: +19
- SaturationAdjustmentMagenta: 0
- SaturationAdjustmentOrange: 0
- SaturationAdjustmentPurple: 0
- SaturationAdjustmentRed: 0
- SaturationAdjustmentYellow: 0
- ShadowTint: 0
- Shadows2012: 0
- SharpenDetail: 50
- SharpenEdgeMasking: 0
- SharpenRadius: +0.7
- Sharpness: 52
- SplitToningBalance: 0
- SplitToningHighlightHue: 0
- SplitToningHighlightSaturation: 0
- SplitToningShadowHue: 0
- SplitToningShadowSaturation: 0
- Tint: +16
- ToneCurveName2012: Linear
- ToneCurvePV2012: 0, 0, 255, 255
- ToneCurvePV2012Blue: 0, 0, 255, 255
- ToneCurvePV2012Green: 0, 0, 255, 255
- ToneCurvePV2012Red: 0, 0, 255, 255
- Version: 8.3
- Vibrance: +17
- VignetteAmount: 0
- WhiteBalance: Custom
- Whites2012: -8
- XMP-dc
- Creator: Andrew Finogenov
- Format: image/jpeg
- Rights: Finogenov Andrew Pavlovich
- XMP-xmp
- CreatorTool: ACDSee Pro 6
- ModifyDate: 2016:04:26 00:21:42+04:00
- XMP-xmpMM
- Просмотров: 178
- Рейтинг: голосов еще нет
- Отзывов: 0
Получить код для блога
| Вставка фотографии в текущем разрешении |
Вставка миниатюры |
HTML (для вставки в блог):
BBCode (для вставки в форум):
Ссылка на фото:
Ссылка на миниатюру:
- Послать ссылку другу
| Комментарии к фотографии |