- Раздел: Путешествия
- Дата съёмки: неизвестно
- Дата загрузки фото: 24.02.2017 21:26
- Оригинальная фотография: 4736 x 3320 (1,1 Мб)
- Технические характеристики:
- Фотоаппарат: Canon EOS 5D Mark III
- Выдержка: 0,0
- Гиперфокальное расстояние: inf m
- Диафрагма: 2,8
- Светочувствительность: 1250
- Фокусное расстояние: 27,0 mm (35 mm equivalent: 27,0 mm)
- Полный EXIF
- Adobe
- ColorTransform: YCbCr
- Composite
- Aperture: 2,8
- CircleOfConfusion: 0,025 mm
- FOV: 67,0 deg
- FocalLength35efl: 27,0 mm (35 mm equivalent: 27,0 mm)
- HyperfocalDistance: inf m
- LensID: Canon EF 24-70mm f/2.8L II USM
- Megapixels: 15,7
- ScaleFactor35efl: 1,2
- ShutterSpeed: 0,0
- ExifIFD
- ApertureValue: 2,0
- ColorSpace: Uncalibrated
- CreateDate: 2016:09:13 13:59:57
- CustomRendered: Normal
- DateTimeOriginal: 2016:09:13 13:59:57
- ExifImageHeight: 3320
- ExifImageWidth: 4736
- ExposureCompensation: 0
- ExposureMode: Auto
- ExposureProgram: Shutter speed priority AE
- ExposureTime: 0,0
- FNumber: 2,8
- Flash: Off, Did not fire
- FocalLength: 27,0 mm
- ISO: 1250
- LensInfo: 24-70mm f/?
- LensModel: EF24-70mm f/2.8L II USM
- LensSerialNumber: 0520004734
- MaxApertureValue: 2,8
- MeteringMode: Multi-segment
- RecommendedExposureIndex: 1250
- SceneCaptureType: Standard
- SensitivityType: Recommended Exposure Index
- SerialNumber: 193020003455
- ShutterSpeedValue: 1/64
- WhiteBalance: Auto
- ICC-header
- IFD0
- Make: Canon
- Model: Canon EOS 5D Mark III
- ModifyDate: 2017:02:03 02:53:09
- Orientation: Horizontal (normal)
- IFD1
- IPTC
- DateCreated: 2016:09:13
- System
- XMP-aux
- ApproximateFocusDistance: 3,89
- DistortionCorrectionAlreadyApplied: True
- Firmware: 1.3.3
- FlashCompensation: 0
- ImageNumber: 0
- LateralChromaticAberrationCorrectionAlreadyApplied: True
- Lens: EF24-70mm f/2.8L II USM
- LensID: 495
- VignetteCorrectionAlreadyApplied: True
- XMP-crs
- AlreadyApplied: True
- AutoLateralCA: 1
- AutoWhiteVersion: 134348800
- Blacks2012: -2
- BlueHue: 0
- BlueSaturation: 0
- Clarity2012: +44
- ColorNoiseReduction: 25
- ColorNoiseReductionDetail: 50
- ColorNoiseReductionSmoothness: 50
- ColorTemperature: 2650
- Contrast2012: 0
- ConvertToGrayscale: False
- DefringeGreenAmount: 0
- DefringeGreenHueHi: 60
- DefringeGreenHueLo: 40
- DefringePurpleAmount: 0
- DefringePurpleHueHi: 70
- DefringePurpleHueLo: 30
- Dehaze: 0
- Exposure2012: 0.00
- GrainAmount: 0
- GreenHue: 0
- GreenSaturation: 0
- HasCrop: False
- HasSettings: True
- Highlights2012: -78
- HueAdjustmentAqua: 0
- HueAdjustmentBlue: 0
- HueAdjustmentGreen: 0
- HueAdjustmentMagenta: 0
- HueAdjustmentOrange: 0
- HueAdjustmentPurple: 0
- HueAdjustmentRed: 0
- HueAdjustmentYellow: 0
- LensManualDistortionAmount: 0
- LensProfileChromaticAberrationScale: 100
- LensProfileDistortionScale: 100
- LensProfileEnable: 1
- LensProfileFilename: Canon EOS 5D Mark II (Canon EF 24-70mm f2.8 L II USM) - RAW.lcp
- LensProfileSetup: LensDefaults
- LensProfileVignettingScale: 100
- LuminanceAdjustmentAqua: 0
- LuminanceAdjustmentBlue: 0
- LuminanceAdjustmentGreen: 0
- LuminanceAdjustmentMagenta: 0
- LuminanceAdjustmentOrange: 0
- LuminanceAdjustmentPurple: 0
- LuminanceAdjustmentRed: 0
- LuminanceAdjustmentYellow: 0
- LuminanceSmoothing: 0
- ParametricDarks: 0
- ParametricHighlightSplit: 75
- ParametricHighlights: 0
- ParametricLights: 0
- ParametricMidtoneSplit: 50
- ParametricShadowSplit: 25
- ParametricShadows: 0
- PerspectiveAspect: 0
- PerspectiveHorizontal: 0
- PerspectiveRotate: 0.0
- PerspectiveScale: 100
- PerspectiveUpright: 0
- PerspectiveVertical: 0
- PerspectiveX: 0.00
- PerspectiveY: 0.00
- PostCropVignetteAmount: 0
- ProcessVersion: 6.7
- RawFileName: 9L5A1264.CR2
- RedHue: 0
- RedSaturation: 0
- Saturation: 0
- SaturationAdjustmentAqua: 0
- SaturationAdjustmentBlue: 0
- SaturationAdjustmentGreen: 0
- SaturationAdjustmentMagenta: 0
- SaturationAdjustmentOrange: 0
- SaturationAdjustmentPurple: 0
- SaturationAdjustmentRed: 0
- SaturationAdjustmentYellow: 0
- ShadowTint: 0
- Shadows2012: +77
- SharpenDetail: 25
- SharpenEdgeMasking: 0
- SharpenRadius: +1.0
- Sharpness: 25
- SplitToningBalance: 0
- SplitToningHighlightHue: 0
- SplitToningHighlightSaturation: 0
- SplitToningShadowHue: 0
- SplitToningShadowSaturation: 0
- Tint: +8
- ToneCurve: 0, 0, 32, 22, 64, 56, 128, 128, 192, 196, 255, 255
- ToneCurveBlue: 0, 0, 255, 255
- ToneCurveGreen: 0, 0, 255, 255
- ToneCurveName: Medium Contrast
- ToneCurveName2012: Linear
- ToneCurvePV2012: 0, 0, 255, 255
- ToneCurvePV2012Blue: 0, 0, 255, 255
- ToneCurvePV2012Green: 0, 0, 255, 255
- ToneCurvePV2012Red: 0, 0, 255, 255
- ToneCurveRed: 0, 0, 255, 255
- ToneMapStrength: 0
- Version: 9.8
- Vibrance: 0
- VignetteAmount: 0
- WhiteBalance: Custom
- Whites2012: -8
- XMP-dc
- XMP-xmp
- Label: Утверждено
- ModifyDate: 2017:02:03 02:53:09+03:00
- Rating: 0
- XMP-xmpMM
- Просмотров: 804
- Рейтинг: голосов еще нет
- Отзывов: 0