- Раздел: Природа
- Дата съёмки: неизвестно
- Дата загрузки фото: 06.04.2017 11:23
- Оригинальная фотография: 3775 x 2123 (7,0 Мб)
- Технические характеристики:
- Фотоаппарат: Nikon 1 J1
- Выдержка: 0,0
- Светочувствительность: 100
- Полный EXIF
- Adobe
- ColorTransform: YCbCr
- Composite
- Megapixels: 8,0
- ShutterSpeed: 0,0
- ExifIFD
- Contrast: Normal
- CreateDate: 2016:08:24 08:13:02
- CustomRendered: Custom
- DateTimeOriginal: 2016:08:24 08:13:02
- DigitalZoomRatio: 1
- ExposureCompensation: 0
- ExposureMode: Manual
- ExposureProgram: Manual
- ExposureTime: 0,0
- Flash: No Flash
- GainControl: None
- ISO: 100
- LensInfo: 0mm f/0
- LensModel: 0.0 mm f/0.0
- LightSource: Unknown
- MaxApertureValue: 1,0
- MeteringMode: Center-weighted average
- Saturation: Normal
- SceneCaptureType: Standard
- SceneType: Directly photographed
- SensingMethod: One-chip color area
- SensitivityType: Recommended Exposure Index
- SerialNumber: 64014869
- Sharpness: Normal
- ShutterSpeedValue: 1/256
- SubjectDistanceRange: Unknown
- WhiteBalance: Auto
- ICC-header
- ICC-meas
- ICC-view
- IFD0
- Make: NIKON CORPORATION
- Model: NIKON 1 J1
- ModifyDate: 2016:08:24 19:28:39
- IFD1
- IPTC
- DateCreated: 2016:08:24
- System
- XMP-aux
- ImageNumber: 10792
- LateralChromaticAberrationCorrectionAlreadyApplied: True
- Lens: 0.0 mm f/0.0
- XMP-crs
- AlreadyApplied: True
- AutoLateralCA: 1
- AutoWhiteVersion: 134348800
- Blacks2012: -22
- BlueHue: 0
- BlueSaturation: 0
- CameraProfile: Camera Standard
- Clarity2012: +11
- ColorNoiseReduction: 25
- ColorNoiseReductionDetail: 50
- ColorNoiseReductionSmoothness: 50
- ColorTemperature: 4350
- Contrast2012: -11
- ConvertToGrayscale: False
- CropAngle: 0
- CropBottom: 0.834212
- CropConstrainToWarp: 0
- CropHeight: 16
- CropLeft: 0.025
- CropRight: 1
- CropTop: 0.014941
- CropUnit: Unknown (3)
- CropWidth: 9
- DefringeGreenAmount: 5
- DefringeGreenHueHi: 60
- DefringeGreenHueLo: 40
- DefringePurpleAmount: 0
- DefringePurpleHueHi: 70
- DefringePurpleHueLo: 30
- Dehaze: 0
- Exposure2012: +0.57
- GradientBasedCorrActive: true
- GradientBasedCorrAmount: 1.000000
- GradientBasedCorrBrightness: 0.000000
- GradientBasedCorrClarity: 0.000000
- GradientBasedCorrClarity2012: 0.000000
- GradientBasedCorrContrast: 0.000000
- GradientBasedCorrContrast2012: 0.000000
- GradientBasedCorrDefringe: 0.000000
- GradientBasedCorrExposure: 0.000000
- GradientBasedCorrExposure2012: -0.012500
- GradientBasedCorrHighlights2012: -0.800000
- GradientBasedCorrHue: 0.000000
- GradientBasedCorrLocalBlacks2012: 0.000000
- GradientBasedCorrLocalDehaze: 0.000000
- GradientBasedCorrLocalWhites2012: 0.000000
- GradientBasedCorrLuminanceNoise: 0.000000
- GradientBasedCorrMaskFullX: 0.521472
- GradientBasedCorrMaskFullY: 0.866203
- GradientBasedCorrMaskValue: 1.000000
- GradientBasedCorrMaskWhat: Mask/Gradient
- GradientBasedCorrMaskZeroX: 0.521472
- GradientBasedCorrMaskZeroY: 0.713179
- GradientBasedCorrMoire: 0.000000
- GradientBasedCorrSaturation: 0.000000
- GradientBasedCorrShadows2012: 0.000000
- GradientBasedCorrSharpness: 0.000000
- GradientBasedCorrTemperature: 0.000000
- GradientBasedCorrTint: 0.000000
- GradientBasedCorrWhat: Correction
- GrainAmount: 0
- GreenHue: 0
- GreenSaturation: 0
- HasCrop: True
- HasSettings: True
- Highlights2012: -13
- HueAdjustmentAqua: 0
- HueAdjustmentBlue: 0
- HueAdjustmentGreen: 0
- HueAdjustmentMagenta: 0
- HueAdjustmentOrange: 0
- HueAdjustmentPurple: 0
- HueAdjustmentRed: 0
- HueAdjustmentYellow: 0
- LensManualDistortionAmount: 0
- LensProfileEnable: 0
- LensProfileSetup: LensDefaults
- LuminanceAdjustmentAqua: 0
- LuminanceAdjustmentBlue: 0
- LuminanceAdjustmentGreen: 0
- LuminanceAdjustmentMagenta: 0
- LuminanceAdjustmentOrange: 0
- LuminanceAdjustmentPurple: 0
- LuminanceAdjustmentRed: 0
- LuminanceAdjustmentYellow: 0
- LuminanceNoiseReductionContrast: 0
- LuminanceNoiseReductionDetail: 50
- LuminanceSmoothing: 18
- ParametricDarks: -13
- ParametricHighlightSplit: 75
- ParametricHighlights: 0
- ParametricLights: 0
- ParametricMidtoneSplit: 50
- ParametricShadowSplit: 25
- ParametricShadows: +19
- PerspectiveAspect: 0
- PerspectiveHorizontal: 0
- PerspectiveRotate: 0.0
- PerspectiveScale: 100
- PerspectiveUpright: 0
- PerspectiveVertical: 0
- PostCropVignetteAmount: -7
- PostCropVignetteFeather: 61
- PostCropVignetteHighlightContrast: 0
- PostCropVignetteMidpoint: 42
- PostCropVignetteRoundness: -3
- PostCropVignetteStyle: 2
- ProcessVersion: 6.7
- RawFileName: DSC_0792.NEF
- RedHue: 0
- RedSaturation: 0
- Saturation: 0
- SaturationAdjustmentAqua: +8
- SaturationAdjustmentBlue: 0
- SaturationAdjustmentGreen: +26
- SaturationAdjustmentMagenta: 0
- SaturationAdjustmentOrange: +6
- SaturationAdjustmentPurple: 0
- SaturationAdjustmentRed: 0
- SaturationAdjustmentYellow: +12
- ShadowTint: 0
- Shadows2012: -19
- SharpenDetail: 30
- SharpenEdgeMasking: 0
- SharpenRadius: +1.3
- Sharpness: 89
- SplitToningBalance: 0
- SplitToningHighlightHue: 0
- SplitToningHighlightSaturation: 0
- SplitToningShadowHue: 0
- SplitToningShadowSaturation: 0
- Tint: +18
- ToneCurve: 0, 0, 36, 29, 96, 96, 160, 171, 217, 227, 255, 255
- ToneCurveBlue: 0, 0, 64, 70, 128, 123, 192, 188, 255, 255
- ToneCurveGreen: 0, 0, 64, 58, 128, 130, 192, 194, 255, 255
- ToneCurveName: Custom
- ToneCurveName2012: Custom
- ToneCurvePV2012: 0, 0, 36, 29, 96, 96, 160, 171, 217, 227, 255, 255
- ToneCurvePV2012Blue: 0, 0, 64, 70, 128, 123, 192, 188, 255, 255
- ToneCurvePV2012Green: 0, 0, 64, 58, 128, 130, 192, 194, 255, 255
- ToneCurvePV2012Red: 0, 0, 64, 61, 128, 133, 192, 199, 255, 255
- ToneCurveRed: 0, 0, 64, 61, 128, 133, 192, 199, 255, 255
- ToneMapStrength: 0
- Version: 9.3
- Vibrance: +8
- VignetteAmount: 0
- WhiteBalance: Custom
- Whites2012: +24
- XMP-dc
- XMP-xmp
- CreateDate: 2016:08:24 08:13:02.00
- ModifyDate: 2016:08:24 19:28:39Z
- XMP-xmpMM
- Просмотров: 138
- Рейтинг: голосов еще нет
- Отзывов: 0