- Ðàçäåë: Îòäûõ, ðàçâëå÷åíèÿ
- Äàòà ñú¸ìêè: íåèçâåñòíî
- Äàòà çàãðóçêè ôîòî: 11.04.2017 02:21
- Îðèãèíàëüíàÿ ôîòîãðàôèÿ: 3024 x 3876 (8,8 Ìá)
- Òåõíè÷åñêèå õàðàêòåðèñòèêè:
- Ôîòîàïïàðàò: Apple iPhone 6s Plus
- Âûäåðæêà: 0,0
- Ãèïåðôîêàëüíîå ðàññòîÿíèå: inf m
- Äèàôðàãìà: 2,2
- Ñâåòî÷óâñòâèòåëüíîñòü: 25
- Ôîêóñíîå ðàññòîÿíèå: 4,0 mm (35 mm equivalent: 28,0 mm)
- Ïîëíûé EXIF
- Adobe
- ColorTransform: YCbCr
- Composite
- Aperture: 2,2
- CircleOfConfusion: 0,004 mm
- FOV: 65,0 deg
- FocalLength35efl: 4,0 mm (35 mm equivalent: 28,0 mm)
- GPSLatitude: 48 deg 8' 27,00" N
- GPSLongitude: 39 deg 55' 33,00" E
- GPSPosition: 48 deg 8' 27,00" N, 39 deg 55' 33,00" E
- HyperfocalDistance: inf m
- Megapixels: 11,7
- ScaleFactor35efl: 7,2
- ShutterSpeed: 0,0
- ExifIFD
- ApertureValue: 2,0
- BrightnessValue: 12,31850789
- ColorSpace: sRGB
- CreateDate: 2016:11:19 12:44:13
- DateTimeOriginal: 2016:11:19 12:44:13
- DigitalZoomRatio: 1
- ExifImageHeight: 3876
- ExifImageWidth: 3024
- ExposureCompensation: 0
- ExposureMode: Auto
- ExposureProgram: Program AE
- ExposureTime: 0,0
- FNumber: 2,2
- Flash: Off, Did not fire
- FocalLength: 4,0 mm
- FocalLengthIn35mmFormat: 29 mm
- ISO: 25
- LensInfo: 4.15mm f/2.2
- LensMake: Apple
- LensModel: iPhone 6s Plus back camera 4.15mm f/2.2
- MeteringMode: Spot
- SceneType: Directly photographed
- SensingMethod: One-chip color area
- ShutterSpeedValue: 1/4096
- SubjectArea: 2726 1191 753 756
- WhiteBalance: Auto
- GPS
- GPSLatitude: 48 deg 8' 27,00"
- GPSLatitudeRef: North
- GPSLongitude: 39 deg 55' 33,00"
- GPSLongitudeRef: East
- ICC-header
- ICC-meas
- ICC-view
- IFD0
- Make: Apple
- Model: iPhone 6s Plus
- ModifyDate: 2016:11:23 00:00:38
- Orientation: Horizontal (normal)
- IFD1
- IPTC
- DateCreated: 2016:11:19
- System
- XMP-aux
- Lens: iPhone 6s Plus back camera 4.15mm f/2.2
- VignetteCorrectionAlreadyApplied: True
- XMP-crs
- AlreadyApplied: True
- AutoLateralCA: 0
- AutoWhiteVersion: 134348800
- Blacks2012: -5
- BlueHue: 0
- BlueSaturation: 0
- CameraProfile: Camera Default
- Clarity2012: +8
- ColorNoiseReduction: 8
- ColorNoiseReductionDetail: 50
- ColorNoiseReductionSmoothness: 50
- ColorTemperature: 5650
- Contrast2012: 0
- ConvertToGrayscale: False
- DefringeGreenAmount: 0
- DefringeGreenHueHi: 60
- DefringeGreenHueLo: 40
- DefringePurpleAmount: 0
- DefringePurpleHueHi: 70
- DefringePurpleHueLo: 30
- Dehaze: 0
- Exposure2012: +0.35
- GrainAmount: 0
- GreenHue: 0
- GreenSaturation: 0
- HasCrop: False
- HasSettings: True
- Highlights2012: -48
- HueAdjustmentAqua: 0
- HueAdjustmentBlue: 0
- HueAdjustmentGreen: 0
- HueAdjustmentMagenta: 0
- HueAdjustmentOrange: +8
- HueAdjustmentPurple: 0
- HueAdjustmentRed: 0
- HueAdjustmentYellow: 0
- LensManualDistortionAmount: 0
- LensProfileEnable: 0
- LensProfileSetup: LensDefaults
- LuminanceAdjustmentAqua: 0
- LuminanceAdjustmentBlue: 0
- LuminanceAdjustmentGreen: 0
- LuminanceAdjustmentMagenta: 0
- LuminanceAdjustmentOrange: 0
- LuminanceAdjustmentPurple: 0
- LuminanceAdjustmentRed: 0
- LuminanceAdjustmentYellow: 0
- LuminanceSmoothing: 0
- ParametricDarks: 0
- ParametricHighlightSplit: 75
- ParametricHighlights: 0
- ParametricLights: 0
- ParametricMidtoneSplit: 50
- ParametricShadowSplit: 25
- ParametricShadows: 0
- PerspectiveAspect: 0
- PerspectiveHorizontal: 0
- PerspectiveRotate: 0.0
- PerspectiveScale: 100
- PerspectiveUpright: 0
- PerspectiveVertical: 0
- PerspectiveX: 0.00
- PerspectiveY: 0.00
- PostCropVignetteAmount: 0
- ProcessVersion: 6.7
- RawFileName: IMG_3089.dng
- RedHue: +2
- RedSaturation: 0
- Saturation: 0
- SaturationAdjustmentAqua: 0
- SaturationAdjustmentBlue: 0
- SaturationAdjustmentGreen: 0
- SaturationAdjustmentMagenta: 0
- SaturationAdjustmentOrange: 0
- SaturationAdjustmentPurple: 0
- SaturationAdjustmentRed: 0
- SaturationAdjustmentYellow: 0
- ShadowTint: 0
- Shadows2012: +43
- SharpenDetail: 25
- SharpenEdgeMasking: 0
- SharpenRadius: +1.4
- Sharpness: 8
- SplitToningBalance: 0
- SplitToningHighlightHue: 0
- SplitToningHighlightSaturation: 0
- SplitToningShadowHue: 0
- SplitToningShadowSaturation: 0
- Tint: +8
- ToneCurve: 0, 0, 32, 22, 64, 56, 128, 128, 192, 196, 255, 255
- ToneCurveBlue: 0, 0, 255, 255
- ToneCurveGreen: 0, 0, 255, 255
- ToneCurveName: Medium Contrast
- ToneCurveName2012: Medium Contrast
- ToneCurvePV2012: 0, 0, 32, 22, 64, 56, 128, 128, 192, 196, 255, 255
- ToneCurvePV2012Blue: 0, 0, 255, 255
- ToneCurvePV2012Green: 0, 0, 255, 255
- ToneCurvePV2012Red: 0, 0, 255, 255
- ToneCurveRed: 0, 0, 255, 255
- ToneMapStrength: 0
- Version: 9.7
- Vibrance: 0
- VignetteAmount: 0
- WhiteBalance: Custom
- Whites2012: +15
- XMP-dc
- XMP-exifEX
- PhotographicSensitivity: 25
- XMP-xmp
- CreatorTool: ProCam 8.7
- ModifyDate: 2016:11:23 00:00:38+03:00
- Rating: 0
- XMP-xmpMM
- Ïðîñìîòðîâ: 167
- Ðåéòèíã: ãîëîñîâ åùå íåò
- Îòçûâîâ: 0