Уважаемые друзья и участники проекта iXBT.photo! К сожалению, 1 марта 2026 года проект iXBT.photo прекратит свою работу и будет закрыт. Мы высоко ценим ваше участие и тот вклад, который вы внесли в развитие нашего сообщества. Пожалуйста, не забудьте сохранить ваши фотографии до этой даты.
С уважением, команда iXBT.com
| Стрекозёл |
Стрекозёл
- Раздел: Другое, разное
- Дата съёмки: неизвестно
- Дата загрузки фото: 27.06.2017 16:57
- Оригинальная фотография: 3000 x 2000 (8,3 Мб)
- Технические характеристики:
- Фотоаппарат: Canon EOS 60D
- Выдержка: 1/400
- Гиперфокальное расстояние: inf m
- Диафрагма: 5,6
- Светочувствительность: 100
- Фокусное расстояние: 135,0 mm (35 mm equivalent: 135,0 mm)
- Полный EXIF
- Composite
- Aperture: 5,6
- CircleOfConfusion: 0,019 mm
- FOV: 15,0 deg
- Flash: Off, Did not fire
- FocalLength35efl: 135,0 mm (35 mm equivalent: 135,0 mm)
- HyperfocalDistance: inf m
- LensID: Canon EF-S 18-135mm f/3.5-5.6 IS
- Megapixels: 6,0
- ScaleFactor35efl: 1,6
- ShutterSpeed: 1/400
- ICC-header
- PNG
- BitDepth: 8
- BlueX: 0,15516
- BlueY: 0,06642
- ColorType: RGB
- Filter: Adaptive
- GreenX: 0,30949
- GreenY: 0,62397
- ImageHeight: 2000
- ImageWidth: 3000
- Interlace: Noninterlaced
- RedX: 0,63764
- RedY: 0,331
- WhitePointX: 0,3134
- WhitePointY: 0,3291
- PNG-pHYs
- PixelUnits: meters
- PixelsPerUnitX: 11811
- PixelsPerUnitY: 11811
- System
- XMP-aux
- ApproximateFocusDistance: 1,12
- Firmware: 1.1.2
- FlashCompensation: 0
- ImageNumber: 0
- Lens: EF-S18-135mm f/3.5-5.6 IS
- LensID: 51
- LensInfo: 18-135mm f/?
- LensSerialNumber: 000028c551
- SerialNumber: 2331322420
- XMP-crs
- AlreadyApplied: True
- AutoLateralCA: 0
- AutoWhiteVersion: 134348800
- Blacks2012: 0
- BlueHue: 0
- BlueSaturation: 0
- Clarity2012: 0
- ColorNoiseReduction: 25
- ColorNoiseReductionDetail: 50
- ColorNoiseReductionSmoothness: 50
- ColorTemperature: 4800
- Contrast2012: +25
- ConvertToGrayscale: False
- DefringeGreenAmount: 0
- DefringeGreenHueHi: 60
- DefringeGreenHueLo: 40
- DefringePurpleAmount: 0
- DefringePurpleHueHi: 70
- DefringePurpleHueLo: 30
- Dehaze: 0
- Exposure2012: +0.60
- GrainAmount: 0
- GreenHue: 0
- GreenSaturation: 0
- HasCrop: False
- HasSettings: True
- Highlights2012: -15
- HueAdjustmentAqua: 0
- HueAdjustmentBlue: 0
- HueAdjustmentGreen: 0
- HueAdjustmentMagenta: 0
- HueAdjustmentOrange: 0
- HueAdjustmentPurple: 0
- HueAdjustmentRed: 0
- HueAdjustmentYellow: 0
- LensManualDistortionAmount: 0
- LensProfileEnable: 0
- LensProfileSetup: LensDefaults
- LuminanceAdjustmentAqua: 0
- LuminanceAdjustmentBlue: 0
- LuminanceAdjustmentGreen: 0
- LuminanceAdjustmentMagenta: 0
- LuminanceAdjustmentOrange: 0
- LuminanceAdjustmentPurple: 0
- LuminanceAdjustmentRed: 0
- LuminanceAdjustmentYellow: 0
- LuminanceSmoothing: 0
- ParametricDarks: 0
- ParametricHighlightSplit: 75
- ParametricHighlights: 0
- ParametricLights: 0
- ParametricMidtoneSplit: 50
- ParametricShadowSplit: 25
- ParametricShadows: 0
- PerspectiveAspect: 0
- PerspectiveHorizontal: 0
- PerspectiveRotate: 0.0
- PerspectiveScale: 100
- PerspectiveUpright: 0
- PerspectiveVertical: 0
- PerspectiveX: 0.00
- PerspectiveY: 0.00
- PostCropVignetteAmount: 0
- ProcessVersion: 6.7
- RawFileName: IMG_1764.CR2
- RedHue: 0
- RedSaturation: 0
- Saturation: 0
- SaturationAdjustmentAqua: 0
- SaturationAdjustmentBlue: 0
- SaturationAdjustmentGreen: 0
- SaturationAdjustmentMagenta: 0
- SaturationAdjustmentOrange: 0
- SaturationAdjustmentPurple: 0
- SaturationAdjustmentRed: 0
- SaturationAdjustmentYellow: 0
- ShadowTint: 0
- Shadows2012: 0
- SharpenDetail: 25
- SharpenEdgeMasking: 0
- SharpenRadius: +1.0
- Sharpness: 25
- SplitToningBalance: 0
- SplitToningHighlightHue: 0
- SplitToningHighlightSaturation: 0
- SplitToningShadowHue: 0
- SplitToningShadowSaturation: 0
- Tint: +7
- ToneCurve: 0, 0, 32, 22, 64, 56, 128, 128, 192, 196, 255, 255
- ToneCurveBlue: 0, 0, 255, 255
- ToneCurveGreen: 0, 0, 255, 255
- ToneCurveName: Medium Contrast
- ToneCurveName2012: Linear
- ToneCurvePV2012: 0, 0, 255, 255
- ToneCurvePV2012Blue: 0, 0, 255, 255
- ToneCurvePV2012Green: 0, 0, 255, 255
- ToneCurvePV2012Red: 0, 0, 255, 255
- ToneCurveRed: 0, 0, 255, 255
- ToneMapStrength: 0
- Version: 9.8
- Vibrance: +10
- VignetteAmount: 0
- WhiteBalance: As Shot
- Whites2012: -20
- XMP-dc
- Creator: Alexey Voloshin
- Format: image/png
- XMP-exif
- ApertureValue: 5,6
- ColorSpace: Uncalibrated
- CustomRendered: Normal
- DateTimeOriginal: 2017:06:24 11:52:01
- ExifImageHeight: 2000
- ExifImageWidth: 3000
- ExposureCompensation: 0
- ExposureMode: Auto
- ExposureProgram: Aperture-priority AE
- ExposureTime: 1/400
- FNumber: 5,6
- FlashFired: False
- FlashFunction: False
- FlashMode: Off
- FlashRedEyeMode: False
- FlashReturn: No return detection
- FocalLength: 135,0 mm
- ISO: 100
- LensInfo: 18
- MaxApertureValue: 5,7
- MeteringMode: Multi-segment
- RecommendedExposureIndex: 100
- SceneCaptureType: Standard
- SensitivityType: 2
- ShutterSpeedValue: 1/400
- WhiteBalance: Auto
- XMP-tiff
- Make: Canon
- Model: Canon EOS 60D
- Orientation: Horizontal (normal)
- XMP-xmp
- CreateDate: 2017:06:24 11:52:01
- ModifyDate: 2017:06:27 13:56:31Z
- Rating: 0
- XMP-xmpMM
- Просмотров: 209
- Рейтинг: голосов еще нет
- Отзывов: 0
Получить код для блога
| Вставка фотографии в текущем разрешении |
Вставка миниатюры |
HTML (для вставки в блог):
BBCode (для вставки в форум):
Ссылка на фото:
Ссылка на миниатюру:
- Послать ссылку другу
| Комментарии к фотографии |