- Ðàçäåë: Äðóãîå, ðàçíîå
- Äàòà ñú¸ìêè: íåèçâåñòíî
- Äàòà çàãðóçêè ôîòî: 27.10.2017 13:32
- Îðèãèíàëüíàÿ ôîòîãðàôèÿ: 1024 x 1536 (477 Êá)
- Òåõíè÷åñêèå õàðàêòåðèñòèêè:
- Ôîòîàïïàðàò: Canon EOS 5D Mark III
- Âûäåðæêà: 0,0
- Ãèïåðôîêàëüíîå ðàññòîÿíèå: inf m
- Äèàôðàãìà: 3,2
- Ñâåòî÷óâñòâèòåëüíîñòü: 2500
- Ôîêóñíîå ðàññòîÿíèå: 150,0 mm (35 mm equivalent: 150,0 mm)
- Ïîëíûé EXIF
- Composite
- Aperture: 3,2
- CircleOfConfusion: 0,030 mm
- DOF: inf (0,00 m - inf)
- FOV: 13,0 deg
- FocalLength35efl: 150,0 mm (35 mm equivalent: 150,0 mm)
- HyperfocalDistance: inf m
- LensID: Canon EF 70-200mm f/2.8L IS
- Megapixels: 1,6
- ScaleFactor35efl: 1,0
- ShutterSpeed: 0,0
- ExifIFD
- ApertureValue: 2,8
- ColorSpace: Uncalibrated
- CreateDate: 2017:04:10 11:35:38
- CustomRendered: Normal
- DateTimeOriginal: 2017:04:10 11:35:38
- ExifImageHeight: 5760
- ExifImageWidth: 3840
- ExposureCompensation: 0
- ExposureMode: Manual
- ExposureProgram: Manual
- ExposureTime: 0,0
- FNumber: 3,2
- Flash: On, Fired
- FocalLength: 150,0 mm
- ISO: 2500
- LensInfo: 70-200mm f/?
- LensModel: EF70-200mm f/2.8L IS USM
- LensSerialNumber: 0000000000
- MaxApertureValue: 2,8
- MeteringMode: Multi-segment
- RecommendedExposureIndex: 2500
- SceneCaptureType: Standard
- SensitivityType: Recommended Exposure Index
- SerialNumber: 273021002059
- ShutterSpeedValue: 1/128
- SubjectDistance: 5,47 m
- WhiteBalance: Auto
- ICC-header
- IFD0
- BitsPerSample: 8 8 8
- ImageHeight: 5760
- ImageWidth: 3840
- Make: Canon
- Model: Canon EOS 5D Mark III
- ModifyDate: 2017:04:10 18:46:44
- Orientation: Horizontal (normal)
- PhotometricInterpretation: RGB
- SamplesPerPixel: 3
- IFD1
- IPTC
- DateCreated: 2017:04:10
- System
- XMP-aux
- ApproximateFocusDistance: 5,47
- Firmware: 1.2.3
- FlashCompensation: 0
- ImageNumber: 0
- Lens: EF70-200mm f/2.8L IS USM
- LensID: 224
- XMP-crs
- AlreadyApplied: True
- AutoLateralCA: 0
- Blacks2012: 0
- BlueHue: 0
- BlueSaturation: 0
- Brightness: +50
- Clarity: +28
- Clarity2012: 0
- ColorNoiseReduction: 25
- ColorNoiseReductionDetail: 50
- ColorTemperature: 4400
- Contrast: +47
- Contrast2012: 0
- ConvertToGrayscale: False
- Defringe: 0
- Exposure: 0.00
- Exposure2012: 0.00
- FillLight: 20
- GrainAmount: 0
- GreenHue: 0
- GreenSaturation: 0
- HasCrop: False
- HasSettings: True
- HighlightRecovery: 0
- Highlights2012: 0
- HueAdjustmentAqua: 0
- HueAdjustmentBlue: 0
- HueAdjustmentGreen: 0
- HueAdjustmentMagenta: 0
- HueAdjustmentOrange: 0
- HueAdjustmentPurple: 0
- HueAdjustmentRed: 0
- HueAdjustmentYellow: 0
- LensManualDistortionAmount: 0
- LensProfileEnable: 0
- LensProfileSetup: LensDefaults
- LuminanceAdjustmentAqua: 0
- LuminanceAdjustmentBlue: 0
- LuminanceAdjustmentGreen: 0
- LuminanceAdjustmentMagenta: 0
- LuminanceAdjustmentOrange: 0
- LuminanceAdjustmentPurple: 0
- LuminanceAdjustmentRed: 0
- LuminanceAdjustmentYellow: 0
- LuminanceSmoothing: 0
- ParametricDarks: 0
- ParametricHighlightSplit: 75
- ParametricHighlights: 0
- ParametricLights: 0
- ParametricMidtoneSplit: 50
- ParametricShadowSplit: 25
- ParametricShadows: 0
- PerspectiveHorizontal: 0
- PerspectiveRotate: 0.0
- PerspectiveScale: 100
- PerspectiveVertical: 0
- PostCropVignetteAmount: 0
- ProcessVersion: 5.7
- RawFileName: 5P9A4681.CR2
- RedHue: 0
- RedSaturation: 0
- Saturation: 0
- SaturationAdjustmentAqua: 0
- SaturationAdjustmentBlue: 0
- SaturationAdjustmentGreen: 0
- SaturationAdjustmentMagenta: 0
- SaturationAdjustmentOrange: 0
- SaturationAdjustmentPurple: 0
- SaturationAdjustmentRed: 0
- SaturationAdjustmentYellow: 0
- ShadowTint: 0
- Shadows: 5
- Shadows2012: 0
- SharpenDetail: 25
- SharpenEdgeMasking: 0
- SharpenRadius: +1.0
- Sharpness: 25
- SplitToningBalance: 0
- SplitToningHighlightHue: 0
- SplitToningHighlightSaturation: 0
- SplitToningShadowHue: 0
- SplitToningShadowSaturation: 0
- Tint: 0
- ToneCurve: 0, 0, 32, 22, 64, 56, 128, 128, 192, 196, 255, 255
- ToneCurveBlue: 0, 0, 255, 255
- ToneCurveGreen: 0, 0, 255, 255
- ToneCurveName: Medium Contrast
- ToneCurveName2012: Linear
- ToneCurvePV2012: 0, 0, 255, 255
- ToneCurvePV2012Blue: 0, 0, 255, 255
- ToneCurvePV2012Green: 0, 0, 255, 255
- ToneCurvePV2012Red: 0, 0, 255, 255
- ToneCurveRed: 0, 0, 255, 255
- Version: 6.7
- Vibrance: 0
- VignetteAmount: 0
- WhiteBalance: Custom
- Whites2012: 0
- XMP-dc
- XMP-xmp
- Label: Select
- ModifyDate: 2017:04:10 18:46:44+08:00
- XMP-xmpMM
- Ïðîñìîòðîâ: 45
- Ðåéòèíã: ãîëîñîâ åùå íåò
- Îòçûâîâ: îòêëþ÷åíû