- Раздел: Другое, разное
- Дата съёмки: неизвестно
- Дата загрузки фото: 30.03.2018 09:23
- Оригинальная фотография: 3640 x 2728 (6,3 Мб)
- Технические характеристики:
- Фотоаппарат: HUAWEI CLT-L29
- Выдержка: 0,0
- Диафрагма: 1,8
- Светочувствительность: 50
- Фокусное расстояние: 3,0 mm
- Полный EXIF
- Adobe
- ColorTransform: YCbCr
- Composite
- Aperture: 1,8
- FocalLength35efl: 3,0 mm
- Megapixels: 9,9
- ShutterSpeed: 0,0
- ExifIFD
- ApertureValue: 1,4
- ColorSpace: sRGB
- DateTimeOriginal: 2018:03:29 11:12:19
- ExifImageHeight: 2728
- ExifImageWidth: 3640
- ExposureTime: 0,0
- FNumber: 1,8
- FocalLength: 3,0 mm
- ISO: 50
- ShutterSpeedValue: 1/1024
- ICC-header
- ICC-meas
- ICC-view
- IFD0
- Make: HUAWEI
- Model: CLT-L29
- ModifyDate: 2018:03:30 00:38:46
- Orientation: Horizontal (normal)
- IFD1
- IPTC
- DateCreated: 2018:03:29
- System
- XMP-crs
- AlreadyApplied: True
- AutoLateralCA: 0
- Blacks2012: 0
- BlueHue: 0
- BlueSaturation: 0
- CameraProfile: Embedded
- CircGradBasedCorrActive: true
- CircGradBasedCorrAmount: 1.000000
- CircGradBasedCorrBrightness: 0.000000
- CircGradBasedCorrClarity: 0.000000
- CircGradBasedCorrClarity2012: 0.000000
- CircGradBasedCorrContrast: 0.000000
- CircGradBasedCorrContrast2012: 0.000000
- CircGradBasedCorrCorrectionRangeMaskColorAmount: 0.500000
- CircGradBasedCorrCorrectionRangeMaskLumFeather: 0.500000
- CircGradBasedCorrCorrectionRangeMaskLumMax: 1.000000
- CircGradBasedCorrCorrectionRangeMaskLumMin: 0.000000
- CircGradBasedCorrCorrectionRangeMaskType: 0
- CircGradBasedCorrCorrectionRangeMaskVersion: +2
- CircGradBasedCorrDefringe: 0.000000
- CircGradBasedCorrExposure: 0.000000
- CircGradBasedCorrExposure2012: 0.250000
- CircGradBasedCorrHighlights2012: 0.000000
- CircGradBasedCorrHue: 1.000000
- CircGradBasedCorrLocalBlacks2012: 0.000000
- CircGradBasedCorrLocalDehaze: 0.000000
- CircGradBasedCorrLocalWhites2012: 0.000000
- CircGradBasedCorrLuminanceNoise: 0.000000
- CircGradBasedCorrMaskAngle: 0.000000
- CircGradBasedCorrMaskBottom: 1.077219
- CircGradBasedCorrMaskFeather: +50
- CircGradBasedCorrMaskFlipped: false
- CircGradBasedCorrMaskLeft: 0.019614
- CircGradBasedCorrMaskMidpoint: +50
- CircGradBasedCorrMaskRight: 0.977750
- CircGradBasedCorrMaskRoundness: 0
- CircGradBasedCorrMaskTop: -0.058462
- CircGradBasedCorrMaskValue: 1.000000
- CircGradBasedCorrMaskVersion: +2
- CircGradBasedCorrMaskWhat: Mask/CircularGradient
- CircGradBasedCorrMoire: 0.000000
- CircGradBasedCorrSaturation: 0.200000
- CircGradBasedCorrShadows2012: 0.000000
- CircGradBasedCorrSharpness: 0.000000
- CircGradBasedCorrTemperature: 0.000000
- CircGradBasedCorrTint: 0.000000
- CircGradBasedCorrWhat: Correction
- Clarity2012: +25
- ColorNoiseReduction: 25
- ColorNoiseReductionDetail: 50
- ColorNoiseReductionSmoothness: 50
- ColorTemperature: 5500
- Contrast2012: 0
- ConvertToGrayscale: False
- DefringeGreenAmount: 0
- DefringeGreenHueHi: 60
- DefringeGreenHueLo: 40
- DefringePurpleAmount: 0
- DefringePurpleHueHi: 70
- DefringePurpleHueLo: 30
- Dehaze: +25
- Exposure2012: 0.00
- GrainAmount: 0
- GreenHue: 0
- GreenSaturation: 0
- HasCrop: False
- HasSettings: True
- Highlights2012: -50
- HueAdjustmentAqua: 0
- HueAdjustmentBlue: 0
- HueAdjustmentGreen: 0
- HueAdjustmentMagenta: 0
- HueAdjustmentOrange: 0
- HueAdjustmentPurple: 0
- HueAdjustmentRed: 0
- HueAdjustmentYellow: 0
- LensManualDistortionAmount: 0
- LensProfileEnable: 0
- LensProfileSetup: LensDefaults
- LuminanceAdjustmentAqua: 0
- LuminanceAdjustmentBlue: 0
- LuminanceAdjustmentGreen: 0
- LuminanceAdjustmentMagenta: 0
- LuminanceAdjustmentOrange: 0
- LuminanceAdjustmentPurple: 0
- LuminanceAdjustmentRed: 0
- LuminanceAdjustmentYellow: 0
- LuminanceSmoothing: 0
- ParametricDarks: 0
- ParametricHighlightSplit: 75
- ParametricHighlights: 0
- ParametricLights: 0
- ParametricMidtoneSplit: 50
- ParametricShadowSplit: 25
- ParametricShadows: 0
- PerspectiveAspect: 0
- PerspectiveHorizontal: 0
- PerspectiveRotate: 0.0
- PerspectiveScale: 100
- PerspectiveUpright: 0
- PerspectiveVertical: 0
- PerspectiveX: 0.00
- PerspectiveY: 0.00
- PostCropVignetteAmount: 0
- ProcessVersion: 10.0
- RawFileName: huawei_p20_pro_18.dng
- RedHue: 0
- RedSaturation: 0
- Saturation: +10
- SaturationAdjustmentAqua: 0
- SaturationAdjustmentBlue: 0
- SaturationAdjustmentGreen: 0
- SaturationAdjustmentMagenta: 0
- SaturationAdjustmentOrange: 0
- SaturationAdjustmentPurple: 0
- SaturationAdjustmentRed: 0
- SaturationAdjustmentYellow: 0
- ShadowTint: 0
- Shadows2012: +50
- SharpenDetail: 0
- SharpenEdgeMasking: 0
- SharpenRadius: +1.0
- Sharpness: 150
- SplitToningBalance: 0
- SplitToningHighlightHue: 0
- SplitToningHighlightSaturation: 0
- SplitToningShadowHue: 0
- SplitToningShadowSaturation: 0
- Tint: +53
- ToneCurve: 0, 0, 32, 22, 64, 56, 128, 128, 192, 196, 255, 255
- ToneCurveBlue: 0, 0, 255, 255
- ToneCurveGreen: 0, 0, 255, 255
- ToneCurveName: Medium Contrast
- ToneCurveName2012: Linear
- ToneCurvePV2012: 0, 0, 255, 255
- ToneCurvePV2012Blue: 0, 0, 255, 255
- ToneCurvePV2012Green: 0, 0, 255, 255
- ToneCurvePV2012Red: 0, 0, 255, 255
- ToneCurveRed: 0, 0, 255, 255
- Version: 10.2.1
- Vibrance: 0
- VignetteAmount: 0
- WhiteBalance: As Shot
- Whites2012: 0
- XMP-dc
- XMP-xmp
- CreateDate: 2018:03:29 11:12:19
- CreatorTool: HUAWEI/CLT-L29/HWCLT:8.1.0/HUAWEICLT-L29/106(SP9C432):user/release-keys
- ModifyDate: 2018:03:30 00:38:46+03:00
- Rating: 0
- XMP-xmpMM
- Просмотров: 461
- Рейтинг: голосов еще нет
- Отзывов: 0