- Раздел: Другое, разное
- Дата съёмки: неизвестно
- Дата загрузки фото: 28.09.2018 09:12
- Оригинальная фотография: 2000 x 1333 (693 Кб)
- Технические характеристики:
- Фотоаппарат: Panasonic DMC-GH4
- Выдержка: 0,0
- Гиперфокальное расстояние: inf m
- Диафрагма: 13,0
- Светочувствительность: 200
- Фокусное расстояние: 60,0 mm (35 mm equivalent: 120,0 mm)
- Полный EXIF
- Adobe
- ColorTransform: YCbCr
- Composite
- Aperture: 13,0
- CircleOfConfusion: 0,015 mm
- FOV: 17,0 deg
- FocalLength35efl: 60,0 mm (35 mm equivalent: 120,0 mm)
- HyperfocalDistance: inf m
- Megapixels: 2,7
- ScaleFactor35efl: 2,0
- ShutterSpeed: 0,0
- ExifIFD
- ApertureValue: 11,3
- ColorSpace: sRGB
- Contrast: Normal
- CreateDate: 2018:07:20 14:37:37
- CustomRendered: Normal
- DateTimeOriginal: 2018:07:20 14:37:37
- DigitalZoomRatio: 0
- ExifImageHeight: 1333
- ExifImageWidth: 2000
- ExposureCompensation: 0
- ExposureMode: Manual
- ExposureProgram: Manual
- ExposureTime: 0,0
- FNumber: 13,0
- Flash: On, Fired
- FocalLength: 60,0 mm
- FocalLengthIn35mmFormat: 120 mm
- GainControl: Low gain up
- ISO: 200
- LensModel: OLYMPUS M.60mm F2.8 Macro
- LensSerialNumber: ABQA48963
- LightSource: Fine Weather
- MaxApertureValue: 2,0
- MeteringMode: Multi-segment
- Saturation: Normal
- SceneCaptureType: Standard
- SceneType: Directly photographed
- SensingMethod: One-chip color area
- Sharpness: Normal
- ShutterSpeedValue: 1/64
- WhiteBalance: Manual
- ICC-header
- ICC-meas
- ICC-view
- IFD0
- Make: Panasonic
- Model: DMC-GH4
- ModifyDate: 2018:09:28 05:09:58
- Orientation: Horizontal (normal)
- IFD1
- IPTC
- DateCreated: 2018:07:20
- System
- XMP-aux
- DistortionCorrectionAlreadyApplied: True
- LateralChromaticAberrationCorrectionAlreadyApplied: True
- Lens: OLYMPUS M.60mm F2.8 Macro
- XMP-crs
- AlreadyApplied: True
- AutoLateralCA: 0
- AutoWhiteVersion: 134348800
- Blacks2012: -29
- BlueHue: 0
- BlueSaturation: 0
- Clarity2012: 0
- ColorNoiseReduction: 25
- ColorNoiseReductionDetail: 50
- ColorNoiseReductionSmoothness: 50
- ColorTemperature: 4400
- Contrast2012: +13
- ConvertToGrayscale: False
- CropAngle: 0
- CropBottom: 0.8967
- CropConstrainToWarp: 1
- CropHeight: 3
- CropLeft: 0
- CropRight: 0.936749
- CropTop: 0.064034
- CropUnit: Unknown (3)
- CropWidth: 2
- DefringeGreenAmount: 0
- DefringeGreenHueHi: 60
- DefringeGreenHueLo: 40
- DefringePurpleAmount: 0
- DefringePurpleHueHi: 70
- DefringePurpleHueLo: 30
- Dehaze: 0
- Exposure2012: +0.55
- GrainAmount: 0
- GreenHue: 0
- GreenSaturation: 0
- HasCrop: True
- HasSettings: True
- Highlights2012: -26
- HueAdjustmentAqua: 0
- HueAdjustmentBlue: 0
- HueAdjustmentGreen: 0
- HueAdjustmentMagenta: 0
- HueAdjustmentOrange: 0
- HueAdjustmentPurple: 0
- HueAdjustmentRed: 0
- HueAdjustmentYellow: 0
- LensManualDistortionAmount: 0
- LensProfileEnable: 0
- LensProfileSetup: LensDefaults
- LuminanceAdjustmentAqua: 0
- LuminanceAdjustmentBlue: 0
- LuminanceAdjustmentGreen: 0
- LuminanceAdjustmentMagenta: 0
- LuminanceAdjustmentOrange: 0
- LuminanceAdjustmentPurple: 0
- LuminanceAdjustmentRed: 0
- LuminanceAdjustmentYellow: 0
- LuminanceSmoothing: 0
- ParametricDarks: 0
- ParametricHighlightSplit: 75
- ParametricHighlights: 0
- ParametricLights: 0
- ParametricMidtoneSplit: 50
- ParametricShadowSplit: 25
- ParametricShadows: 0
- PerspectiveAspect: 0
- PerspectiveHorizontal: 0
- PerspectiveRotate: 0.0
- PerspectiveScale: 100
- PerspectiveUpright: 0
- PerspectiveVertical: 0
- PostCropVignetteAmount: 0
- ProcessVersion: 6.7
- RawFileName: _1630324.RW2
- RedHue: 0
- RedSaturation: 0
- Saturation: 0
- SaturationAdjustmentAqua: 0
- SaturationAdjustmentBlue: 0
- SaturationAdjustmentGreen: 0
- SaturationAdjustmentMagenta: 0
- SaturationAdjustmentOrange: 0
- SaturationAdjustmentPurple: 0
- SaturationAdjustmentRed: 0
- SaturationAdjustmentYellow: 0
- ShadowTint: 0
- Shadows2012: 0
- SharpenDetail: 25
- SharpenEdgeMasking: 0
- SharpenRadius: +1.0
- Sharpness: 25
- SplitToningBalance: 0
- SplitToningHighlightHue: 0
- SplitToningHighlightSaturation: 0
- SplitToningShadowHue: 0
- SplitToningShadowSaturation: 0
- Tint: +11
- ToneCurve: 0, 0, 32, 22, 64, 56, 128, 128, 192, 196, 255, 255
- ToneCurveBlue: 0, 0, 255, 255
- ToneCurveGreen: 0, 0, 255, 255
- ToneCurveName: Medium Contrast
- ToneCurveName2012: Linear
- ToneCurvePV2012: 0, 0, 255, 255
- ToneCurvePV2012Blue: 0, 0, 255, 255
- ToneCurvePV2012Green: 0, 0, 255, 255
- ToneCurvePV2012Red: 0, 0, 255, 255
- ToneCurveRed: 0, 0, 255, 255
- ToneMapStrength: 0
- Version: 9.1.1
- Vibrance: 0
- VignetteAmount: 0
- WhiteBalance: Custom
- Whites2012: -60
- XMP-dc
- XMP-xmp
- ModifyDate: 2018:09:28 05:09:58Z
- Rating: 0
- XMP-xmpMM
- Просмотров: 295
- Рейтинг: голосов еще нет
- Отзывов: отключены